Workbook

Sheet 1. Instrukcija
A1: MODELIO PILDYMO IR NAUDOJIMO INSTRUKCIJA
A3: 1. MODELIO PASKIRTIS
A4: Modelis skirtas įvertinti, kaip planuojamas investicijų portfelis paveiks bendrovės Net Debt / EBITDA ir DSCR rodiklius bei ar bendrovė išlaikys VERT taikomas finansinio pajėgumo ribas.
A5: Lūžio analizė investicijas įtraukia kaupiamai pagal 2 lapo eiliškumą (2 lape investicijos turi būti surašomos prioriteto tvarka) ir nustato pirmą investiciją, po kurios bent vienais metais Net Debt / EBITDA viršija 5,5 arba DSCR nukrenta žemiau 1,2 (lapas - 5. 0% scenarijus).
A6: Visi finansiniai duomenys pateikiami Eur.
A8: 2. PILDYMO SEKA
A9: Žingsnis | B9: Lapas | C9: Ką atlikti | D9: Kontrolė / rezultatas
A10: 1 | B10: 2. Investicijos | C10: Įveskite visas planuojamas investicijas, terminus, nusidėvėjimo normatyvus, investicijų sumas ir finansavimo šaltinius. Pateikiama informacija apie visas planuojamas įgyvendinti investicijas, nurodant jas prioriteto tvarka. Investicijos turi būti numatytos bendrovių veiklos planuose. SVARBU: Jei investicijų įgyvendinimui nėra galimybės gauti paskolą ar kitokį finasavimą, finasanvimo šaltinis nurodomas "Bendrovės lėšos". | D10: Finansavimo kontrolė turi būti OK (OK kai H stulpelio vertė sutampa su I-N stulpelių suma, o paskolos atveju užpildyti O ir P stulpeliai).SVARBU: H stulpelyje nurodoma bendra investicijos vertė, o I-N stulpeliuose paskirtomi investicijos finansavimo šaltiniai.
A11: 2 | B11: 3. Finansinės prielaidos | C11: Šviesiai turkio įvesties langeliuose įveskite finansinę bazę. Mėlyni ir pilkai mėlyni langeliai apskaičiuojami automatiškai. Duomenys nurodomi iš "Metinis reguluojamosios veiklos ataskaitų rinkinys (vandens sektorius)" arba "Metinis reguluojamosios veiklos ataskaitų rinkinys (šilumos sektorius)", "2-asis verslo apskaitos standartas "Balansas" 1 priedo duomenis ir pagal turimus finansinės apskaitos duomenis. Pirmieji metai nurodomi pagal paskutinius turimus duomenis, sekantys metai pildomi įvertinus prognozes arba infliacijos koeficientą. | D11: Patikrinkite suvestinę ir bazinius rodiklius.
A12: 3 | B12: 4. Metinis CAPEX | C12: Pasirinkite Automatinį arba Rankinį režimą (B2 langelis). Automatiniu režimu CAPEX dalijamas lygiomis dalimis per bendrovės nurodytus Nuo–Iki metus (per kuriuos planuojama atlikti investiciją). Pasirinkus rankinį režimą, CAPEX bendrovės gali paskirstyti pamečiui priklausomai nuo planuojamų investicijų apimčių. | D12: Naudojamo paskirstymo kontrolė turi būti OK.
A13: 4 | B13: 5. 0% scenarijus | C13: Įveskite investicijų grąžos normą (užpildomas C5 langelis nurodant paskutiniame kainos skaičiavime nustatytą investicijų grąžos normą). Kitos reikšmės apskaičiuojamos automatiškai. | D13: Peržiūrėkite rodiklius ir lūžio investiciją.
A14: 5 | B14: 6. Aprašo scenarijus | C14: Pasirinkite dedamosios surinkimo laikotarpį – 1 arba 2 metus (C4 langelis). Intensyvumas nustatomas automatiškai pagal nusidėvėjimo normatyvą. | D14: Peržiūrėkite maksimalios dedamosios poveikį.
A15: 6 | B15: 7. Pasirinktinis scenarijus | C15: Įveskite dedamosios surinkimo laikotarpį ir vienodą dedamosios intensyvumą C6 langelyje. | D15: Keisdami intensyvumą stebėkite lūžio rezultatą.
A17: 3. PRIVALOMOS ĮVESTYS PAGAL LAPUS
A18: Lapas | B18: Pildomos reikšmės | C18: Svarbu
A19: 2. Investicijos | B19: Pavadinimas; veiklos plano Nr.; paskirtis; Nuo–Iki; nusidėvėjimo laikotarpis; investicijos suma; finansavimo šaltiniai; paskolos norma ir terminas. Investicijos turi būti numatytos įmonės veiklos plane. | C19: Visų finansavimo šaltinių suma turi sutapti su investicijos verte, kitu atveju Q stulpelyje rodys NEATITINKA.
A20: 3. Finansinės prielaidos | B20: Finansinės bazės reikšmės įvedamos šviesiai turkio langeliuose pagal pateiktus metus ir rodiklius. | C20: Mėlyni langeliai yra formulės; redaguoti NEGALIMA.
A21: 4. Metinis CAPEX | B21: Režimas (B2 langelis); Rankinio režimo atveju – reikia nurodyti kiekvienos investicijos metinį CAPEX. Automatinio režimo atveju (pasirinkus B2 langelyje Automatinis), duomenys perkleiami iš lapo 1.Investicijos. | C21: Rankinis paskirstymas turi sutapti su visa investicijos suma, kitu atveju P stulpelyje rodys NEATITINKA.
A22: 5. 0% scenarijus | B22: Investicijų grąžos norma (užpildomas tik C5 lengelis). | C22: Šis scenarijus netaiko papildomos investicijų dedamosios.
A23: 6. Aprašo scenarijus | B23: Dedamosios surinkimo laikotarpis (C4 langelis): 1 arba 2 metai. | C23: Intensyvumas: 30 %, kai normatyvas ≤35 m.; 40 %, kai >35 m.
A24: 7. Pasirinktinis scenarijus | B24: Dedamosios surinkimo laikotarpis ir rankinis vienodas intensyvumas (C6 langelis). | C24: Intensyvumas įvedamas procentais, nuo 0 % iki 100 %.
A26: 4. ANALIZUOJAMI SCENARIJAI
A27: Scenarijus | B27: Logika | C27: Paskolos poreikis | D27: Paskirtis
A28: 5. 0% scenarijus | B28: Papildoma dedamoji lygi 0 %. | C28: Investicijos finansuojamos įvestais šaltiniais ir paskolomis; finansavimo trūkumas didina skolos aptarnavimą. | D28: Patikrinti bendrovės pajėgumą be papildomos dedamosios.
A29: 6. Aprašo scenarijus | B29: Taikomas maksimalus 30 % / 40 % intensyvumas pagal nusidėvėjimo normatyvą. | C29: Dedamoji mažina kiekvienos investicijos paskolos poreikį. | D29: Parodyti maksimalios pagal Aprašą dedamosios poveikį.
A30: 7. Pasirinktinis scenarijus | B30: Visoms investicijoms taikomas vienodas vartotojo pasirinktas intensyvumas. | C30: Paskolos poreikis mažinamas pagal įvestą procentą. | D30: Rasti praktiškai reikalingą dedamosios intensyvumą.
A32: 5. PATEIKIAMI REZULTATAI
A33: Rezultatas | B33: Paaiškinimas | C33: Vertinimo taisyklė
A34: Net Debt / EBITDA | B34: Grynoji finansinė skola, padalyta iš scenarijaus net EBITDA. | C34: Atitinka, kai neviršija 5,5.
A35: DSCR | B35: Scenarijaus net EBITDA, padalyta iš esamo ir naujo skolos aptarnavimo. | C35: Atitinka, kai ne mažiau 1,2.
A36: Tvarumo būsena | B36: Metinė abiejų kriterijų patikra. | C36: ATITINKA tik tada, kai tenkinami abu kriterijai.
A37: Lūžio rezultatas | B37: Parodo, ar portfelyje atsiranda neatitiktis. | C37: Pirmoji NEATITINKA eilutė yra lūžio investicija.
A38: Pirmi neatitikties metai | B38: Pirmi metai, kuriais bent vienas kriterijus nebetenkinamas. | C38: Rodomi pagal kaupiamąjį portfelį.
A39: Cross-check | B39: Lygina pilno portfelio pagrindinį ir techninį skaičiavimo kelius. | C39: Galutinis rezultatas turi būti OK.
A41: 6. SVARBIOS MODELIAVIMO TAISYKLĖS
A42: • Investicijos pradedamos eksploatuoti kitų metų sausio 1 d. po „Iki“ metų.
A43: • Reguliacinės nusidėvėjimo ir investicijų grąžos pajamos didina net EBITDA nuo eksploatacijos pradžios.
A44: • Investicijų grąža skaičiuojama nuo bendrovės lėšų ir po dedamosios likusios paskolos vertės; dotacijos ir dedamoji į grąžos bazę neįtraukiamos.
A45: • Paskolos grąžinamos lygiomis pagrindinės sumos dalimis nuo kitų metų po kiekvienos išmokėtos dalies; palūkanos skaičiuojamos nuo metų pradžios likučio.
A46: • Pagalbiniai 5A, 6A ir 7A lapai skirti auditui ir formulėms; jų struktūros nekeiskite.
...

Sheet 2. Investicijos
A1: INVESTICIJŲ SĄRAŠAS – FINANSAVIMO ŠALTINIAI IR ĮVESTYS
A2: Užpildoma informacija apie planuojamas atlikti investicijas.
A4: Eil. Nr. | B4: Investicijos pavadinimas | C4: Veiklos plano Nr. | D4: Investicijos priskyrimas pagal pirminę paskirtį | E4: Nuo (metai) | F4: Iki (metai) | G4: Nusidėvėjimo laikotarpis (m.) | H4: Bendra investicijos vertė (Eur) | I4: ES dotacija (Eur) | J4: Savivaldybės subsidija (Eur) | K4: Kita valstybės parama (Eur) | L4: Kitos lėšos (Eur) | M4: Bendrovės lėšos (Eur) | N4: Paskola (Eur) | O4: Paskolos palūkanos, proc. | P4: Paskolos grąžinimo terminas, m. | Q4: Finansavimo kontrolė
A5: 1. | D5: Pasirinkti | Q5: =IF(COUNTA(H5:N5)=0,"",IF(OR(H5="",ABS(SUM(I5:N5)-H5)>0.01,AND(N5>0,OR(O5="",P5="",O5<=0,P5<=0))),"NEATITINKA","OK")) | T5: Pasirinkti
A6: 2. | D6: Pasirinkti | Q6: =IF(COUNTA(H6:N6)=0,"",IF(OR(H6="",ABS(SUM(I6:N6)-H6)>0.01,AND(N6>0,OR(O6="",P6="",O6<=0,P6<=0))),"NEATITINKA","OK")) | T6: 36.1
A7: 3. | D7: Pasirinkti | Q7: =IF(COUNTA(H7:N7)=0,"",IF(OR(H7="",ABS(SUM(I7:N7)-H7)>0.01,AND(N7>0,OR(O7="",P7="",O7<=0,P7<=0))),"NEATITINKA","OK")) | T7: 36.2 (tik teisės aktuose nustatytai plėtrai įgyvendinti)
A8: 4. | D8: Pasirinkti | Q8: =IF(COUNTA(H8:N8)=0,"",IF(OR(H8="",ABS(SUM(I8:N8)-H8)>0.01,AND(N8>0,OR(O8="",P8="",O8<=0,P8<=0))),"NEATITINKA","OK")) | T8: 36.3
A9: 5. | D9: Pasirinkti | Q9: =IF(COUNTA(H9:N9)=0,"",IF(OR(H9="",ABS(SUM(I9:N9)-H9)>0.01,AND(N9>0,OR(O9="",P9="",O9<=0,P9<=0))),"NEATITINKA","OK")) | T9: 37.1
A10: 6. | D10: Pasirinkti | Q10: =IF(COUNTA(H10:N10)=0,"",IF(OR(H10="",ABS(SUM(I10:N10)-H10)>0.01,AND(N10>0,OR(O10="",P10="",O10<=0,P10<=0))),"NEATITINKA","OK")) | T10: 37.2 (tik teisės aktuose nustatytai plėtrai įgyvendinti)
A11: 7. | D11: Pasirinkti | Q11: =IF(COUNTA(H11:N11)=0,"",IF(OR(H11="",ABS(SUM(I11:N11)-H11)>0.01,AND(N11>0,OR(O11="",P11="",O11<=0,P11<=0))),"NEATITINKA","OK")) | T11: 37.3
A12: 8. | D12: Pasirinkti | Q12: =IF(COUNTA(H12:N12)=0,"",IF(OR(H12="",ABS(SUM(I12:N12)-H12)>0.01,AND(N12>0,OR(O12="",P12="",O12<=0,P12<=0))),"NEATITINKA","OK")) | T12: Kitos investicijos
A13: 9. | D13: Pasirinkti | Q13: =IF(COUNTA(H13:N13)=0,"",IF(OR(H13="",ABS(SUM(I13:N13)-H13)>0.01,AND(N13>0,OR(O13="",P13="",O13<=0,P13<=0))),"NEATITINKA","OK"))
A14: 10. | D14: Pasirinkti | Q14: =IF(COUNTA(H14:N14)=0,"",IF(OR(H14="",ABS(SUM(I14:N14)-H14)>0.01,AND(N14>0,OR(O14="",P14="",O14<=0,P14<=0))),"NEATITINKA","OK"))
A15: 11. | D15: Pasirinkti | Q15: =IF(COUNTA(H15:N15)=0,"",IF(OR(H15="",ABS(SUM(I15:N15)-H15)>0.01,AND(N15>0,OR(O15="",P15="",O15<=0,P15<=0))),"NEATITINKA","OK"))
A16: 12. | D16: Pasirinkti | Q16: =IF(COUNTA(H16:N16)=0,"",IF(OR(H16="",ABS(SUM(I16:N16)-H16)>0.01,AND(N16>0,OR(O16="",P16="",O16<=0,P16<=0))),"NEATITINKA","OK"))
A17: 13. | D17: Pasirinkti | Q17: =IF(COUNTA(H17:N17)=0,"",IF(OR(H17="",ABS(SUM(I17:N17)-H17)>0.01,AND(N17>0,OR(O17="",P17="",O17<=0,P17<=0))),"NEATITINKA","OK"))
A18: 14. | D18: Pasirinkti | Q18: =IF(COUNTA(H18:N18)=0,"",IF(OR(H18="",ABS(SUM(I18:N18)-H18)>0.01,AND(N18>0,OR(O18="",P18="",O18<=0,P18<=0))),"NEATITINKA","OK"))
A19: 15. | D19: Pasirinkti | Q19: =IF(COUNTA(H19:N19)=0,"",IF(OR(H19="",ABS(SUM(I19:N19)-H19)>0.01,AND(N19>0,OR(O19="",P19="",O19<=0,P19<=0))),"NEATITINKA","OK"))
A20: 16. | D20: Pasirinkti | Q20: =IF(COUNTA(H20:N20)=0,"",IF(OR(H20="",ABS(SUM(I20:N20)-H20)>0.01,AND(N20>0,OR(O20="",P20="",O20<=0,P20<=0))),"NEATITINKA","OK"))
A21: 17. | D21: Pasirinkti | Q21: =IF(COUNTA(H21:N21)=0,"",IF(OR(H21="",ABS(SUM(I21:N21)-H21)>0.01,AND(N21>0,OR(O21="",P21="",O21<=0,P21<=0))),"NEATITINKA","OK"))
A22: 18. | D22: Pasirinkti | Q22: =IF(COUNTA(H22:N22)=0,"",IF(OR(H22="",ABS(SUM(I22:N22)-H22)>0.01,AND(N22>0,OR(O22="",P22="",O22<=0,P22<=0))),"NEATITINKA","OK"))
A23: 19. | D23: Pasirinkti | Q23: =IF(COUNTA(H23:N23)=0,"",IF(OR(H23="",ABS(SUM(I23:N23)-H23)>0.01,AND(N23>0,OR(O23="",P23="",O23<=0,P23<=0))),"NEATITINKA","OK"))
A24: 20. | D24: Pasirinkti | Q24: =IF(COUNTA(H24:N24)=0,"",IF(OR(H24="",ABS(SUM(I24:N24)-H24)>0.01,AND(N24>0,OR(O24="",P24="",O24<=0,P24<=0))),"NEATITINKA","OK"))
A25: IŠ VISO | C25: – | D25: – | E25: – | F25: – | G25: – | H25: =SUM(H5:H24) -> 0 | I25: =SUM(I5:I24) -> 0 | J25: =SUM(J5:J24) -> 0 | K25: =SUM(K5:K24) -> 0 | L25: =SUM(L5:L24) -> 0 | M25: =SUM(M5:M24) -> 0 | N25: =SUM(N5:N24) -> 0 | O25: – | P25: – | Q25: –

Sheet 3. Finansinės prielaidos
A1: FINANSINĖS PRIELAIDOS – BAZĖ BE NAUJO INVESTICIJŲ PORTFELIO POVEIKIO
A2: Pirmoje lentelėje įvedamos finansinės prielaidos, nevertinant planuojamų atlikti investicijų įtakos.
A4: DETALIOS FINANSINIŲ RODIKLIŲ ĮVESTYS
A5: Eil. Nr. | B5: Rodiklis | C5: 2026 | D5: 2027 | E5: 2028 | F5: 2029 | G5: 2030 | H5: 2031 | I5: 2032 | J5: 2033 | K5: 2034 | L5: 2035
A6: 1. | B6: Pajamos iš viso (Eur) | C6: =SUM(C7:C9) -> 0 | D6: =SUM(D7:D9) -> 0 | E6: =SUM(E7:E9) -> 0 | F6: =SUM(F7:F9) -> 0 | G6: =SUM(G7:G9) -> 0 | H6: =SUM(H7:H9) -> 0 | I6: =SUM(I7:I9) -> 0 | J6: =SUM(J7:J9) -> 0 | ... L6: =SUM(L7:L9) -> 0
A7: 1.1. | B7: GVTNT / šilumos tiekimo paslaugų pardavimo pajamos (Eur)
A8: 1.2. | B8: Kitos veiklos pajamos (Eur)
A9: 1.3. | B9: Pajamos iš esamų investicijų dedamosios (Eur)
A10: 2. | B10: Net EBITDA (Eur) | C10: =C6-C13-C11-C12 -> 0 | D10: =D6-D13-D11-D12 -> 0 | E10: =E6-E13-E11-E12 -> 0 | F10: =F6-F13-F11-F12 -> 0 | G10: =G6-G13-G11-G12 -> 0 | H10: =H6-H13-H11-H12 -> 0 | I10: =I6-I13-I11-I12 -> 0 | J10: =J6-J13-J11-J12 -> 0 | ... L10: =L6-L13-L11-L12 -> 0
A11: 2.1. | B11: Ilgalaikio turto pardavimo pajamos (Eur)
A12: 2.2. | B12: Pajamos turtu (Eur)
A13: 2.3. | B13: Veiklos sąnaudos – OPEX (Eur)
A15: 3. | B15: Finansinė skola metų pabaigoje (Eur) | C15: =SUM(C16:C17) -> 0 | D15: =SUM(D16:D17) -> 0 | E15: =SUM(E16:E17) -> 0 | F15: =SUM(F16:F17) -> 0 | G15: =SUM(G16:G17) -> 0 | H15: =SUM(H16:H17) -> 0 | I15: =SUM(I16:I17) -> 0 | J15: =SUM(J16:J17) -> 0 | ... L15: =SUM(L16:L17) -> 0
A16: 3.1. | B16: Banko ir kitų kreditorių paskolos (Eur)
A17: 3.2. | B17: Turto nuomos / lizingo įsipareigojimai (Eur)
A18: 4. | B18: Pinigų likutis metų pabaigoje (Eur)
A19: 5. | B19: Skolos aptarnavimas iš viso (Eur) | C19: =SUM(C20:C21) -> 0 | D19: =SUM(D20:D21) -> 0 | E19: =SUM(E20:E21) -> 0 | F19: =SUM(F20:F21) -> 0 | G19: =SUM(G20:G21) -> 0 | H19: =SUM(H20:H21) -> 0 | I19: =SUM(I20:I21) -> 0 | J19: =SUM(J20:J21) -> 0 | ... L19: =SUM(L20:L21) -> 0
A20: 5.1. | B20: Paskolų pagrindinės sumos grąžinimas (Eur)
A21: 5.2. | B21: Palūkanų mokėjimai (Eur)
A25: FINANSINIŲ RODIKLIŲ SUVESTINĖ
A26: Eil. Nr. | B26: Rodiklis | C26: 2026 | D26: 2027 | E26: 2028 | F26: 2029 | G26: 2030 | H26: 2031 | I26: 2032 | J26: 2033 | K26: 2034 | L26: 2035
A27: 1. | B27: Pajamos (Eur) | C27: =C6 -> 0 | D27: =D6 -> 0 | E27: =E6 -> 0 | F27: =F6 -> 0 | G27: =G6 -> 0 | H27: =H6 -> 0 | I27: =I6 -> 0 | J27: =J6 -> 0 | ... L27: =L6 -> 0
A28: 2. | B28: OPEX (Eur) | C28: =C13 -> 0 | D28: =D13 -> 0 | E28: =E13 -> 0 | F28: =F13 -> 0 | G28: =G13 -> 0 | H28: =H13 -> 0 | I28: =I13 -> 0 | J28: =J13 -> 0 | ... L28: =L13 -> 0
A29: 3. | B29: net EBITDA (Eur) | C29: =C10 -> 0 | D29: =D10 -> 0 | E29: =E10 -> 0 | F29: =F10 -> 0 | G29: =G10 -> 0 | H29: =H10 -> 0 | I29: =I10 -> 0 | J29: =J10 -> 0 | ... L29: =L10 -> 0
A30: 4. | B30: Finansinė skola metų pabaigoje (Eur) | C30: =C15 -> 0 | D30: =D15 -> 0 | E30: =E15 -> 0 | F30: =F15 -> 0 | G30: =G15 -> 0 | H30: =H15 -> 0 | I30: =I15 -> 0 | J30: =J15 -> 0 | ... L30: =L15 -> 0
A31: 5. | B31: Pinigai metų pabaigoje (Eur) | C31: =C18 -> 0 | D31: =D18 -> 0 | E31: =E18 -> 0 | F31: =F18 -> 0 | G31: =G18 -> 0 | H31: =H18 -> 0 | I31: =I18 -> 0 | J31: =J18 -> 0 | ... L31: =L18 -> 0
A32: 6. | B32: Esamas metinis skolos aptarnavimas – palūkanos + pagrindinės sumos grąžinimas (Eur) | C32: =C19 -> 0 | D32: =D19 -> 0 | E32: =E19 -> 0 | F32: =F19 -> 0 | G32: =G19 -> 0 | H32: =H19 -> 0 | I32: =I19 -> 0 | J32: =J19 -> 0 | ... L32: =L19 -> 0
A33: 7. | B33: Net Debt (Eur) | C33: =IF(OR(C30="",C31=""),"",C30-C31) -> 0 | D33: =IF(OR(D30="",D31=""),"",D30-D31) -> 0 | E33: =IF(OR(E30="",E31=""),"",E30-E31) -> 0 | F33: =IF(OR(F30="",F31=""),"",F30-F31) -> 0 | G33: =IF(OR(G30="",G31=""),"",G30-G31) -> 0 | H33: =IF(OR(H30="",H31=""),"",H30-H31) -> 0 | I33: =IF(OR(I30="",I31=""),"",I30-I31) -> 0 | J33: =IF(OR(J30="",J31=""),"",J30-J31) -> 0 | ... L33: =IF(OR(L30="",L31=""),"",L30-L31) -> 0
A34: 8. | B34: Net Debt / net EBITDA | C34: =IF(OR(C33="",C29="",C29<=0),"",C33/C29) | D34: =IF(OR(D33="",D29="",D29<=0),"",D33/D29) | E34: =IF(OR(E33="",E29="",E29<=0),"",E33/E29) | F34: =IF(OR(F33="",F29="",F29<=0),"",F33/F29) | G34: =IF(OR(G33="",G29="",G29<=0),"",G33/G29) | H34: =IF(OR(H33="",H29="",H29<=0),"",H33/H29) | I34: =IF(OR(I33="",I29="",I29<=0),"",I33/I29) | J34: =IF(OR(J33="",J29="",J29<=0),"",J33/J29) | ... L34: =IF(OR(L33="",L29="",L29<=0),"",L33/L29)
A35: 9. | B35: DSCR | C35: =IF(OR(C29="",C32="",C32=0),"",C29/C32) | D35: =IF(OR(D29="",D32="",D32=0),"",D29/D32) | E35: =IF(OR(E29="",E32="",E32=0),"",E29/E32) | F35: =IF(OR(F29="",F32="",F32=0),"",F29/F32) | G35: =IF(OR(G29="",G32="",G32=0),"",G29/G32) | H35: =IF(OR(H29="",H32="",H32=0),"",H29/H32) | I35: =IF(OR(I29="",I32="",I32=0),"",I29/I32) | J35: =IF(OR(J29="",J32="",J32=0),"",J29/J32) | ... L35: =IF(OR(L29="",L32="",L32=0),"",L29/L32)
A36: 10. | B36: Tvarumo būsena | C36: =IF(COUNTA(C7:C9,C11:C13,C16:C18,C20:C21)=0,"",IF(C29<=0,"NEATITINKA",IF(AND(C34<>"",C34<=5.5,OR(C32=0,AND(C35<>"",C35>=1.2))),"ATITINKA","NEATITINKA"))) | D36: =IF(COUNTA(D7:D9,D11:D13,D16:D18,D20:D21)=0,"",IF(D29<=0,"NEATITINKA",IF(AND(D34<>"",D34<=5.5,OR(D32=0,AND(D35<>"",D35>=1.2))),"ATITINKA","NEATITINKA"))) | E36: =IF(COUNTA(E7:E9,E11:E13,E16:E18,E20:E21)=0,"",IF(E29<=0,"NEATITINKA",IF(AND(E34<>"",E34<=5.5,OR(E32=0,AND(E35<>"",E35>=1.2))),"ATITINKA","NEATITINKA"))) | F36: =IF(COUNTA(F7:F9,F11:F13,F16:F18,F20:F21)=0,"",IF(F29<=0,"NEATITINKA",IF(AND(F34<>"",F34<=5.5,OR(F32=0,AND(F35<>"",F35>=1.2))),"ATITINKA","NEATITINKA"))) | G36: =IF(COUNTA(G7:G9,G11:G13,G16:G18,G20:G21)=0,"",IF(G29<=0,"NEATITINKA",IF(AND(G34<>"",G34<=5.5,OR(G32=0,AND(G35<>"",G35>=1.2))),"ATITINKA","NEATITINKA"))) | H36: =IF(COUNTA(H7:H9,H11:H13,H16:H18,H20:H21)=0,"",IF(H29<=0,"NEATITINKA",IF(AND(H34<>"",H34<=5.5,OR(H32=0,AND(H35<>"",H35>=1.2))),"ATITINKA","NEATITINKA"))) | I36: =IF(COUNTA(I7:I9,I11:I13,I16:I18,I20:I21)=0,"",IF(I29<=0,"NEATITINKA",IF(AND(I34<>"",I34<=5.5,OR(I32=0,AND(I35<>"",I35>=1.2))),"ATITINKA","NEATITINKA"))) | J36: =IF(COUNTA(J7:J9,J11:J13,J16:J18,J20:J21)=0,"",IF(J29<=0,"NEATITINKA",IF(AND(J34<>"",J34<=5.5,OR(J32=0,AND(J35<>"",J35>=1.2))),"ATITINKA","NEATITINKA"))) | ... L36: =IF(COUNTA(L7:L9,L11:L13,L16:L18,L20:L21)=0,"",IF(L29<=0,"NEATITINKA",IF(AND(L34<>"",L34<=5.5,OR(L32=0,AND(L35<>"",L35>=1.2))),"ATITINKA","NEATITINKA")))

Sheet 4. Metinis CAPEX
A1: METINIS CAPEX – INVESTICIJŲ CAPEX PASKIRSTYMAS
A2: Režimas | B2: Automatinis | C2: Automatinis: investicijos suma paskirstoma lygiomis dalimis per Nuo–Iki metus. Rankinis: metinį CAPEX įveskite žemiau; pagrindinėje lentelėje naudojamas pasirinktas paskirstymas.
E4: Rodiklis | F4: ='3. Finansinės prielaidos'!C26 -> 2026 | G4: ='3. Finansinės prielaidos'!D26 -> 2027 | H4: ='3. Finansinės prielaidos'!E26 -> 2028 | I4: ='3. Finansinės prielaidos'!F26 -> 2029 | J4: ='3. Finansinės prielaidos'!G26 -> 2030 | K4: ='3. Finansinės prielaidos'!H26 -> 2031 | L4: ='3. Finansinės prielaidos'!I26 -> 2032 | M4: ='3. Finansinės prielaidos'!J26 -> 2033 | ... O4: ='3. Finansinės prielaidos'!L26 -> 2035
E5: BENDRAS METINIS CAPEX (Eur) | F5: =F29 -> 0 | G5: =G29 -> 0 | H5: =H29 -> 0 | I5: =I29 -> 0 | J5: =J29 -> 0 | K5: =K29 -> 0 | L5: =L29 -> 0 | M5: =M29 -> 0 | ... O5: =O29 -> 0
A7: CAPEX PAGAL INVESTICIJAS – NAUDOJAMAS PASKIRSTYMAS
A8: Eil. Nr. | B8: Investicija | C8: Nuo | D8: Iki | E8: Investicijos suma (Eur) | F8: ='3. Finansinės prielaidos'!C26 -> 2026 | G8: ='3. Finansinės prielaidos'!D26 -> 2027 | H8: ='3. Finansinės prielaidos'!E26 -> 2028 | I8: ='3. Finansinės prielaidos'!F26 -> 2029 | J8: ='3. Finansinės prielaidos'!G26 -> 2030 | K8: ='3. Finansinės prielaidos'!H26 -> 2031 | L8: ='3. Finansinės prielaidos'!I26 -> 2032 | M8: ='3. Finansinės prielaidos'!J26 -> 2033 | ... O8: ='3. Finansinės prielaidos'!L26 -> 2035 | P8: Kontrolė
A9: =IF('2. Investicijos'!A5="","",'2. Investicijos'!A5) -> 1. | B9: =IF('2. Investicijos'!B5="","",'2. Investicijos'!B5) | C9: =IF('2. Investicijos'!E5="","",'2. Investicijos'!E5) | D9: =IF('2. Investicijos'!F5="","",'2. Investicijos'!F5) | E9: =IF('2. Investicijos'!H5="","",'2. Investicijos'!H5) | F9: =IF($B9="","",IF($B$2="Automatinis",IF(OR($C9="",$D9="",$E9="",$D9<$C9,F$8<$C9,F$8>$D9),"",$E9/($D9-$C9+1)),IF(F33="",0,F33))) | G9: =IF($B9="","",IF($B$2="Automatinis",IF(OR($C9="",$D9="",$E9="",$D9<$C9,G$8<$C9,G$8>$D9),"",$E9/($D9-$C9+1)),IF(G33="",0,G33))) | H9: =IF($B9="","",IF($B$2="Automatinis",IF(OR($C9="",$D9="",$E9="",$D9<$C9,H$8<$C9,H$8>$D9),"",$E9/($D9-$C9+1)),IF(H33="",0,H33))) | I9: =IF($B9="","",IF($B$2="Automatinis",IF(OR($C9="",$D9="",$E9="",$D9<$C9,I$8<$C9,I$8>$D9),"",$E9/($D9-$C9+1)),IF(I33="",0,I33))) | J9: =IF($B9="","",IF($B$2="Automatinis",IF(OR($C9="",$D9="",$E9="",$D9<$C9,J$8<$C9,J$8>$D9),"",$E9/($D9-$C9+1)),IF(J33="",0,J33))) | K9: =IF($B9="","",IF($B$2="Automatinis",IF(OR($C9="",$D9="",$E9="",$D9<$C9,K$8<$C9,K$8>$D9),"",$E9/($D9-$C9+1)),IF(K33="",0,K33))) | L9: =IF($B9="","",IF($B$2="Automatinis",IF(OR($C9="",$D9="",$E9="",$D9<$C9,L$8<$C9,L$8>$D9),"",$E9/($D9-$C9+1)),IF(L33="",0,L33))) | M9: =IF($B9="","",IF($B$2="Automatinis",IF(OR($C9="",$D9="",$E9="",$D9<$C9,M$8<$C9,M$8>$D9),"",$E9/($D9-$C9+1)),IF(M33="",0,M33))) | ... O9: =IF($B9="","",IF($B$2="Automatinis",IF(OR($C9="",$D9="",$E9="",$D9<$C9,O$8<$C9,O$8>$D9),"",$E9/($D9-$C9+1)),IF(O33="",0,O33))) | P9: =IF($B9="","",IF(OR($C9="",$D9="",$E9=""),"NEATITINKA",IF(ROUND(SUM($F9:$O9),6)=ROUND($E9,6),"OK","NEATITINKA")))
A10: =IF('2. Investicijos'!A6="","",'2. Investicijos'!A6) -> 2. | B10: =IF('2. Investicijos'!B6="","",'2. Investicijos'!B6) | C10: =IF('2. Investicijos'!E6="","",'2. Investicijos'!E6) | D10: =IF('2. Investicijos'!F6="","",'2. Investicijos'!F6) | E10: =IF('2. Investicijos'!H6="","",'2. Investicijos'!H6) | F10: =IF($B10="","",IF($B$2="Automatinis",IF(OR($C10="",$D10="",$E10="",$D10<$C10,F$8<$C10,F$8>$D10),"",$E10/($D10-$C10+1)),IF(F34="",0,F34))) | G10: =IF($B10="","",IF($B$2="Automatinis",IF(OR($C10="",$D10="",$E10="",$D10<$C10,G$8<$C10,G$8>$D10),"",$E10/($D10-$C10+1)),IF(G34="",0,G34))) | H10: =IF($B10="","",IF($B$2="Automatinis",IF(OR($C10="",$D10="",$E10="",$D10<$C10,H$8<$C10,H$8>$D10),"",$E10/($D10-$C10+1)),IF(H34="",0,H34))) | I10: =IF($B10="","",IF($B$2="Automatinis",IF(OR($C10="",$D10="",$E10="",$D10<$C10,I$8<$C10,I$8>$D10),"",$E10/($D10-$C10+1)),IF(I34="",0,I34))) | J10: =IF($B10="","",IF($B$2="Automatinis",IF(OR($C10="",$D10="",$E10="",$D10<$C10,J$8<$C10,J$8>$D10),"",$E10/($D10-$C10+1)),IF(J34="",0,J34))) | K10: =IF($B10="","",IF($B$2="Automatinis",IF(OR($C10="",$D10="",$E10="",$D10<$C10,K$8<$C10,K$8>$D10),"",$E10/($D10-$C10+1)),IF(K34="",0,K34))) | L10: =IF($B10="","",IF($B$2="Automatinis",IF(OR($C10="",$D10="",$E10="",$D10<$C10,L$8<$C10,L$8>$D10),"",$E10/($D10-$C10+1)),IF(L34="",0,L34))) | M10: =IF($B10="","",IF($B$2="Automatinis",IF(OR($C10="",$D10="",$E10="",$D10<$C10,M$8<$C10,M$8>$D10),"",$E10/($D10-$C10+1)),IF(M34="",0,M34))) | ... O10: =IF($B10="","",IF($B$2="Automatinis",IF(OR($C10="",$D10="",$E10="",$D10<$C10,O$8<$C10,O$8>$D10),"",$E10/($D10-$C10+1)),IF(O34="",0,O34))) | P10: =IF($B10="","",IF(OR($C10="",$D10="",$E10=""),"NEATITINKA",IF(ROUND(SUM($F10:$O10),6)=ROUND($E10,6),"OK","NEATITINKA")))
A11: =IF('2. Investicijos'!A7="","",'2. Investicijos'!A7) -> 3. | B11: =IF('2. Investicijos'!B7="","",'2. Investicijos'!B7) | C11: =IF('2. Investicijos'!E7="","",'2. Investicijos'!E7) | D11: =IF('2. Investicijos'!F7="","",'2. Investicijos'!F7) | E11: =IF('2. Investicijos'!H7="","",'2. Investicijos'!H7) | F11: =IF($B11="","",IF($B$2="Automatinis",IF(OR($C11="",$D11="",$E11="",$D11<$C11,F$8<$C11,F$8>$D11),"",$E11/($D11-$C11+1)),IF(F35="",0,F35))) | G11: =IF($B11="","",IF($B$2="Automatinis",IF(OR($C11="",$D11="",$E11="",$D11<$C11,G$8<$C11,G$8>$D11),"",$E11/($D11-$C11+1)),IF(G35="",0,G35))) | H11: =IF($B11="","",IF($B$2="Automatinis",IF(OR($C11="",$D11="",$E11="",$D11<$C11,H$8<$C11,H$8>$D11),"",$E11/($D11-$C11+1)),IF(H35="",0,H35))) | I11: =IF($B11="","",IF($B$2="Automatinis",IF(OR($C11="",$D11="",$E11="",$D11<$C11,I$8<$C11,I$8>$D11),"",$E11/($D11-$C11+1)),IF(I35="",0,I35))) | J11: =IF($B11="","",IF($B$2="Automatinis",IF(OR($C11="",$D11="",$E11="",$D11<$C11,J$8<$C11,J$8>$D11),"",$E11/($D11-$C11+1)),IF(J35="",0,J35))) | K11: =IF($B11="","",IF($B$2="Automatinis",IF(OR($C11="",$D11="",$E11="",$D11<$C11,K$8<$C11,K$8>$D11),"",$E11/($D11-$C11+1)),IF(K35="",0,K35))) | L11: =IF($B11="","",IF($B$2="Automatinis",IF(OR($C11="",$D11="",$E11="",$D11<$C11,L$8<$C11,L$8>$D11),"",$E11/($D11-$C11+1)),IF(L35="",0,L35))) | M11: =IF($B11="","",IF($B$2="Automatinis",IF(OR($C11="",$D11="",$E11="",$D11<$C11,M$8<$C11,M$8>$D11),"",$E11/($D11-$C11+1)),IF(M35="",0,M35))) | ... O11: =IF($B11="","",IF($B$2="Automatinis",IF(OR($C11="",$D11="",$E11="",$D11<$C11,O$8<$C11,O$8>$D11),"",$E11/($D11-$C11+1)),IF(O35="",0,O35))) | P11: =IF($B11="","",IF(OR($C11="",$D11="",$E11=""),"NEATITINKA",IF(ROUND(SUM($F11:$O11),6)=ROUND($E11,6),"OK","NEATITINKA")))
A12: =IF('2. Investicijos'!A8="","",'2. Investicijos'!A8) -> 4. | B12: =IF('2. Investicijos'!B8="","",'2. Investicijos'!B8) | C12: =IF('2. Investicijos'!E8="","",'2. Investicijos'!E8) | D12: =IF('2. Investicijos'!F8="","",'2. Investicijos'!F8) | E12: =IF('2. Investicijos'!H8="","",'2. Investicijos'!H8) | F12: =IF($B12="","",IF($B$2="Automatinis",IF(OR($C12="",$D12="",$E12="",$D12<$C12,F$8<$C12,F$8>$D12),"",$E12/($D12-$C12+1)),IF(F36="",0,F36))) | G12: =IF($B12="","",IF($B$2="Automatinis",IF(OR($C12="",$D12="",$E12="",$D12<$C12,G$8<$C12,G$8>$D12),"",$E12/($D12-$C12+1)),IF(G36="",0,G36))) | H12: =IF($B12="","",IF($B$2="Automatinis",IF(OR($C12="",$D12="",$E12="",$D12<$C12,H$8<$C12,H$8>$D12),"",$E12/($D12-$C12+1)),IF(H36="",0,H36))) | I12: =IF($B12="","",IF($B$2="Automatinis",IF(OR($C12="",$D12="",$E12="",$D12<$C12,I$8<$C12,I$8>$D12),"",$E12/($D12-$C12+1)),IF(I36="",0,I36))) | J12: =IF($B12="","",IF($B$2="Automatinis",IF(OR($C12="",$D12="",$E12="",$D12<$C12,J$8<$C12,J$8>$D12),"",$E12/($D12-$C12+1)),IF(J36="",0,J36))) | K12: =IF($B12="","",IF($B$2="Automatinis",IF(OR($C12="",$D12="",$E12="",$D12<$C12,K$8<$C12,K$8>$D12),"",$E12/($D12-$C12+1)),IF(K36="",0,K36))) | L12: =IF($B12="","",IF($B$2="Automatinis",IF(OR($C12="",$D12="",$E12="",$D12<$C12,L$8<$C12,L$8>$D12),"",$E12/($D12-$C12+1)),IF(L36="",0,L36))) | M12: =IF($B12="","",IF($B$2="Automatinis",IF(OR($C12="",$D12="",$E12="",$D12<$C12,M$8<$C12,M$8>$D12),"",$E12/($D12-$C12+1)),IF(M36="",0,M36))) | ... O12: =IF($B12="","",IF($B$2="Automatinis",IF(OR($C12="",$D12="",$E12="",$D12<$C12,O$8<$C12,O$8>$D12),"",$E12/($D12-$C12+1)),IF(O36="",0,O36))) | P12: =IF($B12="","",IF(OR($C12="",$D12="",$E12=""),"NEATITINKA",IF(ROUND(SUM($F12:$O12),6)=ROUND($E12,6),"OK","NEATITINKA")))
A13: =IF('2. Investicijos'!A9="","",'2. Investicijos'!A9) -> 5. | B13: =IF('2. Investicijos'!B9="","",'2. Investicijos'!B9) | C13: =IF('2. Investicijos'!E9="","",'2. Investicijos'!E9) | D13: =IF('2. Investicijos'!F9="","",'2. Investicijos'!F9) | E13: =IF('2. Investicijos'!H9="","",'2. Investicijos'!H9) | F13: =IF($B13="","",IF($B$2="Automatinis",IF(OR($C13="",$D13="",$E13="",$D13<$C13,F$8<$C13,F$8>$D13),"",$E13/($D13-$C13+1)),IF(F37="",0,F37))) | G13: =IF($B13="","",IF($B$2="Automatinis",IF(OR($C13="",$D13="",$E13="",$D13<$C13,G$8<$C13,G$8>$D13),"",$E13/($D13-$C13+1)),IF(G37="",0,G37))) | H13: =IF($B13="","",IF($B$2="Automatinis",IF(OR($C13="",$D13="",$E13="",$D13<$C13,H$8<$C13,H$8>$D13),"",$E13/($D13-$C13+1)),IF(H37="",0,H37))) | I13: =IF($B13="","",IF($B$2="Automatinis",IF(OR($C13="",$D13="",$E13="",$D13<$C13,I$8<$C13,I$8>$D13),"",$E13/($D13-$C13+1)),IF(I37="",0,I37))) | J13: =IF($B13="","",IF($B$2="Automatinis",IF(OR($C13="",$D13="",$E13="",$D13<$C13,J$8<$C13,J$8>$D13),"",$E13/($D13-$C13+1)),IF(J37="",0,J37))) | K13: =IF($B13="","",IF($B$2="Automatinis",IF(OR($C13="",$D13="",$E13="",$D13<$C13,K$8<$C13,K$8>$D13),"",$E13/($D13-$C13+1)),IF(K37="",0,K37))) | L13: =IF($B13="","",IF($B$2="Automatinis",IF(OR($C13="",$D13="",$E13="",$D13<$C13,L$8<$C13,L$8>$D13),"",$E13/($D13-$C13+1)),IF(L37="",0,L37))) | M13: =IF($B13="","",IF($B$2="Automatinis",IF(OR($C13="",$D13="",$E13="",$D13<$C13,M$8<$C13,M$8>$D13),"",$E13/($D13-$C13+1)),IF(M37="",0,M37))) | ... O13: =IF($B13="","",IF($B$2="Automatinis",IF(OR($C13="",$D13="",$E13="",$D13<$C13,O$8<$C13,O$8>$D13),"",$E13/($D13-$C13+1)),IF(O37="",0,O37))) | P13: =IF($B13="","",IF(OR($C13="",$D13="",$E13=""),"NEATITINKA",IF(ROUND(SUM($F13:$O13),6)=ROUND($E13,6),"OK","NEATITINKA")))
A14: =IF('2. Investicijos'!A10="","",'2. Investicijos'!A10) -> 6. | B14: =IF('2. Investicijos'!B10="","",'2. Investicijos'!B10) | C14: =IF('2. Investicijos'!E10="","",'2. Investicijos'!E10) | D14: =IF('2. Investicijos'!F10="","",'2. Investicijos'!F10) | E14: =IF('2. Investicijos'!H10="","",'2. Investicijos'!H10) | F14: =IF($B14="","",IF($B$2="Automatinis",IF(OR($C14="",$D14="",$E14="",$D14<$C14,F$8<$C14,F$8>$D14),"",$E14/($D14-$C14+1)),IF(F38="",0,F38))) | G14: =IF($B14="","",IF($B$2="Automatinis",IF(OR($C14="",$D14="",$E14="",$D14<$C14,G$8<$C14,G$8>$D14),"",$E14/($D14-$C14+1)),IF(G38="",0,G38))) | H14: =IF($B14="","",IF($B$2="Automatinis",IF(OR($C14="",$D14="",$E14="",$D14<$C14,H$8<$C14,H$8>$D14),"",$E14/($D14-$C14+1)),IF(H38="",0,H38))) | I14: =IF($B14="","",IF($B$2="Automatinis",IF(OR($C14="",$D14="",$E14="",$D14<$C14,I$8<$C14,I$8>$D14),"",$E14/($D14-$C14+1)),IF(I38="",0,I38))) | J14: =IF($B14="","",IF($B$2="Automatinis",IF(OR($C14="",$D14="",$E14="",$D14<$C14,J$8<$C14,J$8>$D14),"",$E14/($D14-$C14+1)),IF(J38="",0,J38))) | K14: =IF($B14="","",IF($B$2="Automatinis",IF(OR($C14="",$D14="",$E14="",$D14<$C14,K$8<$C14,K$8>$D14),"",$E14/($D14-$C14+1)),IF(K38="",0,K38))) | L14: =IF($B14="","",IF($B$2="Automatinis",IF(OR($C14="",$D14="",$E14="",$D14<$C14,L$8<$C14,L$8>$D14),"",$E14/($D14-$C14+1)),IF(L38="",0,L38))) | M14: =IF($B14="","",IF($B$2="Automatinis",IF(OR($C14="",$D14="",$E14="",$D14<$C14,M$8<$C14,M$8>$D14),"",$E14/($D14-$C14+1)),IF(M38="",0,M38))) | ... O14: =IF($B14="","",IF($B$2="Automatinis",IF(OR($C14="",$D14="",$E14="",$D14<$C14,O$8<$C14,O$8>$D14),"",$E14/($D14-$C14+1)),IF(O38="",0,O38))) | P14: =IF($B14="","",IF(OR($C14="",$D14="",$E14=""),"NEATITINKA",IF(ROUND(SUM($F14:$O14),6)=ROUND($E14,6),"OK","NEATITINKA")))
A15: =IF('2. Investicijos'!A11="","",'2. Investicijos'!A11) -> 7. | B15: =IF('2. Investicijos'!B11="","",'2. Investicijos'!B11) | C15: =IF('2. Investicijos'!E11="","",'2. Investicijos'!E11) | D15: =IF('2. Investicijos'!F11="","",'2. Investicijos'!F11) | E15: =IF('2. Investicijos'!H11="","",'2. Investicijos'!H11) | F15: =IF($B15="","",IF($B$2="Automatinis",IF(OR($C15="",$D15="",$E15="",$D15<$C15,F$8<$C15,F$8>$D15),"",$E15/($D15-$C15+1)),IF(F39="",0,F39))) | G15: =IF($B15="","",IF($B$2="Automatinis",IF(OR($C15="",$D15="",$E15="",$D15<$C15,G$8<$C15,G$8>$D15),"",$E15/($D15-$C15+1)),IF(G39="",0,G39))) | H15: =IF($B15="","",IF($B$2="Automatinis",IF(OR($C15="",$D15="",$E15="",$D15<$C15,H$8<$C15,H$8>$D15),"",$E15/($D15-$C15+1)),IF(H39="",0,H39))) | I15: =IF($B15="","",IF($B$2="Automatinis",IF(OR($C15="",$D15="",$E15="",$D15<$C15,I$8<$C15,I$8>$D15),"",$E15/($D15-$C15+1)),IF(I39="",0,I39))) | J15: =IF($B15="","",IF($B$2="Automatinis",IF(OR($C15="",$D15="",$E15="",$D15<$C15,J$8<$C15,J$8>$D15),"",$E15/($D15-$C15+1)),IF(J39="",0,J39))) | K15: =IF($B15="","",IF($B$2="Automatinis",IF(OR($C15="",$D15="",$E15="",$D15<$C15,K$8<$C15,K$8>$D15),"",$E15/($D15-$C15+1)),IF(K39="",0,K39))) | L15: =IF($B15="","",IF($B$2="Automatinis",IF(OR($C15="",$D15="",$E15="",$D15<$C15,L$8<$C15,L$8>$D15),"",$E15/($D15-$C15+1)),IF(L39="",0,L39))) | M15: =IF($B15="","",IF($B$2="Automatinis",IF(OR($C15="",$D15="",$E15="",$D15<$C15,M$8<$C15,M$8>$D15),"",$E15/($D15-$C15+1)),IF(M39="",0,M39))) | ... O15: =IF($B15="","",IF($B$2="Automatinis",IF(OR($C15="",$D15="",$E15="",$D15<$C15,O$8<$C15,O$8>$D15),"",$E15/($D15-$C15+1)),IF(O39="",0,O39))) | P15: =IF($B15="","",IF(OR($C15="",$D15="",$E15=""),"NEATITINKA",IF(ROUND(SUM($F15:$O15),6)=ROUND($E15,6),"OK","NEATITINKA")))
A16: =IF('2. Investicijos'!A12="","",'2. Investicijos'!A12) -> 8. | B16: =IF('2. Investicijos'!B12="","",'2. Investicijos'!B12) | C16: =IF('2. Investicijos'!E12="","",'2. Investicijos'!E12) | D16: =IF('2. Investicijos'!F12="","",'2. Investicijos'!F12) | E16: =IF('2. Investicijos'!H12="","",'2. Investicijos'!H12) | F16: =IF($B16="","",IF($B$2="Automatinis",IF(OR($C16="",$D16="",$E16="",$D16<$C16,F$8<$C16,F$8>$D16),"",$E16/($D16-$C16+1)),IF(F40="",0,F40))) | G16: =IF($B16="","",IF($B$2="Automatinis",IF(OR($C16="",$D16="",$E16="",$D16<$C16,G$8<$C16,G$8>$D16),"",$E16/($D16-$C16+1)),IF(G40="",0,G40))) | H16: =IF($B16="","",IF($B$2="Automatinis",IF(OR($C16="",$D16="",$E16="",$D16<$C16,H$8<$C16,H$8>$D16),"",$E16/($D16-$C16+1)),IF(H40="",0,H40))) | I16: =IF($B16="","",IF($B$2="Automatinis",IF(OR($C16="",$D16="",$E16="",$D16<$C16,I$8<$C16,I$8>$D16),"",$E16/($D16-$C16+1)),IF(I40="",0,I40))) | J16: =IF($B16="","",IF($B$2="Automatinis",IF(OR($C16="",$D16="",$E16="",$D16<$C16,J$8<$C16,J$8>$D16),"",$E16/($D16-$C16+1)),IF(J40="",0,J40))) | K16: =IF($B16="","",IF($B$2="Automatinis",IF(OR($C16="",$D16="",$E16="",$D16<$C16,K$8<$C16,K$8>$D16),"",$E16/($D16-$C16+1)),IF(K40="",0,K40))) | L16: =IF($B16="","",IF($B$2="Automatinis",IF(OR($C16="",$D16="",$E16="",$D16<$C16,L$8<$C16,L$8>$D16),"",$E16/($D16-$C16+1)),IF(L40="",0,L40))) | M16: =IF($B16="","",IF($B$2="Automatinis",IF(OR($C16="",$D16="",$E16="",$D16<$C16,M$8<$C16,M$8>$D16),"",$E16/($D16-$C16+1)),IF(M40="",0,M40))) | ... O16: =IF($B16="","",IF($B$2="Automatinis",IF(OR($C16="",$D16="",$E16="",$D16<$C16,O$8<$C16,O$8>$D16),"",$E16/($D16-$C16+1)),IF(O40="",0,O40))) | P16: =IF($B16="","",IF(OR($C16="",$D16="",$E16=""),"NEATITINKA",IF(ROUND(SUM($F16:$O16),6)=ROUND($E16,6),"OK","NEATITINKA")))
A17: =IF('2. Investicijos'!A13="","",'2. Investicijos'!A13) -> 9. | B17: =IF('2. Investicijos'!B13="","",'2. Investicijos'!B13) | C17: =IF('2. Investicijos'!E13="","",'2. Investicijos'!E13) | D17: =IF('2. Investicijos'!F13="","",'2. Investicijos'!F13) | E17: =IF('2. Investicijos'!H13="","",'2. Investicijos'!H13) | F17: =IF($B17="","",IF($B$2="Automatinis",IF(OR($C17="",$D17="",$E17="",$D17<$C17,F$8<$C17,F$8>$D17),"",$E17/($D17-$C17+1)),IF(F41="",0,F41))) | G17: =IF($B17="","",IF($B$2="Automatinis",IF(OR($C17="",$D17="",$E17="",$D17<$C17,G$8<$C17,G$8>$D17),"",$E17/($D17-$C17+1)),IF(G41="",0,G41))) | H17: =IF($B17="","",IF($B$2="Automatinis",IF(OR($C17="",$D17="",$E17="",$D17<$C17,H$8<$C17,H$8>$D17),"",$E17/($D17-$C17+1)),IF(H41="",0,H41))) | I17: =IF($B17="","",IF($B$2="Automatinis",IF(OR($C17="",$D17="",$E17="",$D17<$C17,I$8<$C17,I$8>$D17),"",$E17/($D17-$C17+1)),IF(I41="",0,I41))) | J17: =IF($B17="","",IF($B$2="Automatinis",IF(OR($C17="",$D17="",$E17="",$D17<$C17,J$8<$C17,J$8>$D17),"",$E17/($D17-$C17+1)),IF(J41="",0,J41))) | K17: =IF($B17="","",IF($B$2="Automatinis",IF(OR($C17="",$D17="",$E17="",$D17<$C17,K$8<$C17,K$8>$D17),"",$E17/($D17-$C17+1)),IF(K41="",0,K41))) | L17: =IF($B17="","",IF($B$2="Automatinis",IF(OR($C17="",$D17="",$E17="",$D17<$C17,L$8<$C17,L$8>$D17),"",$E17/($D17-$C17+1)),IF(L41="",0,L41))) | M17: =IF($B17="","",IF($B$2="Automatinis",IF(OR($C17="",$D17="",$E17="",$D17<$C17,M$8<$C17,M$8>$D17),"",$E17/($D17-$C17+1)),IF(M41="",0,M41))) | ... O17: =IF($B17="","",IF($B$2="Automatinis",IF(OR($C17="",$D17="",$E17="",$D17<$C17,O$8<$C17,O$8>$D17),"",$E17/($D17-$C17+1)),IF(O41="",0,O41))) | P17: =IF($B17="","",IF(OR($C17="",$D17="",$E17=""),"NEATITINKA",IF(ROUND(SUM($F17:$O17),6)=ROUND($E17,6),"OK","NEATITINKA")))
A18: =IF('2. Investicijos'!A14="","",'2. Investicijos'!A14) -> 10. | B18: =IF('2. Investicijos'!B14="","",'2. Investicijos'!B14) | C18: =IF('2. Investicijos'!E14="","",'2. Investicijos'!E14) | D18: =IF('2. Investicijos'!F14="","",'2. Investicijos'!F14) | E18: =IF('2. Investicijos'!H14="","",'2. Investicijos'!H14) | F18: =IF($B18="","",IF($B$2="Automatinis",IF(OR($C18="",$D18="",$E18="",$D18<$C18,F$8<$C18,F$8>$D18),"",$E18/($D18-$C18+1)),IF(F42="",0,F42))) | G18: =IF($B18="","",IF($B$2="Automatinis",IF(OR($C18="",$D18="",$E18="",$D18<$C18,G$8<$C18,G$8>$D18),"",$E18/($D18-$C18+1)),IF(G42="",0,G42))) | H18: =IF($B18="","",IF($B$2="Automatinis",IF(OR($C18="",$D18="",$E18="",$D18<$C18,H$8<$C18,H$8>$D18),"",$E18/($D18-$C18+1)),IF(H42="",0,H42))) | I18: =IF($B18="","",IF($B$2="Automatinis",IF(OR($C18="",$D18="",$E18="",$D18<$C18,I$8<$C18,I$8>$D18),"",$E18/($D18-$C18+1)),IF(I42="",0,I42))) | J18: =IF($B18="","",IF($B$2="Automatinis",IF(OR($C18="",$D18="",$E18="",$D18<$C18,J$8<$C18,J$8>$D18),"",$E18/($D18-$C18+1)),IF(J42="",0,J42))) | K18: =IF($B18="","",IF($B$2="Automatinis",IF(OR($C18="",$D18="",$E18="",$D18<$C18,K$8<$C18,K$8>$D18),"",$E18/($D18-$C18+1)),IF(K42="",0,K42))) | L18: =IF($B18="","",IF($B$2="Automatinis",IF(OR($C18="",$D18="",$E18="",$D18<$C18,L$8<$C18,L$8>$D18),"",$E18/($D18-$C18+1)),IF(L42="",0,L42))) | M18: =IF($B18="","",IF($B$2="Automatinis",IF(OR($C18="",$D18="",$E18="",$D18<$C18,M$8<$C18,M$8>$D18),"",$E18/($D18-$C18+1)),IF(M42="",0,M42))) | ... O18: =IF($B18="","",IF($B$2="Automatinis",IF(OR($C18="",$D18="",$E18="",$D18<$C18,O$8<$C18,O$8>$D18),"",$E18/($D18-$C18+1)),IF(O42="",0,O42))) | P18: =IF($B18="","",IF(OR($C18="",$D18="",$E18=""),"NEATITINKA",IF(ROUND(SUM($F18:$O18),6)=ROUND($E18,6),"OK","NEATITINKA")))
A19: =IF('2. Investicijos'!A15="","",'2. Investicijos'!A15) -> 11. | B19: =IF('2. Investicijos'!B15="","",'2. Investicijos'!B15) | C19: =IF('2. Investicijos'!E15="","",'2. Investicijos'!E15) | D19: =IF('2. Investicijos'!F15="","",'2. Investicijos'!F15) | E19: =IF('2. Investicijos'!H15="","",'2. Investicijos'!H15) | F19: =IF($B19="","",IF($B$2="Automatinis",IF(OR($C19="",$D19="",$E19="",$D19<$C19,F$8<$C19,F$8>$D19),"",$E19/($D19-$C19+1)),IF(F43="",0,F43))) | G19: =IF($B19="","",IF($B$2="Automatinis",IF(OR($C19="",$D19="",$E19="",$D19<$C19,G$8<$C19,G$8>$D19),"",$E19/($D19-$C19+1)),IF(G43="",0,G43))) | H19: =IF($B19="","",IF($B$2="Automatinis",IF(OR($C19="",$D19="",$E19="",$D19<$C19,H$8<$C19,H$8>$D19),"",$E19/($D19-$C19+1)),IF(H43="",0,H43))) | I19: =IF($B19="","",IF($B$2="Automatinis",IF(OR($C19="",$D19="",$E19="",$D19<$C19,I$8<$C19,I$8>$D19),"",$E19/($D19-$C19+1)),IF(I43="",0,I43))) | J19: =IF($B19="","",IF($B$2="Automatinis",IF(OR($C19="",$D19="",$E19="",$D19<$C19,J$8<$C19,J$8>$D19),"",$E19/($D19-$C19+1)),IF(J43="",0,J43))) | K19: =IF($B19="","",IF($B$2="Automatinis",IF(OR($C19="",$D19="",$E19="",$D19<$C19,K$8<$C19,K$8>$D19),"",$E19/($D19-$C19+1)),IF(K43="",0,K43))) | L19: =IF($B19="","",IF($B$2="Automatinis",IF(OR($C19="",$D19="",$E19="",$D19<$C19,L$8<$C19,L$8>$D19),"",$E19/($D19-$C19+1)),IF(L43="",0,L43))) | M19: =IF($B19="","",IF($B$2="Automatinis",IF(OR($C19="",$D19="",$E19="",$D19<$C19,M$8<$C19,M$8>$D19),"",$E19/($D19-$C19+1)),IF(M43="",0,M43))) | ... O19: =IF($B19="","",IF($B$2="Automatinis",IF(OR($C19="",$D19="",$E19="",$D19<$C19,O$8<$C19,O$8>$D19),"",$E19/($D19-$C19+1)),IF(O43="",0,O43))) | P19: =IF($B19="","",IF(OR($C19="",$D19="",$E19=""),"NEATITINKA",IF(ROUND(SUM($F19:$O19),6)=ROUND($E19,6),"OK","NEATITINKA")))
A20: =IF('2. Investicijos'!A16="","",'2. Investicijos'!A16) -> 12. | B20: =IF('2. Investicijos'!B16="","",'2. Investicijos'!B16) | C20: =IF('2. Investicijos'!E16="","",'2. Investicijos'!E16) | D20: =IF('2. Investicijos'!F16="","",'2. Investicijos'!F16) | E20: =IF('2. Investicijos'!H16="","",'2. Investicijos'!H16) | F20: =IF($B20="","",IF($B$2="Automatinis",IF(OR($C20="",$D20="",$E20="",$D20<$C20,F$8<$C20,F$8>$D20),"",$E20/($D20-$C20+1)),IF(F44="",0,F44))) | G20: =IF($B20="","",IF($B$2="Automatinis",IF(OR($C20="",$D20="",$E20="",$D20<$C20,G$8<$C20,G$8>$D20),"",$E20/($D20-$C20+1)),IF(G44="",0,G44))) | H20: =IF($B20="","",IF($B$2="Automatinis",IF(OR($C20="",$D20="",$E20="",$D20<$C20,H$8<$C20,H$8>$D20),"",$E20/($D20-$C20+1)),IF(H44="",0,H44))) | I20: =IF($B20="","",IF($B$2="Automatinis",IF(OR($C20="",$D20="",$E20="",$D20<$C20,I$8<$C20,I$8>$D20),"",$E20/($D20-$C20+1)),IF(I44="",0,I44))) | J20: =IF($B20="","",IF($B$2="Automatinis",IF(OR($C20="",$D20="",$E20="",$D20<$C20,J$8<$C20,J$8>$D20),"",$E20/($D20-$C20+1)),IF(J44="",0,J44))) | K20: =IF($B20="","",IF($B$2="Automatinis",IF(OR($C20="",$D20="",$E20="",$D20<$C20,K$8<$C20,K$8>$D20),"",$E20/($D20-$C20+1)),IF(K44="",0,K44))) | L20: =IF($B20="","",IF($B$2="Automatinis",IF(OR($C20="",$D20="",$E20="",$D20<$C20,L$8<$C20,L$8>$D20),"",$E20/($D20-$C20+1)),IF(L44="",0,L44))) | M20: =IF($B20="","",IF($B$2="Automatinis",IF(OR($C20="",$D20="",$E20="",$D20<$C20,M$8<$C20,M$8>$D20),"",$E20/($D20-$C20+1)),IF(M44="",0,M44))) | ... O20: =IF($B20="","",IF($B$2="Automatinis",IF(OR($C20="",$D20="",$E20="",$D20<$C20,O$8<$C20,O$8>$D20),"",$E20/($D20-$C20+1)),IF(O44="",0,O44))) | P20: =IF($B20="","",IF(OR($C20="",$D20="",$E20=""),"NEATITINKA",IF(ROUND(SUM($F20:$O20),6)=ROUND($E20,6),"OK","NEATITINKA")))
... A28: =IF('2. Investicijos'!A24="","",'2. Investicijos'!A24) -> 20. | B28: =IF('2. Investicijos'!B24="","",'2. Investicijos'!B24) | C28: =IF('2. Investicijos'!E24="","",'2. Investicijos'!E24) | D28: =IF('2. Investicijos'!F24="","",'2. Investicijos'!F24) | E28: =IF('2. Investicijos'!H24="","",'2. Investicijos'!H24) | F28: =IF($B28="","",IF($B$2="Automatinis",IF(OR($C28="",$D28="",$E28="",$D28<$C28,F$8<$C28,F$8>$D28),"",$E28/($D28-$C28+1)),IF(F52="",0,F52))) | G28: =IF($B28="","",IF($B$2="Automatinis",IF(OR($C28="",$D28="",$E28="",$D28<$C28,G$8<$C28,G$8>$D28),"",$E28/($D28-$C28+1)),IF(G52="",0,G52))) | H28: =IF($B28="","",IF($B$2="Automatinis",IF(OR($C28="",$D28="",$E28="",$D28<$C28,H$8<$C28,H$8>$D28),"",$E28/($D28-$C28+1)),IF(H52="",0,H52))) | I28: =IF($B28="","",IF($B$2="Automatinis",IF(OR($C28="",$D28="",$E28="",$D28<$C28,I$8<$C28,I$8>$D28),"",$E28/($D28-$C28+1)),IF(I52="",0,I52))) | J28: =IF($B28="","",IF($B$2="Automatinis",IF(OR($C28="",$D28="",$E28="",$D28<$C28,J$8<$C28,J$8>$D28),"",$E28/($D28-$C28+1)),IF(J52="",0,J52))) | K28: =IF($B28="","",IF($B$2="Automatinis",IF(OR($C28="",$D28="",$E28="",$D28<$C28,K$8<$C28,K$8>$D28),"",$E28/($D28-$C28+1)),IF(K52="",0,K52))) | L28: =IF($B28="","",IF($B$2="Automatinis",IF(OR($C28="",$D28="",$E28="",$D28<$C28,L$8<$C28,L$8>$D28),"",$E28/($D28-$C28+1)),IF(L52="",0,L52))) | M28: =IF($B28="","",IF($B$2="Automatinis",IF(OR($C28="",$D28="",$E28="",$D28<$C28,M$8<$C28,M$8>$D28),"",$E28/($D28-$C28+1)),IF(M52="",0,M52))) | ... O28: =IF($B28="","",IF($B$2="Automatinis",IF(OR($C28="",$D28="",$E28="",$D28<$C28,O$8<$C28,O$8>$D28),"",$E28/($D28-$C28+1)),IF(O52="",0,O52))) | P28: =IF($B28="","",IF(OR($C28="",$D28="",$E28=""),"NEATITINKA",IF(ROUND(SUM($F28:$O28),6)=ROUND($E28,6),"OK","NEATITINKA")))
A29: BENDRA | E29: =SUM(E9:E28) -> 0 | F29: =SUM(F9:F28) -> 0 | G29: =SUM(G9:G28) -> 0 | H29: =SUM(H9:H28) -> 0 | I29: =SUM(I9:I28) -> 0 | J29: =SUM(J9:J28) -> 0 | K29: =SUM(K9:K28) -> 0 | L29: =SUM(L9:L28) -> 0 | ... O29: =SUM(O9:O28) -> 0 | P29: =IF(COUNTBLANK($B$9:$B$28)=ROWS($B$9:$B$28),"",IF(ROUND($E29,6)=ROUND(SUM($F29:$O29),6),"OK","NEATITINKA"))
A31: RANKINIS CAPEX ĮVEDIMAS – NAUDOJAMAS TIK PASIRINKUS „RANKINIS“
A32: Eil. Nr. | B32: Investicija | C32: Nuo | D32: Iki | E32: Investicijos suma (Eur) | F32: ='3. Finansinės prielaidos'!C26 -> 2026 | G32: ='3. Finansinės prielaidos'!D26 -> 2027 | H32: ='3. Finansinės prielaidos'!E26 -> 2028 | I32: ='3. Finansinės prielaidos'!F26 -> 2029 | J32: ='3. Finansinės prielaidos'!G26 -> 2030 | K32: ='3. Finansinės prielaidos'!H26 -> 2031 | L32: ='3. Finansinės prielaidos'!I26 -> 2032 | M32: ='3. Finansinės prielaidos'!J26 -> 2033 | ... O32: ='3. Finansinės prielaidos'!L26 -> 2035 | P32: Kontrolė
A33: =IF('2. Investicijos'!A5="","",'2. Investicijos'!A5) -> 1. | B33: =IF('2. Investicijos'!B5="","",'2. Investicijos'!B5) | C33: =IF('2. Investicijos'!E5="","",'2. Investicijos'!E5) | D33: =IF('2. Investicijos'!F5="","",'2. Investicijos'!F5) | E33: =IF('2. Investicijos'!H5="","",'2. Investicijos'!H5) | P33: =IF($B$2<>"Rankinis","",IF($B33="","",IF(ROUND(SUM($F33:$O33),6)=ROUND($E33,6),"OK","NEATITINKA")))
A34: =IF('2. Investicijos'!A6="","",'2. Investicijos'!A6) -> 2. | B34: =IF('2. Investicijos'!B6="","",'2. Investicijos'!B6) | C34: =IF('2. Investicijos'!E6="","",'2. Investicijos'!E6) | D34: =IF('2. Investicijos'!F6="","",'2. Investicijos'!F6) | E34: =IF('2. Investicijos'!H6="","",'2. Investicijos'!H6) | P34: =IF($B$2<>"Rankinis","",IF($B34="","",IF(ROUND(SUM($F34:$O34),6)=ROUND($E34,6),"OK","NEATITINKA")))
A35: =IF('2. Investicijos'!A7="","",'2. Investicijos'!A7) -> 3. | B35: =IF('2. Investicijos'!B7="","",'2. Investicijos'!B7) | C35: =IF('2. Investicijos'!E7="","",'2. Investicijos'!E7) | D35: =IF('2. Investicijos'!F7="","",'2. Investicijos'!F7) | E35: =IF('2. Investicijos'!H7="","",'2. Investicijos'!H7) | P35: =IF($B$2<>"Rankinis","",IF($B35="","",IF(ROUND(SUM($F35:$O35),6)=ROUND($E35,6),"OK","NEATITINKA")))
A36: =IF('2. Investicijos'!A8="","",'2. Investicijos'!A8) -> 4. | B36: =IF('2. Investicijos'!B8="","",'2. Investicijos'!B8) | C36: =IF('2. Investicijos'!E8="","",'2. Investicijos'!E8) | D36: =IF('2. Investicijos'!F8="","",'2. Investicijos'!F8) | E36: =IF('2. Investicijos'!H8="","",'2. Investicijos'!H8) | P36: =IF($B$2<>"Rankinis","",IF($B36="","",IF(ROUND(SUM($F36:$O36),6)=ROUND($E36,6),"OK","NEATITINKA")))
A37: =IF('2. Investicijos'!A9="","",'2. Investicijos'!A9) -> 5. | B37: =IF('2. Investicijos'!B9="","",'2. Investicijos'!B9) | C37: =IF('2. Investicijos'!E9="","",'2. Investicijos'!E9) | D37: =IF('2. Investicijos'!F9="","",'2. Investicijos'!F9) | E37: =IF('2. Investicijos'!H9="","",'2. Investicijos'!H9) | P37: =IF($B$2<>"Rankinis","",IF($B37="","",IF(ROUND(SUM($F37:$O37),6)=ROUND($E37,6),"OK","NEATITINKA")))
A38: =IF('2. Investicijos'!A10="","",'2. Investicijos'!A10) -> 6. | B38: =IF('2. Investicijos'!B10="","",'2. Investicijos'!B10) | C38: =IF('2. Investicijos'!E10="","",'2. Investicijos'!E10) | D38: =IF('2. Investicijos'!F10="","",'2. Investicijos'!F10) | E38: =IF('2. Investicijos'!H10="","",'2. Investicijos'!H10) | P38: =IF($B$2<>"Rankinis","",IF($B38="","",IF(ROUND(SUM($F38:$O38),6)=ROUND($E38,6),"OK","NEATITINKA")))
A39: =IF('2. Investicijos'!A11="","",'2. Investicijos'!A11) -> 7. | B39: =IF('2. Investicijos'!B11="","",'2. Investicijos'!B11) | C39: =IF('2. Investicijos'!E11="","",'2. Investicijos'!E11) | D39: =IF('2. Investicijos'!F11="","",'2. Investicijos'!F11) | E39: =IF('2. Investicijos'!H11="","",'2. Investicijos'!H11) | P39: =IF($B$2<>"Rankinis","",IF($B39="","",IF(ROUND(SUM($F39:$O39),6)=ROUND($E39,6),"OK","NEATITINKA")))
A40: =IF('2. Investicijos'!A12="","",'2. Investicijos'!A12) -> 8. | B40: =IF('2. Investicijos'!B12="","",'2. Investicijos'!B12) | C40: =IF('2. Investicijos'!E12="","",'2. Investicijos'!E12) | D40: =IF('2. Investicijos'!F12="","",'2. Investicijos'!F12) | E40: =IF('2. Investicijos'!H12="","",'2. Investicijos'!H12) | P40: =IF($B$2<>"Rankinis","",IF($B40="","",IF(ROUND(SUM($F40:$O40),6)=ROUND($E40,6),"OK","NEATITINKA")))
A41: =IF('2. Investicijos'!A13="","",'2. Investicijos'!A13) -> 9. | B41: =IF('2. Investicijos'!B13="","",'2. Investicijos'!B13) | C41: =IF('2. Investicijos'!E13="","",'2. Investicijos'!E13) | D41: =IF('2. Investicijos'!F13="","",'2. Investicijos'!F13) | E41: =IF('2. Investicijos'!H13="","",'2. Investicijos'!H13) | P41: =IF($B$2<>"Rankinis","",IF($B41="","",IF(ROUND(SUM($F41:$O41),6)=ROUND($E41,6),"OK","NEATITINKA")))
A42: =IF('2. Investicijos'!A14="","",'2. Investicijos'!A14) -> 10. | B42: =IF('2. Investicijos'!B14="","",'2. Investicijos'!B14) | C42: =IF('2. Investicijos'!E14="","",'2. Investicijos'!E14) | D42: =IF('2. Investicijos'!F14="","",'2. Investicijos'!F14) | E42: =IF('2. Investicijos'!H14="","",'2. Investicijos'!H14) | P42: =IF($B$2<>"Rankinis","",IF($B42="","",IF(ROUND(SUM($F42:$O42),6)=ROUND($E42,6),"OK","NEATITINKA")))
A43: =IF('2. Investicijos'!A15="","",'2. Investicijos'!A15) -> 11. | B43: =IF('2. Investicijos'!B15="","",'2. Investicijos'!B15) | C43: =IF('2. Investicijos'!E15="","",'2. Investicijos'!E15) | D43: =IF('2. Investicijos'!F15="","",'2. Investicijos'!F15) | E43: =IF('2. Investicijos'!H15="","",'2. Investicijos'!H15) | P43: =IF($B$2<>"Rankinis","",IF($B43="","",IF(ROUND(SUM($F43:$O43),6)=ROUND($E43,6),"OK","NEATITINKA")))
A44: =IF('2. Investicijos'!A16="","",'2. Investicijos'!A16) -> 12. | B44: =IF('2. Investicijos'!B16="","",'2. Investicijos'!B16) | C44: =IF('2. Investicijos'!E16="","",'2. Investicijos'!E16) | D44: =IF('2. Investicijos'!F16="","",'2. Investicijos'!F16) | E44: =IF('2. Investicijos'!H16="","",'2. Investicijos'!H16) | P44: =IF($B$2<>"Rankinis","",IF($B44="","",IF(ROUND(SUM($F44:$O44),6)=ROUND($E44,6),"OK","NEATITINKA")))
... A52: =IF('2. Investicijos'!A24="","",'2. Investicijos'!A24) -> 20. | B52: =IF('2. Investicijos'!B24="","",'2. Investicijos'!B24) | C52: =IF('2. Investicijos'!E24="","",'2. Investicijos'!E24) | D52: =IF('2. Investicijos'!F24="","",'2. Investicijos'!F24) | E52: =IF('2. Investicijos'!H24="","",'2. Investicijos'!H24) | P52: =IF($B$2<>"Rankinis","",IF($B52="","",IF(ROUND(SUM($F52:$O52),6)=ROUND($E52,6),"OK","NEATITINKA")))
A53: BENDRA | E53: =SUM(E33:E52) -> 0 | F53: =SUM(F33:F52) -> 0 | G53: =SUM(G33:G52) -> 0 | H53: =SUM(H33:H52) -> 0 | I53: =SUM(I33:I52) -> 0 | J53: =SUM(J33:J52) -> 0 | K53: =SUM(K33:K52) -> 0 | L53: =SUM(L33:L52) -> 0 | ... O53: =SUM(O33:O52) -> 0 | P53: =IF(COUNTBLANK($B$9:$B$28)=ROWS($B$9:$B$28),"",IF(ROUND($E53,6)=ROUND(SUM($F53:$O53),6),"OK","NEATITINKA"))

Sheet 5. 0% scenarijus
A1: 0 % SCENARIJUS – SUPLANUOTOS INVESTICIJOS FINANSUOJAMOS BE INVESTICIJŲ DEDAMOSIOS
A2: ="Tikslas: parodyti suplanuoto investicijų portfelio poveikį įmonės finansinei būklei, kai investicijų dedamoji = 0 %. Vertinimo laikotarpis: "&MIN(C7:L7)&"–"&MAX(C7:L7)&" m. Vertinami Investicijų derinimo aprašo 11³.6 papunktyje nustatyti kriterijai: Net Debt / EBITDA ≤ 5,5x ir DSCR ≥ 1,2x." -> Tikslas: parodyti suplanuoto investicijų portfelio poveikį įmonės finansinei būklei, kai investicijų dedamoji = 0 %. Vertinimo laikotarpis: 2026–2035 m. Vertinami Investicijų derinimo aprašo 11³.6 papunktyje nustatyti kriterijai: Net Debt / EBITDA ≤ 5,5x ir DSCR ≥ 1,2x.
A3: Scenarijaus prielaida | B3: Reikšmė | D3: Šaltinis / pastaba
A4: Investicijų dedamoji | C4: 0 | D4: Šiame scenarijuje papildoma investicijų dedamoji lygi 0 %.
A5: Investicijų grąžos norma (%) | C5: % | D5: Taikoma 11 eilutės investicijų ekonominio poveikio skaičiavimui.
A7: Eil. Nr. | B7: Rodiklis | C7: ='3. Finansinės prielaidos'!C26 -> 2026 | D7: ='3. Finansinės prielaidos'!D26 -> 2027 | E7: ='3. Finansinės prielaidos'!E26 -> 2028 | F7: ='3. Finansinės prielaidos'!F26 -> 2029 | G7: ='3. Finansinės prielaidos'!G26 -> 2030 | H7: ='3. Finansinės prielaidos'!H26 -> 2031 | I7: ='3. Finansinės prielaidos'!I26 -> 2032 | J7: ='3. Finansinės prielaidos'!J26 -> 2033 | ... L7: ='3. Finansinės prielaidos'!L26 -> 2035
A8: 1 | B8: Bazė: net EBITDA (Eur) | C8: =IF('3. Finansinės prielaidos'!C29="","",'3. Finansinės prielaidos'!C29) -> 0 | D8: =IF('3. Finansinės prielaidos'!D29="","",'3. Finansinės prielaidos'!D29) -> 0 | E8: =IF('3. Finansinės prielaidos'!E29="","",'3. Finansinės prielaidos'!E29) -> 0 | F8: =IF('3. Finansinės prielaidos'!F29="","",'3. Finansinės prielaidos'!F29) -> 0 | G8: =IF('3. Finansinės prielaidos'!G29="","",'3. Finansinės prielaidos'!G29) -> 0 | H8: =IF('3. Finansinės prielaidos'!H29="","",'3. Finansinės prielaidos'!H29) -> 0 | I8: =IF('3. Finansinės prielaidos'!I29="","",'3. Finansinės prielaidos'!I29) -> 0 | J8: =IF('3. Finansinės prielaidos'!J29="","",'3. Finansinės prielaidos'!J29) -> 0 | ... L8: =IF('3. Finansinės prielaidos'!L29="","",'3. Finansinės prielaidos'!L29) -> 0
A9: 2 | B9: Reguliacinių pajamų nusidėvėjimui poveikis net EBITDA (Eur) | C9: {=IF($C$5="","",SUMPRODUCT(--(C$7>'2. Investicijos'!$F$5:$F$24),--(C$7<='2. Investicijos'!$F$5:$F$24+'2. Investicijos'!$G$5:$G$24),IFERROR(('2. Investicijos'!$M$5:$M$24+'2. Investicijos'!$N$5:$N$24)/'2. Investicijos'!$G$5:$G$24,0)))} -> 0 | D9: {=IF($C$5="","",SUMPRODUCT(--(D$7>'2. Investicijos'!$F$5:$F$24),--(D$7<='2. Investicijos'!$F$5:$F$24+'2. Investicijos'!$G$5:$G$24),IFERROR(('2. Investicijos'!$M$5:$M$24+'2. Investicijos'!$N$5:$N$24)/'2. Investicijos'!$G$5:$G$24,0)))} -> 0 | E9: {=IF($C$5="","",SUMPRODUCT(--(E$7>'2. Investicijos'!$F$5:$F$24),--(E$7<='2. Investicijos'!$F$5:$F$24+'2. Investicijos'!$G$5:$G$24),IFERROR(('2. Investicijos'!$M$5:$M$24+'2. Investicijos'!$N$5:$N$24)/'2. Investicijos'!$G$5:$G$24,0)))} -> 0 | F9: {=IF($C$5="","",SUMPRODUCT(--(F$7>'2. Investicijos'!$F$5:$F$24),--(F$7<='2. Investicijos'!$F$5:$F$24+'2. Investicijos'!$G$5:$G$24),IFERROR(('2. Investicijos'!$M$5:$M$24+'2. Investicijos'!$N$5:$N$24)/'2. Investicijos'!$G$5:$G$24,0)))} -> 0 | G9: {=IF($C$5="","",SUMPRODUCT(--(G$7>'2. Investicijos'!$F$5:$F$24),--(G$7<='2. Investicijos'!$F$5:$F$24+'2. Investicijos'!$G$5:$G$24),IFERROR(('2. Investicijos'!$M$5:$M$24+'2. Investicijos'!$N$5:$N$24)/'2. Investicijos'!$G$5:$G$24,0)))} -> 0 | H9: {=IF($C$5="","",SUMPRODUCT(--(H$7>'2. Investicijos'!$F$5:$F$24),--(H$7<='2. Investicijos'!$F$5:$F$24+'2. Investicijos'!$G$5:$G$24),IFERROR(('2. Investicijos'!$M$5:$M$24+'2. Investicijos'!$N$5:$N$24)/'2. Investicijos'!$G$5:$G$24,0)))} -> 0 | I9: {=IF($C$5="","",SUMPRODUCT(--(I$7>'2. Investicijos'!$F$5:$F$24),--(I$7<='2. Investicijos'!$F$5:$F$24+'2. Investicijos'!$G$5:$G$24),IFERROR(('2. Investicijos'!$M$5:$M$24+'2. Investicijos'!$N$5:$N$24)/'2. Investicijos'!$G$5:$G$24,0)))} -> 0 | J9: {=IF($C$5="","",SUMPRODUCT(--(J$7>'2. Investicijos'!$F$5:$F$24),--(J$7<='2. Investicijos'!$F$5:$F$24+'2. Investicijos'!$G$5:$G$24),IFERROR(('2. Investicijos'!$M$5:$M$24+'2. Investicijos'!$N$5:$N$24)/'2. Investicijos'!$G$5:$G$24,0)))} -> 0 | ... L9: {=IF($C$5="","",SUMPRODUCT(--(L$7>'2. Investicijos'!$F$5:$F$24),--(L$7<='2. Investicijos'!$F$5:$F$24+'2. Investicijos'!$G$5:$G$24),IFERROR(('2. Investicijos'!$M$5:$M$24+'2. Investicijos'!$N$5:$N$24)/'2. Investicijos'!$G$5:$G$24,0)))} -> 0
A10: 3 | B10: Reguliacinių pajamų investicijų grąžai poveikis net EBITDA (Eur) | C10: {=IF($C$5="","",SUMPRODUCT(--(C$7>'2. Investicijos'!$F$5:$F$24),--(C$7<='2. Investicijos'!$F$5:$F$24+'2. Investicijos'!$G$5:$G$24),IFERROR(('2. Investicijos'!$M$5:$M$24+'2. Investicijos'!$N$5:$N$24)*(1-((C$7-'2. Investicijos'!$F$5:$F$24)-1)/'2. Investicijos'!$G$5:$G$24),0))*$C$5)} -> #VALUE! | D10: {=IF($C$5="","",SUMPRODUCT(--(D$7>'2. Investicijos'!$F$5:$F$24),--(D$7<='2. Investicijos'!$F$5:$F$24+'2. Investicijos'!$G$5:$G$24),IFERROR(('2. Investicijos'!$M$5:$M$24+'2. Investicijos'!$N$5:$N$24)*(1-((D$7-'2. Investicijos'!$F$5:$F$24)-1)/'2. Investicijos'!$G$5:$G$24),0))*$C$5)} -> #VALUE! | E10: {=IF($C$5="","",SUMPRODUCT(--(E$7>'2. Investicijos'!$F$5:$F$24),--(E$7<='2. Investicijos'!$F$5:$F$24+'2. Investicijos'!$G$5:$G$24),IFERROR(('2. Investicijos'!$M$5:$M$24+'2. Investicijos'!$N$5:$N$24)*(1-((E$7-'2. Investicijos'!$F$5:$F$24)-1)/'2. Investicijos'!$G$5:$G$24),0))*$C$5)} -> #VALUE! | F10: {=IF($C$5="","",SUMPRODUCT(--(F$7>'2. Investicijos'!$F$5:$F$24),--(F$7<='2. Investicijos'!$F$5:$F$24+'2. Investicijos'!$G$5:$G$24),IFERROR(('2. Investicijos'!$M$5:$M$24+'2. Investicijos'!$N$5:$N$24)*(1-((F$7-'2. Investicijos'!$F$5:$F$24)-1)/'2. Investicijos'!$G$5:$G$24),0))*$C$5)} -> #VALUE! | G10: {=IF($C$5="","",SUMPRODUCT(--(G$7>'2. Investicijos'!$F$5:$F$24),--(G$7<='2. Investicijos'!$F$5:$F$24+'2. Investicijos'!$G$5:$G$24),IFERROR(('2. Investicijos'!$M$5:$M$24+'2. Investicijos'!$N$5:$N$24)*(1-((G$7-'2. Investicijos'!$F$5:$F$24)-1)/'2. Investicijos'!$G$5:$G$24),0))*$C$5)} -> #VALUE! | H10: {=IF($C$5="","",SUMPRODUCT(--(H$7>'2. Investicijos'!$F$5:$F$24),--(H$7<='2. Investicijos'!$F$5:$F$24+'2. Investicijos'!$G$5:$G$24),IFERROR(('2. Investicijos'!$M$5:$M$24+'2. Investicijos'!$N$5:$N$24)*(1-((H$7-'2. Investicijos'!$F$5:$F$24)-1)/'2. Investicijos'!$G$5:$G$24),0))*$C$5)} -> #VALUE! | I10: {=IF($C$5="","",SUMPRODUCT(--(I$7>'2. Investicijos'!$F$5:$F$24),--(I$7<='2. Investicijos'!$F$5:$F$24+'2. Investicijos'!$G$5:$G$24),IFERROR(('2. Investicijos'!$M$5:$M$24+'2. Investicijos'!$N$5:$N$24)*(1-((I$7-'2. Investicijos'!$F$5:$F$24)-1)/'2. Investicijos'!$G$5:$G$24),0))*$C$5)} -> #VALUE! | J10: {=IF($C$5="","",SUMPRODUCT(--(J$7>'2. Investicijos'!$F$5:$F$24),--(J$7<='2. Investicijos'!$F$5:$F$24+'2. Investicijos'!$G$5:$G$24),IFERROR(('2. Investicijos'!$M$5:$M$24+'2. Investicijos'!$N$5:$N$24)*(1-((J$7-'2. Investicijos'!$F$5:$F$24)-1)/'2. Investicijos'!$G$5:$G$24),0))*$C$5)} -> #VALUE! | ... L10: {=IF($C$5="","",SUMPRODUCT(--(L$7>'2. Investicijos'!$F$5:$F$24),--(L$7<='2. Investicijos'!$F$5:$F$24+'2. Investicijos'!$G$5:$G$24),IFERROR(('2. Investicijos'!$M$5:$M$24+'2. Investicijos'!$N$5:$N$24)*(1-((L$7-'2. Investicijos'!$F$5:$F$24)-1)/'2. Investicijos'!$G$5:$G$24),0))*$C$5)} -> #VALUE!
A11: 4 | B11: Scenarijaus EBITDA (Eur) | C11: =IF(C8="","",C8+IFERROR(C9,0)+IFERROR(C10,0)) -> 0 | D11: =IF(D8="","",D8+IFERROR(D9,0)+IFERROR(D10,0)) -> 0 | E11: =IF(E8="","",E8+IFERROR(E9,0)+IFERROR(E10,0)) -> 0 | F11: =IF(F8="","",F8+IFERROR(F9,0)+IFERROR(F10,0)) -> 0 | G11: =IF(G8="","",G8+IFERROR(G9,0)+IFERROR(G10,0)) -> 0 | H11: =IF(H8="","",H8+IFERROR(H9,0)+IFERROR(H10,0)) -> 0 | I11: =IF(I8="","",I8+IFERROR(I9,0)+IFERROR(I10,0)) -> 0 | J11: =IF(J8="","",J8+IFERROR(J9,0)+IFERROR(J10,0)) -> 0 | ... L11: =IF(L8="","",L8+IFERROR(L9,0)+IFERROR(L10,0)) -> 0
A12: 5 | B12: Bazė: finansinė skola metų pabaigoje (Eur) | C12: =IF('3. Finansinės prielaidos'!C30="","",'3. Finansinės prielaidos'!C30) -> 0 | D12: =IF('3. Finansinės prielaidos'!D30="","",'3. Finansinės prielaidos'!D30) -> 0 | E12: =IF('3. Finansinės prielaidos'!E30="","",'3. Finansinės prielaidos'!E30) -> 0 | F12: =IF('3. Finansinės prielaidos'!F30="","",'3. Finansinės prielaidos'!F30) -> 0 | G12: =IF('3. Finansinės prielaidos'!G30="","",'3. Finansinės prielaidos'!G30) -> 0 | H12: =IF('3. Finansinės prielaidos'!H30="","",'3. Finansinės prielaidos'!H30) -> 0 | I12: =IF('3. Finansinės prielaidos'!I30="","",'3. Finansinės prielaidos'!I30) -> 0 | J12: =IF('3. Finansinės prielaidos'!J30="","",'3. Finansinės prielaidos'!J30) -> 0 | ... L12: =IF('3. Finansinės prielaidos'!L30="","",'3. Finansinės prielaidos'!L30) -> 0
A13: 6 | B13: Planuotų paskolų įplaukos (Eur) | C13: ='5A. Pagalbiniai skaičiavimai'!F25 -> 0 | D13: ='5A. Pagalbiniai skaičiavimai'!G25 -> 0 | E13: ='5A. Pagalbiniai skaičiavimai'!H25 -> 0 | F13: ='5A. Pagalbiniai skaičiavimai'!I25 -> 0 | G13: ='5A. Pagalbiniai skaičiavimai'!J25 -> 0 | H13: ='5A. Pagalbiniai skaičiavimai'!K25 -> 0 | I13: ='5A. Pagalbiniai skaičiavimai'!L25 -> 0 | J13: ='5A. Pagalbiniai skaičiavimai'!M25 -> 0 | ... L13: ='5A. Pagalbiniai skaičiavimai'!O25 -> 0
A14: 7 | B14: Planuotų paskolų pagrindinės sumos grąžinimas (Eur) | C14: ='5A. Pagalbiniai skaičiavimai'!P25 -> 0 | D14: ='5A. Pagalbiniai skaičiavimai'!Q25 -> 0 | E14: ='5A. Pagalbiniai skaičiavimai'!R25 -> 0 | F14: ='5A. Pagalbiniai skaičiavimai'!S25 -> 0 | G14: ='5A. Pagalbiniai skaičiavimai'!T25 -> 0 | H14: ='5A. Pagalbiniai skaičiavimai'!U25 -> 0 | I14: ='5A. Pagalbiniai skaičiavimai'!V25 -> 0 | J14: ='5A. Pagalbiniai skaičiavimai'!W25 -> 0 | ... L14: ='5A. Pagalbiniai skaičiavimai'!Y25 -> 0
A15: 8 | B15: Planuotų paskolų palūkanos (Eur) | C15: ='5A. Pagalbiniai skaičiavimai'!Z25 -> 0 | D15: ='5A. Pagalbiniai skaičiavimai'!AA25 -> 0 | E15: ='5A. Pagalbiniai skaičiavimai'!AB25 -> 0 | F15: ='5A. Pagalbiniai skaičiavimai'!AC25 -> 0 | G15: ='5A. Pagalbiniai skaičiavimai'!AD25 -> 0 | H15: ='5A. Pagalbiniai skaičiavimai'!AE25 -> 0 | I15: ='5A. Pagalbiniai skaičiavimai'!AF25 -> 0 | J15: ='5A. Pagalbiniai skaičiavimai'!AG25 -> 0 | ... L15: ='5A. Pagalbiniai skaičiavimai'!AI25 -> 0
A16: 9 | B16: Planuotų paskolų skola metų pabaigoje (Eur) | C16: ='5A. Pagalbiniai skaičiavimai'!AJ25 -> 0 | D16: ='5A. Pagalbiniai skaičiavimai'!AK25 -> 0 | E16: ='5A. Pagalbiniai skaičiavimai'!AL25 -> 0 | F16: ='5A. Pagalbiniai skaičiavimai'!AM25 -> 0 | G16: ='5A. Pagalbiniai skaičiavimai'!AN25 -> 0 | H16: ='5A. Pagalbiniai skaičiavimai'!AO25 -> 0 | I16: ='5A. Pagalbiniai skaičiavimai'!AP25 -> 0 | J16: ='5A. Pagalbiniai skaičiavimai'!AQ25 -> 0 | ... L16: ='5A. Pagalbiniai skaičiavimai'!AS25 -> 0
A17: 10 | B17: Scenarijaus finansinė skola prieš finansavimo trūkumą (Eur) | C17: =IF(C12="","",C12+IFERROR(C16,0)) -> 0 | D17: =IF(D12="","",D12+IFERROR(D16,0)) -> 0 | E17: =IF(E12="","",E12+IFERROR(E16,0)) -> 0 | F17: =IF(F12="","",F12+IFERROR(F16,0)) -> 0 | G17: =IF(G12="","",G12+IFERROR(G16,0)) -> 0 | H17: =IF(H12="","",H12+IFERROR(H16,0)) -> 0 | I17: =IF(I12="","",I12+IFERROR(I16,0)) -> 0 | J17: =IF(J12="","",J12+IFERROR(J16,0)) -> 0 | ... L17: =IF(L12="","",L12+IFERROR(L16,0)) -> 0
