Workbook

Sheet 1. Instrukcija
A1: MODELIO PILDYMO IR NAUDOJIMO INSTRUKCIJA
A3: 1. MODELIO PASKIRTIS
A4: Modelis skirtas įvertinti, kaip planuojamas investicijų portfelis paveiks bendrovės Net Debt / EBITDA ir DSCR rodiklius bei ar bendrovė išlaikys VERT taikomas finansinio pajėgumo ribas.
A5: Lūžio analizė investicijas įtraukia kaupiamai pagal 2 lapo eiliškumą (2 lape investicijos turi būti surašomos prioriteto tvarka) ir nustato pirmą investiciją, po kurios bent vienais metais Net Debt / EBITDA viršija 5,5 arba DSCR nukrenta žemiau 1,2 (lapas - 5. 0% scenarijus).
A6: Visi finansiniai duomenys pateikiami Eur.
A8: 2. PILDYMO SEKA
A9: Žingsnis | B9: Lapas | C9: Ką atlikti | D9: Kontrolė / rezultatas
A10: 1 | B10: 2. Investicijos | C10: Įveskite visas planuojamas investicijas, terminus, nusidėvėjimo normatyvus, investicijų sumas ir finansavimo šaltinius. Pateikiama informacija apie visas planuojamas įgyvendinti investicijas, nurodant jas prioriteto tvarka. Investicijos turi būti numatytos bendrovių veiklos planuose. SVARBU: Jei investicijų įgyvendinimui nėra galimybės gauti paskolą ar kitokį finasavimą, finasanvimo šaltinis nurodomas "Bendrovės lėšos". | D10: Finansavimo kontrolė turi būti OK (OK kai H stulpelio vertė sutampa su I-N stulpelių suma, o paskolos atveju užpildyti O ir P stulpeliai).SVARBU: H stulpelyje nurodoma bendra investicijos vertė, o I-N stulpeliuose paskirtomi investicijos finansavimo šaltiniai.
A11: 2 | B11: 3. Finansinės prielaidos | C11: Šviesiai turkio įvesties langeliuose įveskite finansinę bazę. Mėlyni ir pilkai mėlyni langeliai apskaičiuojami automatiškai. Duomenys nurodomi iš "Metinis reguluojamosios veiklos ataskaitų rinkinys (vandens sektorius)" arba "Metinis reguluojamosios veiklos ataskaitų rinkinys (šilumos sektorius)", "2-asis verslo apskaitos standartas "Balansas" 1 priedo duomenis ir pagal turimus finansinės apskaitos duomenis. Pirmieji metai nurodomi pagal paskutinius turimus duomenis, sekantys metai pildomi įvertinus prognozes arba infliacijos koeficientą. | D11: Patikrinkite suvestinę ir bazinius rodiklius.
A12: 3 | B12: 4. Metinis CAPEX | C12: Pasirinkite Automatinį arba Rankinį režimą (B2 langelis). Automatiniu režimu CAPEX dalijamas lygiomis dalimis per bendrovės nurodytus Nuo–Iki metus (per kuriuos planuojama atlikti investiciją). Pasirinkus rankinį režimą, CAPEX bendrovės gali paskirstyti pamečiui priklausomai nuo planuojamų investicijų apimčių. | D12: Naudojamo paskirstymo kontrolė turi būti OK.
A13: 4 | B13: 5. 0% scenarijus | C13: Įveskite investicijų grąžos normą (užpildomas C5 langelis nurodant paskutiniame kainos skaičiavime nustatytą investicijų grąžos normą). Kitos reikšmės apskaičiuojamos automatiškai. | D13: Peržiūrėkite rodiklius ir lūžio investiciją.
A14: 5 | B14: 6. Aprašo scenarijus | C14: Pasirinkite dedamosios surinkimo laikotarpį – 1 arba 2 metus (C4 langelis). Intensyvumas nustatomas automatiškai pagal nusidėvėjimo normatyvą. | D14: Peržiūrėkite maksimalios dedamosios poveikį.
A15: 6 | B15: 7. Pasirinktinis scenarijus | C15: Įveskite dedamosios surinkimo laikotarpį ir vienodą dedamosios intensyvumą C6 langelyje. | D15: Keisdami intensyvumą stebėkite lūžio rezultatą.
A17: 3. PRIVALOMOS ĮVESTYS PAGAL LAPUS
A18: Lapas | B18: Pildomos reikšmės | C18: Svarbu
A19: 2. Investicijos | B19: Pavadinimas; veiklos plano Nr.; paskirtis; Nuo–Iki; nusidėvėjimo laikotarpis; investicijos suma; finansavimo šaltiniai; paskolos norma ir terminas. Investicijos turi būti numatytos įmonės veiklos plane. | C19: Visų finansavimo šaltinių suma turi sutapti su investicijos verte, kitu atveju Q stulpelyje rodys NEATITINKA.
A20: 3. Finansinės prielaidos | B20: Finansinės bazės reikšmės įvedamos šviesiai turkio langeliuose pagal pateiktus metus ir rodiklius. | C20: Mėlyni langeliai yra formulės; redaguoti NEGALIMA.
A21: 4. Metinis CAPEX | B21: Režimas (B2 langelis); Rankinio režimo atveju – reikia nurodyti kiekvienos investicijos metinį CAPEX. Automatinio režimo atveju (pasirinkus B2 langelyje Automatinis), duomenys perkleiami iš lapo 1.Investicijos. | C21: Rankinis paskirstymas turi sutapti su visa investicijos suma, kitu atveju P stulpelyje rodys NEATITINKA.
A22: 5. 0% scenarijus | B22: Investicijų grąžos norma (užpildomas tik C5 lengelis). | C22: Šis scenarijus netaiko papildomos investicijų dedamosios.
A23: 6. Aprašo scenarijus | B23: Dedamosios surinkimo laikotarpis (C4 langelis): 1 arba 2 metai. | C23: Intensyvumas: 30 %, kai normatyvas ≤35 m.; 40 %, kai >35 m.
A24: 7. Pasirinktinis scenarijus | B24: Dedamosios surinkimo laikotarpis ir rankinis vienodas intensyvumas (C6 langelis). | C24: Intensyvumas įvedamas procentais, nuo 0 % iki 100 %.
A26: 4. ANALIZUOJAMI SCENARIJAI
A27: Scenarijus | B27: Logika | C27: Paskolos poreikis | D27: Paskirtis
A28: 5. 0% scenarijus | B28: Papildoma dedamoji lygi 0 %. | C28: Investicijos finansuojamos įvestais šaltiniais ir paskolomis; finansavimo trūkumas didina skolos aptarnavimą. | D28: Patikrinti bendrovės pajėgumą be papildomos dedamosios.
A29: 6. Aprašo scenarijus | B29: Taikomas maksimalus 30 % / 40 % intensyvumas pagal nusidėvėjimo normatyvą. | C29: Dedamoji mažina kiekvienos investicijos paskolos poreikį. | D29: Parodyti maksimalios pagal Aprašą dedamosios poveikį.
A30: 7. Pasirinktinis scenarijus | B30: Visoms investicijoms taikomas vienodas vartotojo pasirinktas intensyvumas. | C30: Paskolos poreikis mažinamas pagal įvestą procentą. | D30: Rasti praktiškai reikalingą dedamosios intensyvumą.
A32: 5. PATEIKIAMI REZULTATAI
A33: Rezultatas | B33: Paaiškinimas | C33: Vertinimo taisyklė
A34: Net Debt / EBITDA | B34: Grynoji finansinė skola, padalyta iš scenarijaus net EBITDA. | C34: Atitinka, kai neviršija 5,5.
A35: DSCR | B35: Scenarijaus net EBITDA, padalyta iš esamo ir naujo skolos aptarnavimo. | C35: Atitinka, kai ne mažiau 1,2.
A36: Tvarumo būsena | B36: Metinė abiejų kriterijų patikra. | C36: ATITINKA tik tada, kai tenkinami abu kriterijai.
A37: Lūžio rezultatas | B37: Parodo, ar portfelyje atsiranda neatitiktis. | C37: Pirmoji NEATITINKA eilutė yra lūžio investicija.
A38: Pirmi neatitikties metai | B38: Pirmi metai, kuriais bent vienas kriterijus nebetenkinamas. | C38: Rodomi pagal kaupiamąjį portfelį.
A39: Cross-check | B39: Lygina pilno portfelio pagrindinį ir techninį skaičiavimo kelius. | C39: Galutinis rezultatas turi būti OK.
A41: 6. SVARBIOS MODELIAVIMO TAISYKLĖS
A42: • Investicijos pradedamos eksploatuoti kitų metų sausio 1 d. po „Iki“ metų.
A43: • Reguliacinės nusidėvėjimo ir investicijų grąžos pajamos didina net EBITDA nuo eksploatacijos pradžios.
A44: • Investicijų grąža skaičiuojama nuo bendrovės lėšų ir po dedamosios likusios paskolos vertės; dotacijos ir dedamoji į grąžos bazę neįtraukiamos.
A45: • Paskolos grąžinamos lygiomis pagrindinės sumos dalimis nuo kitų metų po kiekvienos išmokėtos dalies; palūkanos skaičiuojamos nuo metų pradžios likučio.
A46: • Pagalbiniai 5A, 6A ir 7A lapai skirti auditui ir formulėms; jų struktūros nekeiskite.
A48: 7. ŽYMĖJIMAS
A49: Šviesi turkio | B49: Naudotojo įvestis
A50: Pilkai mėlyna | B50: Formulė arba išvestinis rodiklis
A51: Žalia | B51: Atitinka kriterijų / kontrolė OK
A52: Raudona | B52: Neatitinka kriterijaus / reikalinga korekcija

Sheet 2. Investicijos
A1: INVESTICIJŲ SĄRAŠAS – FINANSAVIMO ŠALTINIAI IR ĮVESTYS
A2: Užpildoma informacija apie planuojamas atlikti investicijas.
A4: Eil. Nr. | B4: Investicijos pavadinimas | C4: Veiklos plano Nr. | D4: Investicijos priskyrimas pagal pirminę paskirtį | E4: Nuo (metai) | F4: Iki (metai) | G4: Nusidėvėjimo laikotarpis (m.) | H4: Bendra investicijos vertė (Eur) | I4: ES dotacija (Eur) | J4: Savivaldybės subsidija (Eur) | K4: Kita valstybės parama (Eur) | L4: Kitos lėšos (Eur) | M4: Bendrovės lėšos (Eur) | N4: Paskola (Eur) | O4: Paskolos palūkanos, proc. | P4: Paskolos grąžinimo terminas, m. | Q4: Finansavimo kontrolė
A5: 1. | D5: Pasirinkti | Q5: =IF(COUNTA(H5:N5)=0,"",IF(OR(H5="",ABS(SUM(I5:N5)-H5)>0.01,AND(N5>0,OR(O5="",P5="",O5<=0,P5<=0))),"NEATITINKA","OK")) | T5: Pasirinkti
A6: 2. | D6: Pasirinkti | Q6: =IF(COUNTA(H6:N6)=0,"",IF(OR(H6="",ABS(SUM(I6:N6)-H6)>0.01,AND(N6>0,OR(O6="",P6="",O6<=0,P6<=0))),"NEATITINKA","OK")) | T6: 36.1
A7: 3. | D7: Pasirinkti | Q7: =IF(COUNTA(H7:N7)=0,"",IF(OR(H7="",ABS(SUM(I7:N7)-H7)>0.01,AND(N7>0,OR(O7="",P7="",O7<=0,P7<=0))),"NEATITINKA","OK")) | T7: 36.2 (tik teisės aktuose nustatytai plėtrai įgyvendinti)
A8: 4. | D8: Pasirinkti | Q8: =IF(COUNTA(H8:N8)=0,"",IF(OR(H8="",ABS(SUM(I8:N8)-H8)>0.01,AND(N8>0,OR(O8="",P8="",O8<=0,P8<=0))),"NEATITINKA","OK")) | T8: 36.3
A9: 5. | D9: Pasirinkti | Q9: =IF(COUNTA(H9:N9)=0,"",IF(OR(H9="",ABS(SUM(I9:N9)-H9)>0.01,AND(N9>0,OR(O9="",P9="",O9<=0,P9<=0))),"NEATITINKA","OK")) | T9: 37.1
A10: 6. | D10: Pasirinkti | Q10: =IF(COUNTA(H10:N10)=0,"",IF(OR(H10="",ABS(SUM(I10:N10)-H10)>0.01,AND(N10>0,OR(O10="",P10="",O10<=0,P10<=0))),"NEATITINKA","OK")) | T10: 37.2 (tik teisės aktuose nustatytai plėtrai įgyvendinti)
A11: 7. | D11: Pasirinkti | Q11: =IF(COUNTA(H11:N11)=0,"",IF(OR(H11="",ABS(SUM(I11:N11)-H11)>0.01,AND(N11>0,OR(O11="",P11="",O11<=0,P11<=0))),"NEATITINKA","OK")) | T11: 37.3
A12: 8. | D12: Pasirinkti | Q12: =IF(COUNTA(H12:N12)=0,"",IF(OR(H12="",ABS(SUM(I12:N12)-H12)>0.01,AND(N12>0,OR(O12="",P12="",O12<=0,P12<=0))),"NEATITINKA","OK")) | T12: Kitos investicijos
A13: 9. | D13: Pasirinkti | Q13: =IF(COUNTA(H13:N13)=0,"",IF(OR(H13="",ABS(SUM(I13:N13)-H13)>0.01,AND(N13>0,OR(O13="",P13="",O13<=0,P13<=0))),"NEATITINKA","OK"))
A14: 10. | D14: Pasirinkti | Q14: =IF(COUNTA(H14:N14)=0,"",IF(OR(H14="",ABS(SUM(I14:N14)-H14)>0.01,AND(N14>0,OR(O14="",P14="",O14<=0,P14<=0))),"NEATITINKA","OK"))
A15: 11. | D15: Pasirinkti | Q15: =IF(COUNTA(H15:N15)=0,"",IF(OR(H15="",ABS(SUM(I15:N15)-H15)>0.01,AND(N15>0,OR(O15="",P15="",O15<=0,P15<=0))),"NEATITINKA","OK"))
A16: 12. | D16: Pasirinkti | Q16: =IF(COUNTA(H16:N16)=0,"",IF(OR(H16="",ABS(SUM(I16:N16)-H16)>0.01,AND(N16>0,OR(O16="",P16="",O16<=0,P16<=0))),"NEATITINKA","OK"))
A17: 13. | D17: Pasirinkti | Q17: =IF(COUNTA(H17:N17)=0,"",IF(OR(H17="",ABS(SUM(I17:N17)-H17)>0.01,AND(N17>0,OR(O17="",P17="",O17<=0,P17<=0))),"NEATITINKA","OK"))
A18: 14. | D18: Pasirinkti | Q18: =IF(COUNTA(H18:N18)=0,"",IF(OR(H18="",ABS(SUM(I18:N18)-H18)>0.01,AND(N18>0,OR(O18="",P18="",O18<=0,P18<=0))),"NEATITINKA","OK"))
A19: 15. | D19: Pasirinkti | Q19: =IF(COUNTA(H19:N19)=0,"",IF(OR(H19="",ABS(SUM(I19:N19)-H19)>0.01,AND(N19>0,OR(O19="",P19="",O19<=0,P19<=0))),"NEATITINKA","OK"))
A20: 16. | D20: Pasirinkti | Q20: =IF(COUNTA(H20:N20)=0,"",IF(OR(H20="",ABS(SUM(I20:N20)-H20)>0.01,AND(N20>0,OR(O20="",P20="",O20<=0,P20<=0))),"NEATITINKA","OK"))
A21: 17. | D21: Pasirinkti | Q21: =IF(COUNTA(H21:N21)=0,"",IF(OR(H21="",ABS(SUM(I21:N21)-H21)>0.01,AND(N21>0,OR(O21="",P21="",O21<=0,P21<=0))),"NEATITINKA","OK"))
A22: 18. | D22: Pasirinkti | Q22: =IF(COUNTA(H22:N22)=0,"",IF(OR(H22="",ABS(SUM(I22:N22)-H22)>0.01,AND(N22>0,OR(O22="",P22="",O22<=0,P22<=0))),"NEATITINKA","OK"))
A23: 19. | D23: Pasirinkti | Q23: =IF(COUNTA(H23:N23)=0,"",IF(OR(H23="",ABS(SUM(I23:N23)-H23)>0.01,AND(N23>0,OR(O23="",P23="",O23<=0,P23<=0))),"NEATITINKA","OK"))
A24: 20. | D24: Pasirinkti | Q24: =IF(COUNTA(H24:N24)=0,"",IF(OR(H24="",ABS(SUM(I24:N24)-H24)>0.01,AND(N24>0,OR(O24="",P24="",O24<=0,P24<=0))),"NEATITINKA","OK"))
A25: IŠ VISO | C25: – | D25: – | E25: – | F25: – | G25: – | H25: =SUM(H5:H24) -> 0 | I25: =SUM(I5:I24) -> 0 | J25: =SUM(J5:J24) -> 0 | K25: =SUM(K5:K24) -> 0 | L25: =SUM(L5:L24) -> 0 | M25: =SUM(M5:M24) -> 0 | N25: =SUM(N5:N24) -> 0 | O25: – | P25: – | Q25: –

Sheet 3. Finansinės prielaidos
A1: FINANSINĖS PRIELAIDOS – BAZĖ BE NAUJO INVESTICIJŲ PORTFELIO POVEIKIO
A2: Pirmoje lentelėje įvedamos finansinės prielaidos, nevertinant planuojamų atlikti investicijų įtakos.
A4: DETALIOS FINANSINIŲ RODIKLIŲ ĮVESTYS
A5: Eil. Nr. | B5: Rodiklis | C5: 2026 | D5: 2027 | E5: 2028 | F5: 2029 | G5: 2030 | H5: 2031 | I5: 2032 | J5: 2033 | K5: 2034 | L5: 2035
A6: 1. | B6: Pajamos iš viso (Eur) | C6: =SUM(C7:C9) -> 0 | D6: =SUM(D7:D9) -> 0 | E6: =SUM(E7:E9) -> 0 | F6: =SUM(F7:F9) -> 0 | G6: =SUM(G7:G9) -> 0 | H6: =SUM(H7:H9) -> 0 | I6: =SUM(I7:I9) -> 0 | J6: =SUM(J7:J9) -> 0 | ... L6: =SUM(L7:L9) -> 0
A7: 1.1. | B7: GVTNT / šilumos tiekimo paslaugų pardavimo pajamos (Eur)
A8: 1.2. | B8: Kitos veiklos pajamos (Eur)
A9: 1.3. | B9: Pajamos iš esamų investicijų dedamosios (Eur)
A10: 2. | B10: Net EBITDA (Eur) | C10: =C6-C13-C11-C12 -> 0 | D10: =D6-D13-D11-D12 -> 0 | E10: =E6-E13-E11-E12 -> 0 | F10: =F6-F13-F11-F12 -> 0 | G10: =G6-G13-G11-G12 -> 0 | H10: =H6-H13-H11-H12 -> 0 | I10: =I6-I13-I11-I12 -> 0 | J10: =J6-J13-J11-J12 -> 0 | ... L10: =L6-L13-L11-L12 -> 0
A11: 2.1. | B11: Ilgalaikio turto pardavimo pajamos (Eur)
A12: 2.2. | B12: Pajamos turtu (Eur)
A13: 2.3. | B13: Veiklos sąnaudos – OPEX (Eur)
A15: 3. | B15: Finansinė skola metų pabaigoje (Eur) | C15: =SUM(C16:C17) -> 0 | D15: =SUM(D16:D17) -> 0 | E15: =SUM(E16:E17) -> 0 | F15: =SUM(F16:F17) -> 0 | G15: =SUM(G16:G17) -> 0 | H15: =SUM(H16:H17) -> 0 | I15: =SUM(I16:I17) -> 0 | J15: =SUM(J16:J17) -> 0 | ... L15: =SUM(L16:L17) -> 0
A16: 3.1. | B16: Banko ir kitų kreditorių paskolos (Eur)
A17: 3.2. | B17: Turto nuomos / lizingo įsipareigojimai (Eur)
A18: 4. | B18: Pinigų likutis metų pabaigoje (Eur)
A19: 5. | B19: Skolos aptarnavimas iš viso (Eur) | C19: =SUM(C20:C21) -> 0 | D19: =SUM(D20:D21) -> 0 | E19: =SUM(E20:E21) -> 0 | F19: =SUM(F20:F21) -> 0 | G19: =SUM(G20:G21) -> 0 | H19: =SUM(H20:H21) -> 0 | I19: =SUM(I20:I21) -> 0 | J19: =SUM(J20:J21) -> 0 | ... L19: =SUM(L20:L21) -> 0
A20: 5.1. | B20: Paskolų pagrindinės sumos grąžinimas (Eur)
A21: 5.2. | B21: Palūkanų mokėjimai (Eur)
A25: FINANSINIŲ RODIKLIŲ SUVESTINĖ
A26: Eil. Nr. | B26: Rodiklis | C26: 2026 | D26: 2027 | E26: 2028 | F26: 2029 | G26: 2030 | H26: 2031 | I26: 2032 | J26: 2033 | K26: 2034 | L26: 2035
A27: 1. | B27: Pajamos (Eur) | C27: =C6 -> 0 | D27: =D6 -> 0 | E27: =E6 -> 0 | F27: =F6 -> 0 | G27: =G6 -> 0 | H27: =H6 -> 0 | I27: =I6 -> 0 | J27: =J6 -> 0 | ... L27: =L6 -> 0
A28: 2. | B28: OPEX (Eur) | C28: =C13 -> 0 | D28: =D13 -> 0 | E28: =E13 -> 0 | F28: =F13 -> 0 | G28: =G13 -> 0 | H28: =H13 -> 0 | I28: =I13 -> 0 | J28: =J13 -> 0 | ... L28: =L13 -> 0
A29: 3. | B29: net EBITDA (Eur) | C29: =C10 -> 0 | D29: =D10 -> 0 | E29: =E10 -> 0 | F29: =F10 -> 0 | G29: =G10 -> 0 | H29: =H10 -> 0 | I29: =I10 -> 0 | J29: =J10 -> 0 | ... L29: =L10 -> 0
A30: 4. | B30: Finansinė skola metų pabaigoje (Eur) | C30: =C15 -> 0 | D30: =D15 -> 0 | E30: =E15 -> 0 | F30: =F15 -> 0 | G30: =G15 -> 0 | H30: =H15 -> 0 | I30: =I15 -> 0 | J30: =J15 -> 0 | ... L30: =L15 -> 0
A31: 5. | B31: Pinigai metų pabaigoje (Eur) | C31: =C18 -> 0 | D31: =D18 -> 0 | E31: =E18 -> 0 | F31: =F18 -> 0 | G31: =G18 -> 0 | H31: =H18 -> 0 | I31: =I18 -> 0 | J31: =J18 -> 0 | ... L31: =L18 -> 0
A32: 6. | B32: Esamas metinis skolos aptarnavimas – palūkanos + pagrindinės sumos grąžinimas (Eur) | C32: =C19 -> 0 | D32: =D19 -> 0 | E32: =E19 -> 0 | F32: =F19 -> 0 | G32: =G19 -> 0 | H32: =H19 -> 0 | I32: =I19 -> 0 | J32: =J19 -> 0 | ... L32: =L19 -> 0
A33: 7. | B33: Net Debt (Eur) | C33: =IF(OR(C30="",C31=""),"",C30-C31) -> 0 | D33: =IF(OR(D30="",D31=""),"",D30-D31) -> 0 | E33: =IF(OR(E30="",E31=""),"",E30-E31) -> 0 | F33: =IF(OR(F30="",F31=""),"",F30-F31) -> 0 | G33: =IF(OR(G30="",G31=""),"",G30-G31) -> 0 | H33: =IF(OR(H30="",H31=""),"",H30-H31) -> 0 | I33: =IF(OR(I30="",I31=""),"",I30-I31) -> 0 | J33: =IF(OR(J30="",J31=""),"",J30-J31) -> 0 | ... L33: =IF(OR(L30="",L31=""),"",L30-L31) -> 0
A34: 8. | B34: Net Debt / net EBITDA | C34: =IF(OR(C33="",C29="",C29<=0),"",C33/C29) | D34: =IF(OR(D33="",D29="",D29<=0),"",D33/D29) | E34: =IF(OR(E33="",E29="",E29<=0),"",E33/E29) | F34: =IF(OR(F33="",F29="",F29<=0),"",F33/F29) | G34: =IF(OR(G33="",G29="",G29<=0),"",G33/G29) | H34: =IF(OR(H33="",H29="",H29<=0),"",H33/H29) | I34: =IF(OR(I33="",I29="",I29<=0),"",I33/I29) | J34: =IF(OR(J33="",J29="",J29<=0),"",J33/J29) | ... L34: =IF(OR(L33="",L29="",L29<=0),"",L33/L29)
A35: 9. | B35: DSCR | C35: =IF(OR(C29="",C32="",C32=0),"",C29/C32) | D35: =IF(OR(D29="",D32="",D32=0),"",D29/D32) | E35: =IF(OR(E29="",E32="",E32=0),"",E29/E32) | F35: =IF(OR(F29="",F32="",F32=0),"",F29/F32) | G35: =IF(OR(G29="",G32="",G32=0),"",G29/G32) | H35: =IF(OR(H29="",H32="",H32=0),"",H29/H32) | I35: =IF(OR(I29="",I32="",I32=0),"",I29/I32) | J35: =IF(OR(J29="",J32="",J32=0),"",J29/J32) | ... L35: =IF(OR(L29="",L32="",L32=0),"",L29/L32)
A36: 10. | B36: Tvarumo būsena | C36: =IF(COUNTA(C7:C9,C11:C13,C16:C18,C20:C21)=0,"",IF(C29<=0,"NEATITINKA",IF(AND(C34<>"",C34<=5.5,OR(C32=0,AND(C35<>"",C35>=1.2))),"ATITINKA","NEATITINKA"))) | D36: =IF(COUNTA(D7:D9,D11:D13,D16:D18,D20:D21)=0,"",IF(D29<=0,"NEATITINKA",IF(AND(D34<>"",D34<=5.5,OR(D32=0,AND(D35<>"",D35>=1.2))),"ATITINKA","NEATITINKA"))) | E36: =IF(COUNTA(E7:E9,E11:E13,E16:E18,E20:E21)=0,"",IF(E29<=0,"NEATITINKA",IF(AND(E34<>"",E34<=5.5,OR(E32=0,AND(E35<>"",E35>=1.2))),"ATITINKA","NEATITINKA"))) | F36: =IF(COUNTA(F7:F9,F11:F13,F16:F18,F20:F21)=0,"",IF(F29<=0,"NEATITINKA",IF(AND(F34<>"",F34<=5.5,OR(F32=0,AND(F35<>"",F35>=1.2))),"ATITINKA","NEATITINKA"))) | G36: =IF(COUNTA(G7:G9,G11:G13,G16:G18,G20:G21)=0,"",IF(G29<=0,"NEATITINKA",IF(AND(G34<>"",G34<=5.5,OR(G32=0,AND(G35<>"",G35>=1.2))),"ATITINKA","NEATITINKA"))) | H36: =IF(COUNTA(H7:H9,H11:H13,H16:H18,H20:H21)=0,"",IF(H29<=0,"NEATITINKA",IF(AND(H34<>"",H34<=5.5,OR(H32=0,AND(H35<>"",H35>=1.2))),"ATITINKA","NEATITINKA"))) | I36: =IF(COUNTA(I7:I9,I11:I13,I16:I18,I20:I21)=0,"",IF(I29<=0,"NEATITINKA",IF(AND(I34<>"",I34<=5.5,OR(I32=0,AND(I35<>"",I35>=1.2))),"ATITINKA","NEATITINKA"))) | J36: =IF(COUNTA(J7:J9,J11:J13,J16:J18,J20:J21)=0,"",IF(J29<=0,"NEATITINKA",IF(AND(J34<>"",J34<=5.5,OR(J32=0,AND(J35<>"",J35>=1.2))),"ATITINKA","NEATITINKA"))) | ... L36: =IF(COUNTA(L7:L9,L11:L13,L16:L18,L20:L21)=0,"",IF(L29<=0,"NEATITINKA",IF(AND(L34<>"",L34<=5.5,OR(L32=0,AND(L35<>"",L35>=1.2))),"ATITINKA","NEATITINKA")))

Sheet 4. Metinis CAPEX
A1: METINIS CAPEX – INVESTICIJŲ CAPEX PASKIRSTYMAS
A2: Režimas | B2: Automatinis | C2: Automatinis: investicijos suma paskirstoma lygiomis dalimis per Nuo–Iki metus. Rankinis: metinį CAPEX įveskite žemiau; pagrindinėje lentelėje naudojamas pasirinktas paskirstymas.
E4: Rodiklis | F4: ='3. Finansinės prielaidos'!C26 -> 2026 | G4: ='3. Finansinės prielaidos'!D26 -> 2027 | H4: ='3. Finansinės prielaidos'!E26 -> 2028 | I4: ='3. Finansinės prielaidos'!F26 -> 2029 | J4: ='3. Finansinės prielaidos'!G26 -> 2030 | K4: ='3. Finansinės prielaidos'!H26 -> 2031 | L4: ='3. Finansinės prielaidos'!I26 -> 2032 | M4: ='3. Finansinės prielaidos'!J26 -> 2033 | ... O4: ='3. Finansinės prielaidos'!L26 -> 2035
E5: BENDRAS METINIS CAPEX (Eur) | F5: =F29 -> 0 | G5: =G29 -> 0 | H5: =H29 -> 0 | I5: =I29 -> 0 | J5: =J29 -> 0 | K5: =K29 -> 0 | L5: =L29 -> 0 | M5: =M29 -> 0 | ... O5: =O29 -> 0
A7: CAPEX PAGAL INVESTICIJAS – NAUDOJAMAS PASKIRSTYMAS
A8: Eil. Nr. | B8: Investicija | C8: Nuo | D8: Iki | E8: Investicijos suma (Eur) | F8: ='3. Finansinės prielaidos'!C26 -> 2026 | G8: ='3. Finansinės prielaidos'!D26 -> 2027 | H8: ='3. Finansinės prielaidos'!E26 -> 2028 | I8: ='3. Finansinės prielaidos'!F26 -> 2029 | J8: ='3. Finansinės prielaidos'!G26 -> 2030 | K8: ='3. Finansinės prielaidos'!H26 -> 2031 | L8: ='3. Finansinės prielaidos'!I26 -> 2032 | M8: ='3. Finansinės prielaidos'!J26 -> 2033 | ... O8: ='3. Finansinės prielaidos'!L26 -> 2035 | P8: Kontrolė
A9: =IF('2. Investicijos'!A5="","",'2. Investicijos'!A5) -> 1. | B9: =IF('2. Investicijos'!B5="","",'2. Investicijos'!B5) | C9: =IF('2. Investicijos'!E5="","",'2. Investicijos'!E5) | D9: =IF('2. Investicijos'!F5="","",'2. Investicijos'!F5) | E9: =IF('2. Investicijos'!H5="","",'2. Investicijos'!H5) | F9: =IF($B9="","",IF($B$2="Automatinis",IF(OR($C9="",$D9="",$E9="",$D9<$C9,F$8<$C9,F$8>$D9),"",$E9/($D9-$C9+1)),IF(F33="",0,F33))) | G9: =IF($B9="","",IF($B$2="Automatinis",IF(OR($C9="",$D9="",$E9="",$D9<$C9,G$8<$C9,G$8>$D9),"",$E9/($D9-$C9+1)),IF(G33="",0,G33))) | H9: =IF($B9="","",IF($B$2="Automatinis",IF(OR($C9="",$D9="",$E9="",$D9<$C9,H$8<$C9,H$8>$D9),"",$E9/($D9-$C9+1)),IF(H33="",0,H33))) | I9: =IF($B9="","",IF($B$2="Automatinis",IF(OR($C9="",$D9="",$E9="",$D9<$C9,I$8<$C9,I$8>$D9),"",$E9/($D9-$C9+1)),IF(I33="",0,I33))) | J9: =IF($B9="","",IF($B$2="Automatinis",IF(OR($C9="",$D9="",$E9="",$D9<$C9,J$8<$C9,J$8>$D9),"",$E9/($D9-$C9+1)),IF(J33="",0,J33))) | K9: =IF($B9="","",IF($B$2="Automatinis",IF(OR($C9="",$D9="",$E9="",$D9<$C9,K$8<$C9,K$8>$D9),"",$E9/($D9-$C9+1)),IF(K33="",0,K33))) | L9: =IF($B9="","",IF($B$2="Automatinis",IF(OR($C9="",$D9="",$E9="",$D9<$C9,L$8<$C9,L$8>$D9),"",$E9/($D9-$C9+1)),IF(L33="",0,L33))) | M9: =IF($B9="","",IF($B$2="Automatinis",IF(OR($C9="",$D9="",$E9="",$D9<$C9,M$8<$C9,M$8>$D9),"",$E9/($D9-$C9+1)),IF(M33="",0,M33))) | ... O9: =IF($B9="","",IF($B$2="Automatinis",IF(OR($C9="",$D9="",$E9="",$D9<$C9,O$8<$C9,O$8>$D9),"",$E9/($D9-$C9+1)),IF(O33="",0,O33))) | P9: =IF($B9="","",IF(OR($C9="",$D9="",$E9=""),"NEATITINKA",IF(ROUND(SUM($F9:$O9),6)=ROUND($E9,6),"OK","NEATITINKA")))
A10: =IF('2. Investicijos'!A6="","",'2. Investicijos'!A6) -> 2. | B10: =IF('2. Investicijos'!B6="","",'2. Investicijos'!B6) | C10: =IF('2. Investicijos'!E6="","",'2. Investicijos'!E6) | D10: =IF('2. Investicijos'!F6="","",'2. Investicijos'!F6) | E10: =IF('2. Investicijos'!H6="","",'2. Investicijos'!H6) | F10: =IF($B10="","",IF($B$2="Automatinis",IF(OR($C10="",$D10="",$E10="",$D10<$C10,F$8<$C10,F$8>$D10),"",$E10/($D10-$C10+1)),IF(F34="",0,F34))) | G10: =IF($B10="","",IF($B$2="Automatinis",IF(OR($C10="",$D10="",$E10="",$D10<$C10,G$8<$C10,G$8>$D10),"",$E10/($D10-$C10+1)),IF(G34="",0,G34))) | H10: =IF($B10="","",IF($B$2="Automatinis",IF(OR($C10="",$D10="",$E10="",$D10<$C10,H$8<$C10,H$8>$D10),"",$E10/($D10-$C10+1)),IF(H34="",0,H34))) | I10: =IF($B10="","",IF($B$2="Automatinis",IF(OR($C10="",$D10="",$E10="",$D10<$C10,I$8<$C10,I$8>$D10),"",$E10/($D10-$C10+1)),IF(I34="",0,I34))) | J10: =IF($B10="","",IF($B$2="Automatinis",IF(OR($C10="",$D10="",$E10="",$D10<$C10,J$8<$C10,J$8>$D10),"",$E10/($D10-$C10+1)),IF(J34="",0,J34))) | K10: =IF($B10="","",IF($B$2="Automatinis",IF(OR($C10="",$D10="",$E10="",$D10<$C10,K$8<$C10,K$8>$D10),"",$E10/($D10-$C10+1)),IF(K34="",0,K34))) | L10: =IF($B10="","",IF($B$2="Automatinis",IF(OR($C10="",$D10="",$E10="",$D10<$C10,L$8<$C10,L$8>$D10),"",$E10/($D10-$C10+1)),IF(L34="",0,L34))) | M10: =IF($B10="","",IF($B$2="Automatinis",IF(OR($C10="",$D10="",$E10="",$D10<$C10,M$8<$C10,M$8>$D10),"",$E10/($D10-$C10+1)),IF(M34="",0,M34))) | ... O10: =IF($B10="","",IF($B$2="Automatinis",IF(OR($C10="",$D10="",$E10="",$D10<$C10,O$8<$C10,O$8>$D10),"",$E10/($D10-$C10+1)),IF(O34="",0,O34))) | P10: =IF($B10="","",IF(OR($C10="",$D10="",$E10=""),"NEATITINKA",IF(ROUND(SUM($F10:$O10),6)=ROUND($E10,6),"OK","NEATITINKA")))
A11: =IF('2. Investicijos'!A7="","",'2. Investicijos'!A7) -> 3. | B11: =IF('2. Investicijos'!B7="","",'2. Investicijos'!B7) | C11: =IF('2. Investicijos'!E7="","",'2. Investicijos'!E7) | D11: =IF('2. Investicijos'!F7="","",'2. Investicijos'!F7) | E11: =IF('2. Investicijos'!H7="","",'2. Investicijos'!H7) | F11: =IF($B11="","",IF($B$2="Automatinis",IF(OR($C11="",$D11="",$E11="",$D11<$C11,F$8<$C11,F$8>$D11),"",$E11/($D11-$C11+1)),IF(F35="",0,F35))) | G11: =IF($B11="","",IF($B$2="Automatinis",IF(OR($C11="",$D11="",$E11="",$D11<$C11,G$8<$C11,G$8>$D11),"",$E11/($D11-$C11+1)),IF(G35="",0,G35))) | H11: =IF($B11="","",IF($B$2="Automatinis",IF(OR($C11="",$D11="",$E11="",$D11<$C11,H$8<$C11,H$8>$D11),"",$E11/($D11-$C11+1)),IF(H35="",0,H35))) | I11: =IF($B11="","",IF($B$2="Automatinis",IF(OR($C11="",$D11="",$E11="",$D11<$C11,I$8<$C11,I$8>$D11),"",$E11/($D11-$C11+1)),IF(I35="",0,I35))) | J11: =IF($B11="","",IF($B$2="Automatinis",IF(OR($C11="",$D11="",$E11="",$D11<$C11,J$8<$C11,J$8>$D11),"",$E11/($D11-$C11+1)),IF(J35="",0,J35))) | K11: =IF($B11="","",IF($B$2="Automatinis",IF(OR($C11="",$D11="",$E11="",$D11<$C11,K$8<$C11,K$8>$D11),"",$E11/($D11-$C11+1)),IF(K35="",0,K35))) | L11: =IF($B11="","",IF($B$2="Automatinis",IF(OR($C11="",$D11="",$E11="",$D11<$C11,L$8<$C11,L$8>$D11),"",$E11/($D11-$C11+1)),IF(L35="",0,L35))) | M11: =IF($B11="","",IF($B$2="Automatinis",IF(OR($C11="",$D11="",$E11="",$D11<$C11,M$8<$C11,M$8>$D11),"",$E11/($D11-$C11+1)),IF(M35="",0,M35))) | ... O11: =IF($B11="","",IF($B$2="Automatinis",IF(OR($C11="",$D11="",$E11="",$D11<$C11,O$8<$C11,O$8>$D11),"",$E11/($D11-$C11+1)),IF(O35="",0,O35))) | P11: =IF($B11="","",IF(OR($C11="",$D11="",$E11=""),"NEATITINKA",IF(ROUND(SUM($F11:$O11),6)=ROUND($E11,6),"OK","NEATITINKA")))
A12: =IF('2. Investicijos'!A8="","",'2. Investicijos'!A8) -> 4. | B12: =IF('2. Investicijos'!B8="","",'2. Investicijos'!B8) | C12: =IF('2. Investicijos'!E8="","",'2. Investicijos'!E8) | D12: =IF('2. Investicijos'!F8="","",'2. Investicijos'!F8) | E12: =IF('2. Investicijos'!H8="","",'2. Investicijos'!H8) | F12: =IF($B12="","",IF($B$2="Automatinis",IF(OR($C12="",$D12="",$E12="",$D12<$C12,F$8<$C12,F$8>$D12),"",$E12/($D12-$C12+1)),IF(F36="",0,F36))) | G12: =IF($B12="","",IF($B$2="Automatinis",IF(OR($C12="",$D12="",$E12="",$D12<$C12,G$8<$C12,G$8>$D12),"",$E12/($D12-$C12+1)),IF(G36="",0,G36))) | H12: =IF($B12="","",IF($B$2="Automatinis",IF(OR($C12="",$D12="",$E12="",$D12<$C12,H$8<$C12,H$8>$D12),"",$E12/($D12-$C12+1)),IF(H36="",0,H36))) | I12: =IF($B12="","",IF($B$2="Automatinis",IF(OR($C12="",$D12="",$E12="",$D12<$C12,I$8<$C12,I$8>$D12),"",$E12/($D12-$C12+1)),IF(I36="",0,I36))) | J12: =IF($B12="","",IF($B$2="Automatinis",IF(OR($C12="",$D12="",$E12="",$D12<$C12,J$8<$C12,J$8>$D12),"",$E12/($D12-$C12+1)),IF(J36="",0,J36))) | K12: =IF($B12="","",IF($B$2="Automatinis",IF(OR($C12="",$D12="",$E12="",$D12<$C12,K$8<$C12,K$8>$D12),"",$E12/($D12-$C12+1)),IF(K36="",0,K36))) | L12: =IF($B12="","",IF($B$2="Automatinis",IF(OR($C12="",$D12="",$E12="",$D12<$C12,L$8<$C12,L$8>$D12),"",$E12/($D12-$C12+1)),IF(L36="",0,L36))) | M12: =IF($B12="","",IF($B$2="Automatinis",IF(OR($C12="",$D12="",$E12="",$D12<$C12,M$8<$C12,M$8>$D12),"",$E12/($D12-$C12+1)),IF(M36="",0,M36))) | ... O12: =IF($B12="","",IF($B$2="Automatinis",IF(OR($C12="",$D12="",$E12="",$D12<$C12,O$8<$C12,O$8>$D12),"",$E12/($D12-$C12+1)),IF(O36="",0,O36))) | P12: =IF($B12="","",IF(OR($C12="",$D12="",$E12=""),"NEATITINKA",IF(ROUND(SUM($F12:$O12),6)=ROUND($E12,6),"OK","NEATITINKA")))
A13: =IF('2. Investicijos'!A9="","",'2. Investicijos'!A9) -> 5. | B13: =IF('2. Investicijos'!B9="","",'2. Investicijos'!B9) | C13: =IF('2. Investicijos'!E9="","",'2. Investicijos'!E9) | D13: =IF('2. Investicijos'!F9="","",'2. Investicijos'!F9) | E13: =IF('2. Investicijos'!H9="","",'2. Investicijos'!H9) | F13: =IF($B13="","",IF($B$2="Automatinis",IF(OR($C13="",$D13="",$E13="",$D13<$C13,F$8<$C13,F$8>$D13),"",$E13/($D13-$C13+1)),IF(F37="",0,F37))) | G13: =IF($B13="","",IF($B$2="Automatinis",IF(OR($C13="",$D13="",$E13="",$D13<$C13,G$8<$C13,G$8>$D13),"",$E13/($D13-$C13+1)),IF(G37="",0,G37))) | H13: =IF($B13="","",IF($B$2="Automatinis",IF(OR($C13="",$D13="",$E13="",$D13<$C13,H$8<$C13,H$8>$D13),"",$E13/($D13-$C13+1)),IF(H37="",0,H37))) | I13: =IF($B13="","",IF($B$2="Automatinis",IF(OR($C13="",$D13="",$E13="",$D13<$C13,I$8<$C13,I$8>$D13),"",$E13/($D13-$C13+1)),IF(I37="",0,I37))) | J13: =IF($B13="","",IF($B$2="Automatinis",IF(OR($C13="",$D13="",$E13="",$D13<$C13,J$8<$C13,J$8>$D13),"",$E13/($D13-$C13+1)),IF(J37="",0,J37))) | K13: =IF($B13="","",IF($B$2="Automatinis",IF(OR($C13="",$D13="",$E13="",$D13<$C13,K$8<$C13,K$8>$D13),"",$E13/($D13-$C13+1)),IF(K37="",0,K37))) | L13: =IF($B13="","",IF($B$2="Automatinis",IF(OR($C13="",$D13="",$E13="",$D13<$C13,L$8<$C13,L$8>$D13),"",$E13/($D13-$C13+1)),IF(L37="",0,L37))) | M13: =IF($B13="","",IF($B$2="Automatinis",IF(OR($C13="",$D13="",$E13="",$D13<$C13,M$8<$C13,M$8>$D13),"",$E13/($D13-$C13+1)),IF(M37="",0,M37))) | ... O13: =IF($B13="","",IF($B$2="Automatinis",IF(OR($C13="",$D13="",$E13="",$D13<$C13,O$8<$C13,O$8>$D13),"",$E13/($D13-$C13+1)),IF(O37="",0,O37))) | P13: =IF($B13="","",IF(OR($C13="",$D13="",$E13=""),"NEATITINKA",IF(ROUND(SUM($F13:$O13),6)=ROUND($E13,6),"OK","NEATITINKA")))
A14: =IF('2. Investicijos'!A10="","",'2. Investicijos'!A10) -> 6. | B14: =IF('2. Investicijos'!B10="","",'2. Investicijos'!B10) | C14: =IF('2. Investicijos'!E10="","",'2. Investicijos'!E10) | D14: =IF('2. Investicijos'!F10="","",'2. Investicijos'!F10) | E14: =IF('2. Investicijos'!H10="","",'2. Investicijos'!H10) | F14: =IF($B14="","",IF($B$2="Automatinis",IF(OR($C14="",$D14="",$E14="",$D14<$C14,F$8<$C14,F$8>$D14),"",$E14/($D14-$C14+1)),IF(F38="",0,F38))) | G14: =IF($B14="","",IF($B$2="Automatinis",IF(OR($C14="",$D14="",$E14="",$D14<$C14,G$8<$C14,G$8>$D14),"",$E14/($D14-$C14+1)),IF(G38="",0,G38))) | H14: =IF($B14="","",IF($B$2="Automatinis",IF(OR($C14="",$D14="",$E14="",$D14<$C14,H$8<$C14,H$8>$D14),"",$E14/($D14-$C14+1)),IF(H38="",0,H38))) | I14: =IF($B14="","",IF($B$2="Automatinis",IF(OR($C14="",$D14="",$E14="",$D14<$C14,I$8<$C14,I$8>$D14),"",$E14/($D14-$C14+1)),IF(I38="",0,I38))) | J14: =IF($B14="","",IF($B$2="Automatinis",IF(OR($C14="",$D14="",$E14="",$D14<$C14,J$8<$C14,J$8>$D14),"",$E14/($D14-$C14+1)),IF(J38="",0,J38))) | K14: =IF($B14="","",IF($B$2="Automatinis",IF(OR($C14="",$D14="",$E14="",$D14<$C14,K$8<$C14,K$8>$D14),"",$E14/($D14-$C14+1)),IF(K38="",0,K38))) | L14: =IF($B14="","",IF($B$2="Automatinis",IF(OR($C14="",$D14="",$E14="",$D14<$C14,L$8<$C14,L$8>$D14),"",$E14/($D14-$C14+1)),IF(L38="",0,L38))) | M14: =IF($B14="","",IF($B$2="Automatinis",IF(OR($C14="",$D14="",$E14="",$D14<$C14,M$8<$C14,M$8>$D14),"",$E14/($D14-$C14+1)),IF(M38="",0,M38))) | ... O14: =IF($B14="","",IF($B$2="Automatinis",IF(OR($C14="",$D14="",$E14="",$D14<$C14,O$8<$C14,O$8>$D14),"",$E14/($D14-$C14+1)),IF(O38="",0,O38))) | P14: =IF($B14="","",IF(OR($C14="",$D14="",$E14=""),"NEATITINKA",IF(ROUND(SUM($F14:$O14),6)=ROUND($E14,6),"OK","NEATITINKA")))
A15: =IF('2. Investicijos'!A11="","",'2. Investicijos'!A11) -> 7. | B15: =IF('2. Investicijos'!B11="","",'2. Investicijos'!B11) | C15: =IF('2. Investicijos'!E11="","",'2. Investicijos'!E11) | D15: =IF('2. Investicijos'!F11="","",'2. Investicijos'!F11) | E15: =IF('2. Investicijos'!H11="","",'2. Investicijos'!H11) | F15: =IF($B15="","",IF($B$2="Automatinis",IF(OR($C15="",$D15="",$E15="",$D15<$C15,F$8<$C15,F$8>$D15),"",$E15/($D15-$C15+1)),IF(F39="",0,F39))) | G15: =IF($B15="","",IF($B$2="Automatinis",IF(OR($C15="",$D15="",$E15="",$D15<$C15,G$8<$C15,G$8>$D15),"",$E15/($D15-$C15+1)),IF(G39="",0,G39))) | H15: =IF($B15="","",IF($B$2="Automatinis",IF(OR($C15="",$D15="",$E15="",$D15<$C15,H$8<$C15,H$8>$D15),"",$E15/($D15-$C15+1)),IF(H39="",0,H39))) | I15: =IF($B15="","",IF($B$2="Automatinis",IF(OR($C15="",$D15="",$E15="",$D15<$C15,I$8<$C15,I$8>$D15),"",$E15/($D15-$C15+1)),IF(I39="",0,I39))) | J15: =IF($B15="","",IF($B$2="Automatinis",IF(OR($C15="",$D15="",$E15="",$D15<$C15,J$8<$C15,J$8>$D15),"",$E15/($D15-$C15+1)),IF(J39="",0,J39))) | K15: =IF($B15="","",IF($B$2="Automatinis",IF(OR($C15="",$D15="",$E15="",$D15<$C15,K$8<$C15,K$8>$D15),"",$E15/($D15-$C15+1)),IF(K39="",0,K39))) | L15: =IF($B15="","",IF($B$2="Automatinis",IF(OR($C15="",$D15="",$E15="",$D15<$C15,L$8<$C15,L$8>$D15),"",$E15/($D15-$C15+1)),IF(L39="",0,L39))) | M15: =IF($B15="","",IF($B$2="Automatinis",IF(OR($C15="",$D15="",$E15="",$D15<$C15,M$8<$C15,M$8>$D15),"",$E15/($D15-$C15+1)),IF(M39="",0,M39))) | ... O15: =IF($B15="","",IF($B$2="Automatinis",IF(OR($C15="",$D15="",$E15="",$D15<$C15,O$8<$C15,O$8>$D15),"",$E15/($D15-$C15+1)),IF(O39="",0,O39))) | P15: =IF($B15="","",IF(OR($C15="",$D15="",$E15=""),"NEATITINKA",IF(ROUND(SUM($F15:$O15),6)=ROUND($E15,6),"OK","NEATITINKA")))
A16: =IF('2. Investicijos'!A12="","",'2. Investicijos'!A12) -> 8. | B16: =IF('2. Investicijos'!B12="","",'2. Investicijos'!B12) | C16: =IF('2. Investicijos'!E12="","",'2. Investicijos'!E12) | D16: =IF('2. Investicijos'!F12="","",'2. Investicijos'!F12) | E16: =IF('2. Investicijos'!H12="","",'2. Investicijos'!H12) | F16: =IF($B16="","",IF($B$2="Automatinis",IF(OR($C16="",$D16="",$E16="",$D16<$C16,F$8<$C16,F$8>$D16),"",$E16/($D16-$C16+1)),IF(F40="",0,F40))) | G16: =IF($B16="","",IF($B$2="Automatinis",IF(OR($C16="",$D16="",$E16="",$D16<$C16,G$8<$C16,G$8>$D16),"",$E16/($D16-$C16+1)),IF(G40="",0,G40))) | H16: =IF($B16="","",IF($B$2="Automatinis",IF(OR($C16="",$D16="",$E16="",$D16<$C16,H$8<$C16,H$8>$D16),"",$E16/($D16-$C16+1)),IF(H40="",0,H40))) | I16: =IF($B16="","",IF($B$2="Automatinis",IF(OR($C16="",$D16="",$E16="",$D16<$C16,I$8<$C16,I$8>$D16),"",$E16/($D16-$C16+1)),IF(I40="",0,I40))) | J16: =IF($B16="","",IF($B$2="Automatinis",IF(OR($C16="",$D16="",$E16="",$D16<$C16,J$8<$C16,J$8>$D16),"",$E16/($D16-$C16+1)),IF(J40="",0,J40))) | K16: =IF($B16="","",IF($B$2="Automatinis",IF(OR($C16="",$D16="",$E16="",$D16<$C16,K$8<$C16,K$8>$D16),"",$E16/($D16-$C16+1)),IF(K40="",0,K40))) | L16: =IF($B16="","",IF($B$2="Automatinis",IF(OR($C16="",$D16="",$E16="",$D16<$C16,L$8<$C16,L$8>$D16),"",$E16/($D16-$C16+1)),IF(L40="",0,L40))) | M16: =IF($B16="","",IF($B$2="Automatinis",IF(OR($C16="",$D16="",$E16="",$D16<$C16,M$8<$C16,M$8>$D16),"",$E16/($D16-$C16+1)),IF(M40="",0,M40))) | ... O16: =IF($B16="","",IF($B$2="Automatinis",IF(OR($C16="",$D16="",$E16="",$D16<$C16,O$8<$C16,O$8>$D16),"",$E16/($D16-$C16+1)),IF(O40="",0,O40))) | P16: =IF($B16="","",IF(OR($C16="",$D16="",$E16=""),"NEATITINKA",IF(ROUND(SUM($F16:$O16),6)=ROUND($E16,6),"OK","NEATITINKA")))
A17: =IF('2. Investicijos'!A13="","",'2. Investicijos'!A13) -> 9. | B17: =IF('2. Investicijos'!B13="","",'2. Investicijos'!B13) | C17: =IF('2. Investicijos'!E13="","",'2. Investicijos'!E13) | D17: =IF('2. Investicijos'!F13="","",'2. Investicijos'!F13) | E17: =IF('2. Investicijos'!H13="","",'2. Investicijos'!H13) | F17: =IF($B17="","",IF($B$2="Automatinis",IF(OR($C17="",$D17="",$E17="",$D17<$C17,F$8<$C17,F$8>$D17),"",$E17/($D17-$C17+1)),IF(F41="",0,F41))) | G17: =IF($B17="","",IF($B$2="Automatinis",IF(OR($C17="",$D17="",$E17="",$D17<$C17,G$8<$C17,G$8>$D17),"",$E17/($D17-$C17+1)),IF(G41="",0,G41))) | H17: =IF($B17="","",IF($B$2="Automatinis",IF(OR($C17="",$D17="",$E17="",$D17<$C17,H$8<$C17,H$8>$D17),"",$E17/($D17-$C17+1)),IF(H41="",0,H41))) | I17: =IF($B17="","",IF($B$2="Automatinis",IF(OR($C17="",$D17="",$E17="",$D17<$C17,I$8<$C17,I$8>$D17),"",$E17/($D17-$C17+1)),IF(I41="",0,I41))) | J17: =IF($B17="","",IF($B$2="Automatinis",IF(OR($C17="",$D17="",$E17="",$D17<$C17,J$8<$C17,J$8>$D17),"",$E17/($D17-$C17+1)),IF(J41="",0,J41))) | K17: =IF($B17="","",IF($B$2="Automatinis",IF(OR($C17="",$D17="",$E17="",$D17<$C17,K$8<$C17,K$8>$D17),"",$E17/($D17-$C17+1)),IF(K41="",0,K41))) | L17: =IF($B17="","",IF($B$2="Automatinis",IF(OR($C17="",$D17="",$E17="",$D17<$C17,L$8<$C17,L$8>$D17),"",$E17/($D17-$C17+1)),IF(L41="",0,L41))) | M17: =IF($B17="","",IF($B$2="Automatinis",IF(OR($C17="",$D17="",$E17="",$D17<$C17,M$8<$C17,M$8>$D17),"",$E17/($D17-$C17+1)),IF(M41="",0,M41))) | ... O17: =IF($B17="","",IF($B$2="Automatinis",IF(OR($C17="",$D17="",$E17="",$D17<$C17,O$8<$C17,O$8>$D17),"",$E17/($D17-$C17+1)),IF(O41="",0,O41))) | P17: =IF($B17="","",IF(OR($C17="",$D17="",$E17=""),"NEATITINKA",IF(ROUND(SUM($F17:$O17),6)=ROUND($E17,6),"OK","NEATITINKA")))
A18: =IF('2. Investicijos'!A14="","",'2. Investicijos'!A14) -> 10. | B18: =IF('2. Investicijos'!B14="","",'2. Investicijos'!B14) | C18: =IF('2. Investicijos'!E14="","",'2. Investicijos'!E14) | D18: =IF('2. Investicijos'!F14="","",'2. Investicijos'!F14) | E18: =IF('2. Investicijos'!H14="","",'2. Investicijos'!H14) | F18: =IF($B18="","",IF($B$2="Automatinis",IF(OR($C18="",$D18="",$E18="",$D18<$C18,F$8<$C18,F$8>$D18),"",$E18/($D18-$C18+1)),IF(F42="",0,F42))) | G18: =IF($B18="","",IF($B$2="Automatinis",IF(OR($C18="",$D18="",$E18="",$D18<$C18,G$8<$C18,G$8>$D18),"",$E18/($D18-$C18+1)),IF(G42="",0,G42))) | H18: =IF($B18="","",IF($B$2="Automatinis",IF(OR($C18="",$D18="",$E18="",$D18<$C18,H$8<$C18,H$8>$D18),"",$E18/($D18-$C18+1)),IF(H42="",0,H42))) | I18: =IF($B18="","",IF($B$2="Automatinis",IF(OR($C18="",$D18="",$E18="",$D18<$C18,I$8<$C18,I$8>$D18),"",$E18/($D18-$C18+1)),IF(I42="",0,I42))) | J18: =IF($B18="","",IF($B$2="Automatinis",IF(OR($C18="",$D18="",$E18="",$D18<$C18,J$8<$C18,J$8>$D18),"",$E18/($D18-$C18+1)),IF(J42="",0,J42))) | K18: =IF($B18="","",IF($B$2="Automatinis",IF(OR($C18="",$D18="",$E18="",$D18<$C18,K$8<$C18,K$8>$D18),"",$E18/($D18-$C18+1)),IF(K42="",0,K42))) | L18: =IF($B18="","",IF($B$2="Automatinis",IF(OR($C18="",$D18="",$E18="",$D18<$C18,L$8<$C18,L$8>$D18),"",$E18/($D18-$C18+1)),IF(L42="",0,L42))) | M18: =IF($B18="","",IF($B$2="Automatinis",IF(OR($C18="",$D18="",$E18="",$D18<$C18,M$8<$C18,M$8>$D18),"",$E18/($D18-$C18+1)),IF(M42="",0,M42))) | ... O18: =IF($B18="","",IF($B$2="Automatinis",IF(OR($C18="",$D18="",$E18="",$D18<$C18,O$8<$C18,O$8>$D18),"",$E18/($D18-$C18+1)),IF(O42="",0,O42))) | P18: =IF($B18="","",IF(OR($C18="",$D18="",$E18=""),"NEATITINKA",IF(ROUND(SUM($F18:$O18),6)=ROUND($E18,6),"OK","NEATITINKA")))
A19: =IF('2. Investicijos'!A15="","",'2. Investicijos'!A15) -> 11. | B19: =IF('2. Investicijos'!B15="","",'2. Investicijos'!B15) | C19: =IF('2. Investicijos'!E15="","",'2. Investicijos'!E15) | D19: =IF('2. Investicijos'!F15="","",'2. Investicijos'!F15) | E19: =IF('2. Investicijos'!H15="","",'2. Investicijos'!H15) | F19: =IF($B19="","",IF($B$2="Automatinis",IF(OR($C19="",$D19="",$E19="",$D19<$C19,F$8<$C19,F$8>$D19),"",$E19/($D19-$C19+1)),IF(F43="",0,F43))) | G19: =IF($B19="","",IF($B$2="Automatinis",IF(OR($C19="",$D19="",$E19="",$D19<$C19,G$8<$C19,G$8>$D19),"",$E19/($D19-$C19+1)),IF(G43="",0,G43))) | H19: =IF($B19="","",IF($B$2="Automatinis",IF(OR($C19="",$D19="",$E19="",$D19<$C19,H$8<$C19,H$8>$D19),"",$E19/($D19-$C19+1)),IF(H43="",0,H43))) | I19: =IF($B19="","",IF($B$2="Automatinis",IF(OR($C19="",$D19="",$E19="",$D19<$C19,I$8<$C19,I$8>$D19),"",$E19/($D19-$C19+1)),IF(I43="",0,I43))) | J19: =IF($B19="","",IF($B$2="Automatinis",IF(OR($C19="",$D19="",$E19="",$D19<$C19,J$8<$C19,J$8>$D19),"",$E19/($D19-$C19+1)),IF(J43="",0,J43))) | K19: =IF($B19="","",IF($B$2="Automatinis",IF(OR($C19="",$D19="",$E19="",$D19<$C19,K$8<$C19,K$8>$D19),"",$E19/($D19-$C19+1)),IF(K43="",0,K43))) | L19: =IF($B19="","",IF($B$2="Automatinis",IF(OR($C19="",$D19="",$E19="",$D19<$C19,L$8<$C19,L$8>$D19),"",$E19/($D19-$C19+1)),IF(L43="",0,L43))) | M19: =IF($B19="","",IF($B$2="Automatinis",IF(OR($C19="",$D19="",$E19="",$D19<$C19,M$8<$C19,M$8>$D19),"",$E19/($D19-$C19+1)),IF(M43="",0,M43))) | ... O19: =IF($B19="","",IF($B$2="Automatinis",IF(OR($C19="",$D19="",$E19="",$D19<$C19,O$8<$C19,O$8>$D19),"",$E19/($D19-$C19+1)),IF(O43="",0,O43))) | P19: =IF($B19="","",IF(OR($C19="",$D19="",$E19=""),"NEATITINKA",IF(ROUND(SUM($F19:$O19),6)=ROUND($E19,6),"OK","NEATITINKA")))
A20: =IF('2. Investicijos'!A16="","",'2. Investicijos'!A16) -> 12. | B20: =IF('2. Investicijos'!B16="","",'2. Investicijos'!B16) | C20: =IF('2. Investicijos'!E16="","",'2. Investicijos'!E16) | D20: =IF('2. Investicijos'!F16="","",'2. Investicijos'!F16) | E20: =IF('2. Investicijos'!H16="","",'2. Investicijos'!H16) | F20: =IF($B20="","",IF($B$2="Automatinis",IF(OR($C20="",$D20="",$E20="",$D20<$C20,F$8<$C20,F$8>$D20),"",$E20/($D20-$C20+1)),IF(F44="",0,F44))) | G20: =IF($B20="","",IF($B$2="Automatinis",IF(OR($C20="",$D20="",$E20="",$D20<$C20,G$8<$C20,G$8>$D20),"",$E20/($D20-$C20+1)),IF(G44="",0,G44))) | H20: =IF($B20="","",IF($B$2="Automatinis",IF(OR($C20="",$D20="",$E20="",$D20<$C20,H$8<$C20,H$8>$D20),"",$E20/($D20-$C20+1)),IF(H44="",0,H44))) | I20: =IF($B20="","",IF($B$2="Automatinis",IF(OR($C20="",$D20="",$E20="",$D20<$C20,I$8<$C20,I$8>$D20),"",$E20/($D20-$C20+1)),IF(I44="",0,I44))) | J20: =IF($B20="","",IF($B$2="Automatinis",IF(OR($C20="",$D20="",$E20="",$D20<$C20,J$8<$C20,J$8>$D20),"",$E20/($D20-$C20+1)),IF(J44="",0,J44))) | K20: =IF($B20="","",IF($B$2="Automatinis",IF(OR($C20="",$D20="",$E20="",$D20<$C20,K$8<$C20,K$8>$D20),"",$E20/($D20-$C20+1)),IF(K44="",0,K44))) | L20: =IF($B20="","",IF($B$2="Automatinis",IF(OR($C20="",$D20="",$E20="",$D20<$C20,L$8<$C20,L$8>$D20),"",$E20/($D20-$C20+1)),IF(L44="",0,L44))) | M20: =IF($B20="","",IF($B$2="Automatinis",IF(OR($C20="",$D20="",$E20="",$D20<$C20,M$8<$C20,M$8>$D20),"",$E20/($D20-$C20+1)),IF(M44="",0,M44))) | ... O20: =IF($B20="","",IF($B$2="Automatinis",IF(OR($C20="",$D20="",$E20="",$D20<$C20,O$8<$C20,O$8>$D20),"",$E20/($D20-$C20+1)),IF(O44="",0,O44))) | P20: =IF($B20="","",IF(OR($C20="",$D20="",$E20=""),"NEATITINKA",IF(ROUND(SUM($F20:$O20),6)=ROUND($E20,6),"OK","NEATITINKA")))
... A28: =IF('2. Investicijos'!A24="","",'2. Investicijos'!A24) -> 20. | B28: =IF('2. Investicijos'!B24="","",'2. Investicijos'!B24) | C28: =IF('2. Investicijos'!E24="","",'2. Investicijos'!E24) | D28: =IF('2. Investicijos'!F24="","",'2. Investicijos'!F24) | E28: =IF('2. Investicijos'!H24="","",'2. Investicijos'!H24) | F28: =IF($B28="","",IF($B$2="Automatinis",IF(OR($C28="",$D28="",$E28="",$D28<$C28,F$8<$C28,F$8>$D28),"",$E28/($D28-$C28+1)),IF(F52="",0,F52))) | G28: =IF($B28="","",IF($B$2="Automatinis",IF(OR($C28="",$D28="",$E28="",$D28<$C28,G$8<$C28,G$8>$D28),"",$E28/($D28-$C28+1)),IF(G52="",0,G52))) | H28: =IF($B28="","",IF($B$2="Automatinis",IF(OR($C28="",$D28="",$E28="",$D28<$C28,H$8<$C28,H$8>$D28),"",$E28/($D28-$C28+1)),IF(H52="",0,H52))) | I28: =IF($B28="","",IF($B$2="Automatinis",IF(OR($C28="",$D28="",$E28="",$D28<$C28,I$8<$C28,I$8>$D28),"",$E28/($D28-$C28+1)),IF(I52="",0,I52))) | J28: =IF($B28="","",IF($B$2="Automatinis",IF(OR($C28="",$D28="",$E28="",$D28<$C28,J$8<$C28,J$8>$D28),"",$E28/($D28-$C28+1)),IF(J52="",0,J52))) | K28: =IF($B28="","",IF($B$2="Automatinis",IF(OR($C28="",$D28="",$E28="",$D28<$C28,K$8<$C28,K$8>$D28),"",$E28/($D28-$C28+1)),IF(K52="",0,K52))) | L28: =IF($B28="","",IF($B$2="Automatinis",IF(OR($C28="",$D28="",$E28="",$D28<$C28,L$8<$C28,L$8>$D28),"",$E28/($D28-$C28+1)),IF(L52="",0,L52))) | M28: =IF($B28="","",IF($B$2="Automatinis",IF(OR($C28="",$D28="",$E28="",$D28<$C28,M$8<$C28,M$8>$D28),"",$E28/($D28-$C28+1)),IF(M52="",0,M52))) | ... O28: =IF($B28="","",IF($B$2="Automatinis",IF(OR($C28="",$D28="",$E28="",$D28<$C28,O$8<$C28,O$8>$D28),"",$E28/($D28-$C28+1)),IF(O52="",0,O52))) | P28: =IF($B28="","",IF(OR($C28="",$D28="",$E28=""),"NEATITINKA",IF(ROUND(SUM($F28:$O28),6)=ROUND($E28,6),"OK","NEATITINKA")))
A29: BENDRA | E29: =SUM(E9:E28) -> 0 | F29: =SUM(F9:F28) -> 0 | G29: =SUM(G9:G28) -> 0 | H29: =SUM(H9:H28) -> 0 | I29: =SUM(I9:I28) -> 0 | J29: =SUM(J9:J28) -> 0 | K29: =SUM(K9:K28) -> 0 | L29: =SUM(L9:L28) -> 0 | ... O29: =SUM(O9:O28) -> 0 | P29: =IF(COUNTBLANK($B$9:$B$28)=ROWS($B$9:$B$28),"",IF(ROUND($E29,6)=ROUND(SUM($F29:$O29),6),"OK","NEATITINKA"))
A31: RANKINIS CAPEX ĮVEDIMAS – NAUDOJAMAS TIK PASIRINKUS „RANKINIS“
A32: Eil. Nr. | B32: Investicija | C32: Nuo | D32: Iki | E32: Investicijos suma (Eur) | F32: ='3. Finansinės prielaidos'!C26 -> 2026 | G32: ='3. Finansinės prielaidos'!D26 -> 2027 | H32: ='3. Finansinės prielaidos'!E26 -> 2028 | I32: ='3. Finansinės prielaidos'!F26 -> 2029 | J32: ='3. Finansinės prielaidos'!G26 -> 2030 | K32: ='3. Finansinės prielaidos'!H26 -> 2031 | L32: ='3. Finansinės prielaidos'!I26 -> 2032 | M32: ='3. Finansinės prielaidos'!J26 -> 2033 | ... O32: ='3. Finansinės prielaidos'!L26 -> 2035 | P32: Kontrolė
A33: =IF('2. Investicijos'!A5="","",'2. Investicijos'!A5) -> 1. | B33: =IF('2. Investicijos'!B5="","",'2. Investicijos'!B5) | C33: =IF('2. Investicijos'!E5="","",'2. Investicijos'!E5) | D33: =IF('2. Investicijos'!F5="","",'2. Investicijos'!F5) | E33: =IF('2. Investicijos'!H5="","",'2. Investicijos'!H5) | P33: =IF($B$2<>"Rankinis","",IF($B33="","",IF(ROUND(SUM($F33:$O33),6)=ROUND($E33,6),"OK","NEATITINKA")))
A34: =IF('2. Investicijos'!A6="","",'2. Investicijos'!A6) -> 2. | B34: =IF('2. Investicijos'!B6="","",'2. Investicijos'!B6) | C34: =IF('2. Investicijos'!E6="","",'2. Investicijos'!E6) | D34: =IF('2. Investicijos'!F6="","",'2. Investicijos'!F6) | E34: =IF('2. Investicijos'!H6="","",'2. Investicijos'!H6) | P34: =IF($B$2<>"Rankinis","",IF($B34="","",IF(ROUND(SUM($F34:$O34),6)=ROUND($E34,6),"OK","NEATITINKA")))
A35: =IF('2. Investicijos'!A7="","",'2. Investicijos'!A7) -> 3. | B35: =IF('2. Investicijos'!B7="","",'2. Investicijos'!B7) | C35: =IF('2. Investicijos'!E7="","",'2. Investicijos'!E7) | D35: =IF('2. Investicijos'!F7="","",'2. Investicijos'!F7) | E35: =IF('2. Investicijos'!H7="","",'2. Investicijos'!H7) | P35: =IF($B$2<>"Rankinis","",IF($B35="","",IF(ROUND(SUM($F35:$O35),6)=ROUND($E35,6),"OK","NEATITINKA")))
A36: =IF('2. Investicijos'!A8="","",'2. Investicijos'!A8) -> 4. | B36: =IF('2. Investicijos'!B8="","",'2. Investicijos'!B8) | C36: =IF('2. Investicijos'!E8="","",'2. Investicijos'!E8) | D36: =IF('2. Investicijos'!F8="","",'2. Investicijos'!F8) | E36: =IF('2. Investicijos'!H8="","",'2. Investicijos'!H8) | P36: =IF($B$2<>"Rankinis","",IF($B36="","",IF(ROUND(SUM($F36:$O36),6)=ROUND($E36,6),"OK","NEATITINKA")))
A37: =IF('2. Investicijos'!A9="","",'2. Investicijos'!A9) -> 5. | B37: =IF('2. Investicijos'!B9="","",'2. Investicijos'!B9) | C37: =IF('2. Investicijos'!E9="","",'2. Investicijos'!E9) | D37: =IF('2. Investicijos'!F9="","",'2. Investicijos'!F9) | E37: =IF('2. Investicijos'!H9="","",'2. Investicijos'!H9) | P37: =IF($B$2<>"Rankinis","",IF($B37="","",IF(ROUND(SUM($F37:$O37),6)=ROUND($E37,6),"OK","NEATITINKA")))
A38: =IF('2. Investicijos'!A10="","",'2. Investicijos'!A10) -> 6. | B38: =IF('2. Investicijos'!B10="","",'2. Investicijos'!B10) | C38: =IF('2. Investicijos'!E10="","",'2. Investicijos'!E10) | D38: =IF('2. Investicijos'!F10="","",'2. Investicijos'!F10) | E38: =IF('2. Investicijos'!H10="","",'2. Investicijos'!H10) | P38: =IF($B$2<>"Rankinis","",IF($B38="","",IF(ROUND(SUM($F38:$O38),6)=ROUND($E38,6),"OK","NEATITINKA")))
A39: =IF('2. Investicijos'!A11="","",'2. Investicijos'!A11) -> 7. | B39: =IF('2. Investicijos'!B11="","",'2. Investicijos'!B11) | C39: =IF('2. Investicijos'!E11="","",'2. Investicijos'!E11) | D39: =IF('2. Investicijos'!F11="","",'2. Investicijos'!F11) | E39: =IF('2. Investicijos'!H11="","",'2. Investicijos'!H11) | P39: =IF($B$2<>"Rankinis","",IF($B39="","",IF(ROUND(SUM($F39:$O39),6)=ROUND($E39,6),"OK","NEATITINKA")))
A40: =IF('2. Investicijos'!A12="","",'2. Investicijos'!A12) -> 8. | B40: =IF('2. Investicijos'!B12="","",'2. Investicijos'!B12) | C40: =IF('2. Investicijos'!E12="","",'2. Investicijos'!E12) | D40: =IF('2. Investicijos'!F12="","",'2. Investicijos'!F12) | E40: =IF('2. Investicijos'!H12="","",'2. Investicijos'!H12) | P40: =IF($B$2<>"Rankinis","",IF($B40="","",IF(ROUND(SUM($F40:$O40),6)=ROUND($E40,6),"OK","NEATITINKA")))
A41: =IF('2. Investicijos'!A13="","",'2. Investicijos'!A13) -> 9. | B41: =IF('2. Investicijos'!B13="","",'2. Investicijos'!B13) | C41: =IF('2. Investicijos'!E13="","",'2. Investicijos'!E13) | D41: =IF('2. Investicijos'!F13="","",'2. Investicijos'!F13) | E41: =IF('2. Investicijos'!H13="","",'2. Investicijos'!H13) | P41: =IF($B$2<>"Rankinis","",IF($B41="","",IF(ROUND(SUM($F41:$O41),6)=ROUND($E41,6),"OK","NEATITINKA")))
A42: =IF('2. Investicijos'!A14="","",'2. Investicijos'!A14) -> 10. | B42: =IF('2. Investicijos'!B14="","",'2. Investicijos'!B14) | C42: =IF('2. Investicijos'!E14="","",'2. Investicijos'!E14) | D42: =IF('2. Investicijos'!F14="","",'2. Investicijos'!F14) | E42: =IF('2. Investicijos'!H14="","",'2. Investicijos'!H14) | P42: =IF($B$2<>"Rankinis","",IF($B42="","",IF(ROUND(SUM($F42:$O42),6)=ROUND($E42,6),"OK","NEATITINKA")))
A43: =IF('2. Investicijos'!A15="","",'2. Investicijos'!A15) -> 11. | B43: =IF('2. Investicijos'!B15="","",'2. Investicijos'!B15) | C43: =IF('2. Investicijos'!E15="","",'2. Investicijos'!E15) | D43: =IF('2. Investicijos'!F15="","",'2. Investicijos'!F15) | E43: =IF('2. Investicijos'!H15="","",'2. Investicijos'!H15) | P43: =IF($B$2<>"Rankinis","",IF($B43="","",IF(ROUND(SUM($F43:$O43),6)=ROUND($E43,6),"OK","NEATITINKA")))
A44: =IF('2. Investicijos'!A16="","",'2. Investicijos'!A16) -> 12. | B44: =IF('2. Investicijos'!B16="","",'2. Investicijos'!B16) | C44: =IF('2. Investicijos'!E16="","",'2. Investicijos'!E16) | D44: =IF('2. Investicijos'!F16="","",'2. Investicijos'!F16) | E44: =IF('2. Investicijos'!H16="","",'2. Investicijos'!H16) | P44: =IF($B$2<>"Rankinis","",IF($B44="","",IF(ROUND(SUM($F44:$O44),6)=ROUND($E44,6),"OK","NEATITINKA")))
... A52: =IF('2. Investicijos'!A24="","",'2. Investicijos'!A24) -> 20. | B52: =IF('2. Investicijos'!B24="","",'2. Investicijos'!B24) | C52: =IF('2. Investicijos'!E24="","",'2. Investicijos'!E24) | D52: =IF('2. Investicijos'!F24="","",'2. Investicijos'!F24) | E52: =IF('2. Investicijos'!H24="","",'2. Investicijos'!H24) | P52: =IF($B$2<>"Rankinis","",IF($B52="","",IF(ROUND(SUM($F52:$O52),6)=ROUND($E52,6),"OK","NEATITINKA")))
A53: BENDRA | E53: =SUM(E33:E52) -> 0 | F53: =SUM(F33:F52) -> 0 | G53: =SUM(G33:G52) -> 0 | H53: =SUM(H33:H52) -> 0 | I53: =SUM(I33:I52) -> 0 | J53: =SUM(J33:J52) -> 0 | K53: =SUM(K33:K52) -> 0 | L53: =SUM(L33:L52) -> 0 | ... O53: =SUM(O33:O52) -> 0 | P53: =IF(COUNTBLANK($B$9:$B$28)=ROWS($B$9:$B$28),"",IF(ROUND($E53,6)=ROUND(SUM($F53:$O53),6),"OK","NEATITINKA"))

Sheet 5. 0% scenarijus
A1: 0 % SCENARIJUS – SUPLANUOTOS INVESTICIJOS FINANSUOJAMOS BE INVESTICIJŲ DEDAMOSIOS
A2: ="Tikslas: parodyti suplanuoto investicijų portfelio poveikį įmonės finansinei būklei, kai investicijų dedamoji = 0 %. Vertinimo laikotarpis: "&MIN(C7:L7)&"–"&MAX(C7:L7)&" m. Vertinami Investicijų derinimo aprašo 11³.6 papunktyje nustatyti kriterijai: Net Debt / EBITDA ≤ 5,5x ir DSCR ≥ 1,2x." -> Tikslas: parodyti suplanuoto investicijų portfelio poveikį įmonės finansinei būklei, kai investicijų dedamoji = 0 %. Vertinimo laikotarpis: 2026–2035 m. Vertinami Investicijų derinimo aprašo 11³.6 papunktyje nustatyti kriterijai: Net Debt / EBITDA ≤ 5,5x ir DSCR ≥ 1,2x.
A3: Scenarijaus prielaida | B3: Reikšmė | D3: Šaltinis / pastaba
A4: Investicijų dedamoji | C4: 0 | D4: Šiame scenarijuje papildoma investicijų dedamoji lygi 0 %.
A5: Investicijų grąžos norma (%) | C5: % | D5: Taikoma 11 eilutės investicijų ekonominio poveikio skaičiavimui.
A7: Eil. Nr. | B7: Rodiklis | C7: ='3. Finansinės prielaidos'!C26 -> 2026 | D7: ='3. Finansinės prielaidos'!D26 -> 2027 | E7: ='3. Finansinės prielaidos'!E26 -> 2028 | F7: ='3. Finansinės prielaidos'!F26 -> 2029 | G7: ='3. Finansinės prielaidos'!G26 -> 2030 | H7: ='3. Finansinės prielaidos'!H26 -> 2031 | I7: ='3. Finansinės prielaidos'!I26 -> 2032 | J7: ='3. Finansinės prielaidos'!J26 -> 2033 | ... L7: ='3. Finansinės prielaidos'!L26 -> 2035
A8: 1 | B8: Bazė: net EBITDA (Eur) | C8: =IF('3. Finansinės prielaidos'!C29="","",'3. Finansinės prielaidos'!C29) -> 0 | D8: =IF('3. Finansinės prielaidos'!D29="","",'3. Finansinės prielaidos'!D29) -> 0 | E8: =IF('3. Finansinės prielaidos'!E29="","",'3. Finansinės prielaidos'!E29) -> 0 | F8: =IF('3. Finansinės prielaidos'!F29="","",'3. Finansinės prielaidos'!F29) -> 0 | G8: =IF('3. Finansinės prielaidos'!G29="","",'3. Finansinės prielaidos'!G29) -> 0 | H8: =IF('3. Finansinės prielaidos'!H29="","",'3. Finansinės prielaidos'!H29) -> 0 | I8: =IF('3. Finansinės prielaidos'!I29="","",'3. Finansinės prielaidos'!I29) -> 0 | J8: =IF('3. Finansinės prielaidos'!J29="","",'3. Finansinės prielaidos'!J29) -> 0 | ... L8: =IF('3. Finansinės prielaidos'!L29="","",'3. Finansinės prielaidos'!L29) -> 0
A9: 2 | B9: Reguliacinių pajamų nusidėvėjimui poveikis net EBITDA (Eur) | C9: {=IF($C$5="","",SUMPRODUCT(--(C$7>'2. Investicijos'!$F$5:$F$24),--(C$7<='2. Investicijos'!$F$5:$F$24+'2. Investicijos'!$G$5:$G$24),IFERROR(('2. Investicijos'!$M$5:$M$24+'2. Investicijos'!$N$5:$N$24)/'2. Investicijos'!$G$5:$G$24,0)))} -> 0 | D9: {=IF($C$5="","",SUMPRODUCT(--(D$7>'2. Investicijos'!$F$5:$F$24),--(D$7<='2. Investicijos'!$F$5:$F$24+'2. Investicijos'!$G$5:$G$24),IFERROR(('2. Investicijos'!$M$5:$M$24+'2. Investicijos'!$N$5:$N$24)/'2. Investicijos'!$G$5:$G$24,0)))} -> 0 | E9: {=IF($C$5="","",SUMPRODUCT(--(E$7>'2. Investicijos'!$F$5:$F$24),--(E$7<='2. Investicijos'!$F$5:$F$24+'2. Investicijos'!$G$5:$G$24),IFERROR(('2. Investicijos'!$M$5:$M$24+'2. Investicijos'!$N$5:$N$24)/'2. Investicijos'!$G$5:$G$24,0)))} -> 0 | F9: {=IF($C$5="","",SUMPRODUCT(--(F$7>'2. Investicijos'!$F$5:$F$24),--(F$7<='2. Investicijos'!$F$5:$F$24+'2. Investicijos'!$G$5:$G$24),IFERROR(('2. Investicijos'!$M$5:$M$24+'2. Investicijos'!$N$5:$N$24)/'2. Investicijos'!$G$5:$G$24,0)))} -> 0 | G9: {=IF($C$5="","",SUMPRODUCT(--(G$7>'2. Investicijos'!$F$5:$F$24),--(G$7<='2. Investicijos'!$F$5:$F$24+'2. Investicijos'!$G$5:$G$24),IFERROR(('2. Investicijos'!$M$5:$M$24+'2. Investicijos'!$N$5:$N$24)/'2. Investicijos'!$G$5:$G$24,0)))} -> 0 | H9: {=IF($C$5="","",SUMPRODUCT(--(H$7>'2. Investicijos'!$F$5:$F$24),--(H$7<='2. Investicijos'!$F$5:$F$24+'2. Investicijos'!$G$5:$G$24),IFERROR(('2. Investicijos'!$M$5:$M$24+'2. Investicijos'!$N$5:$N$24)/'2. Investicijos'!$G$5:$G$24,0)))} -> 0 | I9: {=IF($C$5="","",SUMPRODUCT(--(I$7>'2. Investicijos'!$F$5:$F$24),--(I$7<='2. Investicijos'!$F$5:$F$24+'2. Investicijos'!$G$5:$G$24),IFERROR(('2. Investicijos'!$M$5:$M$24+'2. Investicijos'!$N$5:$N$24)/'2. Investicijos'!$G$5:$G$24,0)))} -> 0 | J9: {=IF($C$5="","",SUMPRODUCT(--(J$7>'2. Investicijos'!$F$5:$F$24),--(J$7<='2. Investicijos'!$F$5:$F$24+'2. Investicijos'!$G$5:$G$24),IFERROR(('2. Investicijos'!$M$5:$M$24+'2. Investicijos'!$N$5:$N$24)/'2. Investicijos'!$G$5:$G$24,0)))} -> 0 | ... L9: {=IF($C$5="","",SUMPRODUCT(--(L$7>'2. Investicijos'!$F$5:$F$24),--(L$7<='2. Investicijos'!$F$5:$F$24+'2. Investicijos'!$G$5:$G$24),IFERROR(('2. Investicijos'!$M$5:$M$24+'2. Investicijos'!$N$5:$N$24)/'2. Investicijos'!$G$5:$G$24,0)))} -> 0
A10: 3 | B10: Reguliacinių pajamų investicijų grąžai poveikis net EBITDA (Eur) | C10: {=IF($C$5="","",SUMPRODUCT(--(C$7>'2. Investicijos'!$F$5:$F$24),--(C$7<='2. Investicijos'!$F$5:$F$24+'2. Investicijos'!$G$5:$G$24),IFERROR(('2. Investicijos'!$M$5:$M$24+'2. Investicijos'!$N$5:$N$24)*(1-((C$7-'2. Investicijos'!$F$5:$F$24)-1)/'2. Investicijos'!$G$5:$G$24),0))*$C$5)} -> #VALUE! | D10: {=IF($C$5="","",SUMPRODUCT(--(D$7>'2. Investicijos'!$F$5:$F$24),--(D$7<='2. Investicijos'!$F$5:$F$24+'2. Investicijos'!$G$5:$G$24),IFERROR(('2. Investicijos'!$M$5:$M$24+'2. Investicijos'!$N$5:$N$24)*(1-((D$7-'2. Investicijos'!$F$5:$F$24)-1)/'2. Investicijos'!$G$5:$G$24),0))*$C$5)} -> #VALUE! | E10: {=IF($C$5="","",SUMPRODUCT(--(E$7>'2. Investicijos'!$F$5:$F$24),--(E$7<='2. Investicijos'!$F$5:$F$24+'2. Investicijos'!$G$5:$G$24),IFERROR(('2. Investicijos'!$M$5:$M$24+'2. Investicijos'!$N$5:$N$24)*(1-((E$7-'2. Investicijos'!$F$5:$F$24)-1)/'2. Investicijos'!$G$5:$G$24),0))*$C$5)} -> #VALUE! | F10: {=IF($C$5="","",SUMPRODUCT(--(F$7>'2. Investicijos'!$F$5:$F$24),--(F$7<='2. Investicijos'!$F$5:$F$24+'2. Investicijos'!$G$5:$G$24),IFERROR(('2. Investicijos'!$M$5:$M$24+'2. Investicijos'!$N$5:$N$24)*(1-((F$7-'2. Investicijos'!$F$5:$F$24)-1)/'2. Investicijos'!$G$5:$G$24),0))*$C$5)} -> #VALUE! | G10: {=IF($C$5="","",SUMPRODUCT(--(G$7>'2. Investicijos'!$F$5:$F$24),--(G$7<='2. Investicijos'!$F$5:$F$24+'2. Investicijos'!$G$5:$G$24),IFERROR(('2. Investicijos'!$M$5:$M$24+'2. Investicijos'!$N$5:$N$24)*(1-((G$7-'2. Investicijos'!$F$5:$F$24)-1)/'2. Investicijos'!$G$5:$G$24),0))*$C$5)} -> #VALUE! | H10: {=IF($C$5="","",SUMPRODUCT(--(H$7>'2. Investicijos'!$F$5:$F$24),--(H$7<='2. Investicijos'!$F$5:$F$24+'2. Investicijos'!$G$5:$G$24),IFERROR(('2. Investicijos'!$M$5:$M$24+'2. Investicijos'!$N$5:$N$24)*(1-((H$7-'2. Investicijos'!$F$5:$F$24)-1)/'2. Investicijos'!$G$5:$G$24),0))*$C$5)} -> #VALUE! | I10: {=IF($C$5="","",SUMPRODUCT(--(I$7>'2. Investicijos'!$F$5:$F$24),--(I$7<='2. Investicijos'!$F$5:$F$24+'2. Investicijos'!$G$5:$G$24),IFERROR(('2. Investicijos'!$M$5:$M$24+'2. Investicijos'!$N$5:$N$24)*(1-((I$7-'2. Investicijos'!$F$5:$F$24)-1)/'2. Investicijos'!$G$5:$G$24),0))*$C$5)} -> #VALUE! | J10: {=IF($C$5="","",SUMPRODUCT(--(J$7>'2. Investicijos'!$F$5:$F$24),--(J$7<='2. Investicijos'!$F$5:$F$24+'2. Investicijos'!$G$5:$G$24),IFERROR(('2. Investicijos'!$M$5:$M$24+'2. Investicijos'!$N$5:$N$24)*(1-((J$7-'2. Investicijos'!$F$5:$F$24)-1)/'2. Investicijos'!$G$5:$G$24),0))*$C$5)} -> #VALUE! | ... L10: {=IF($C$5="","",SUMPRODUCT(--(L$7>'2. Investicijos'!$F$5:$F$24),--(L$7<='2. Investicijos'!$F$5:$F$24+'2. Investicijos'!$G$5:$G$24),IFERROR(('2. Investicijos'!$M$5:$M$24+'2. Investicijos'!$N$5:$N$24)*(1-((L$7-'2. Investicijos'!$F$5:$F$24)-1)/'2. Investicijos'!$G$5:$G$24),0))*$C$5)} -> #VALUE!
A11: 4 | B11: Scenarijaus EBITDA (Eur) | C11: =IF(C8="","",C8+IFERROR(C9,0)+IFERROR(C10,0)) -> 0 | D11: =IF(D8="","",D8+IFERROR(D9,0)+IFERROR(D10,0)) -> 0 | E11: =IF(E8="","",E8+IFERROR(E9,0)+IFERROR(E10,0)) -> 0 | F11: =IF(F8="","",F8+IFERROR(F9,0)+IFERROR(F10,0)) -> 0 | G11: =IF(G8="","",G8+IFERROR(G9,0)+IFERROR(G10,0)) -> 0 | H11: =IF(H8="","",H8+IFERROR(H9,0)+IFERROR(H10,0)) -> 0 | I11: =IF(I8="","",I8+IFERROR(I9,0)+IFERROR(I10,0)) -> 0 | J11: =IF(J8="","",J8+IFERROR(J9,0)+IFERROR(J10,0)) -> 0 | ... L11: =IF(L8="","",L8+IFERROR(L9,0)+IFERROR(L10,0)) -> 0
A12: 5 | B12: Bazė: finansinė skola metų pabaigoje (Eur) | C12: =IF('3. Finansinės prielaidos'!C30="","",'3. Finansinės prielaidos'!C30) -> 0 | D12: =IF('3. Finansinės prielaidos'!D30="","",'3. Finansinės prielaidos'!D30) -> 0 | E12: =IF('3. Finansinės prielaidos'!E30="","",'3. Finansinės prielaidos'!E30) -> 0 | F12: =IF('3. Finansinės prielaidos'!F30="","",'3. Finansinės prielaidos'!F30) -> 0 | G12: =IF('3. Finansinės prielaidos'!G30="","",'3. Finansinės prielaidos'!G30) -> 0 | H12: =IF('3. Finansinės prielaidos'!H30="","",'3. Finansinės prielaidos'!H30) -> 0 | I12: =IF('3. Finansinės prielaidos'!I30="","",'3. Finansinės prielaidos'!I30) -> 0 | J12: =IF('3. Finansinės prielaidos'!J30="","",'3. Finansinės prielaidos'!J30) -> 0 | ... L12: =IF('3. Finansinės prielaidos'!L30="","",'3. Finansinės prielaidos'!L30) -> 0
A13: 6 | B13: Planuotų paskolų įplaukos (Eur) | C13: ='5A. Pagalbiniai skaičiavimai'!F25 -> 0 | D13: ='5A. Pagalbiniai skaičiavimai'!G25 -> 0 | E13: ='5A. Pagalbiniai skaičiavimai'!H25 -> 0 | F13: ='5A. Pagalbiniai skaičiavimai'!I25 -> 0 | G13: ='5A. Pagalbiniai skaičiavimai'!J25 -> 0 | H13: ='5A. Pagalbiniai skaičiavimai'!K25 -> 0 | I13: ='5A. Pagalbiniai skaičiavimai'!L25 -> 0 | J13: ='5A. Pagalbiniai skaičiavimai'!M25 -> 0 | ... L13: ='5A. Pagalbiniai skaičiavimai'!O25 -> 0
A14: 7 | B14: Planuotų paskolų pagrindinės sumos grąžinimas (Eur) | C14: ='5A. Pagalbiniai skaičiavimai'!P25 -> 0 | D14: ='5A. Pagalbiniai skaičiavimai'!Q25 -> 0 | E14: ='5A. Pagalbiniai skaičiavimai'!R25 -> 0 | F14: ='5A. Pagalbiniai skaičiavimai'!S25 -> 0 | G14: ='5A. Pagalbiniai skaičiavimai'!T25 -> 0 | H14: ='5A. Pagalbiniai skaičiavimai'!U25 -> 0 | I14: ='5A. Pagalbiniai skaičiavimai'!V25 -> 0 | J14: ='5A. Pagalbiniai skaičiavimai'!W25 -> 0 | ... L14: ='5A. Pagalbiniai skaičiavimai'!Y25 -> 0
A15: 8 | B15: Planuotų paskolų palūkanos (Eur) | C15: ='5A. Pagalbiniai skaičiavimai'!Z25 -> 0 | D15: ='5A. Pagalbiniai skaičiavimai'!AA25 -> 0 | E15: ='5A. Pagalbiniai skaičiavimai'!AB25 -> 0 | F15: ='5A. Pagalbiniai skaičiavimai'!AC25 -> 0 | G15: ='5A. Pagalbiniai skaičiavimai'!AD25 -> 0 | H15: ='5A. Pagalbiniai skaičiavimai'!AE25 -> 0 | I15: ='5A. Pagalbiniai skaičiavimai'!AF25 -> 0 | J15: ='5A. Pagalbiniai skaičiavimai'!AG25 -> 0 | ... L15: ='5A. Pagalbiniai skaičiavimai'!AI25 -> 0
A16: 9 | B16: Planuotų paskolų skola metų pabaigoje (Eur) | C16: ='5A. Pagalbiniai skaičiavimai'!AJ25 -> 0 | D16: ='5A. Pagalbiniai skaičiavimai'!AK25 -> 0 | E16: ='5A. Pagalbiniai skaičiavimai'!AL25 -> 0 | F16: ='5A. Pagalbiniai skaičiavimai'!AM25 -> 0 | G16: ='5A. Pagalbiniai skaičiavimai'!AN25 -> 0 | H16: ='5A. Pagalbiniai skaičiavimai'!AO25 -> 0 | I16: ='5A. Pagalbiniai skaičiavimai'!AP25 -> 0 | J16: ='5A. Pagalbiniai skaičiavimai'!AQ25 -> 0 | ... L16: ='5A. Pagalbiniai skaičiavimai'!AS25 -> 0
A17: 10 | B17: Scenarijaus finansinė skola prieš finansavimo trūkumą (Eur) | C17: =IF(C12="","",C12+IFERROR(C16,0)) -> 0 | D17: =IF(D12="","",D12+IFERROR(D16,0)) -> 0 | E17: =IF(E12="","",E12+IFERROR(E16,0)) -> 0 | F17: =IF(F12="","",F12+IFERROR(F16,0)) -> 0 | G17: =IF(G12="","",G12+IFERROR(G16,0)) -> 0 | H17: =IF(H12="","",H12+IFERROR(H16,0)) -> 0 | I17: =IF(I12="","",I12+IFERROR(I16,0)) -> 0 | J17: =IF(J12="","",J12+IFERROR(J16,0)) -> 0 | ... L17: =IF(L12="","",L12+IFERROR(L16,0)) -> 0
A18: 11 | B18: Bazė: pinigai metų pabaigoje (Eur) | C18: =IF('3. Finansinės prielaidos'!C31="","",'3. Finansinės prielaidos'!C31) -> 0 | D18: =IF('3. Finansinės prielaidos'!D31="","",'3. Finansinės prielaidos'!D31) -> 0 | E18: =IF('3. Finansinės prielaidos'!E31="","",'3. Finansinės prielaidos'!E31) -> 0 | F18: =IF('3. Finansinės prielaidos'!F31="","",'3. Finansinės prielaidos'!F31) -> 0 | G18: =IF('3. Finansinės prielaidos'!G31="","",'3. Finansinės prielaidos'!G31) -> 0 | H18: =IF('3. Finansinės prielaidos'!H31="","",'3. Finansinės prielaidos'!H31) -> 0 | I18: =IF('3. Finansinės prielaidos'!I31="","",'3. Finansinės prielaidos'!I31) -> 0 | J18: =IF('3. Finansinės prielaidos'!J31="","",'3. Finansinės prielaidos'!J31) -> 0 | ... L18: =IF('3. Finansinės prielaidos'!L31="","",'3. Finansinės prielaidos'!L31) -> 0
A19: 12 | B19: Bazė: esamas metinis skolos aptarnavimas (Eur) | C19: =IF('3. Finansinės prielaidos'!C32="","",'3. Finansinės prielaidos'!C32) -> 0 | D19: =IF('3. Finansinės prielaidos'!D32="","",'3. Finansinės prielaidos'!D32) -> 0 | E19: =IF('3. Finansinės prielaidos'!E32="","",'3. Finansinės prielaidos'!E32) -> 0 | F19: =IF('3. Finansinės prielaidos'!F32="","",'3. Finansinės prielaidos'!F32) -> 0 | G19: =IF('3. Finansinės prielaidos'!G32="","",'3. Finansinės prielaidos'!G32) -> 0 | H19: =IF('3. Finansinės prielaidos'!H32="","",'3. Finansinės prielaidos'!H32) -> 0 | I19: =IF('3. Finansinės prielaidos'!I32="","",'3. Finansinės prielaidos'!I32) -> 0 | J19: =IF('3. Finansinės prielaidos'!J32="","",'3. Finansinės prielaidos'!J32) -> 0 | ... L19: =IF('3. Finansinės prielaidos'!L32="","",'3. Finansinės prielaidos'!L32) -> 0
A20: 13 | B20: Išorinis ne skolos finansavimas (Eur) | C20: {=IF(C21="","",SUMPRODUCT('4. Metinis CAPEX'!F$9:F$28,IFERROR(('2. Investicijos'!$I$5:$I$24+'2. Investicijos'!$J$5:$J$24+'2. Investicijos'!$K$5:$K$24+'2. Investicijos'!$L$5:$L$24)/'2. Investicijos'!$H$5:$H$24,0)))} -> 0 | D20: {=IF(D21="","",SUMPRODUCT('4. Metinis CAPEX'!G$9:G$28,IFERROR(('2. Investicijos'!$I$5:$I$24+'2. Investicijos'!$J$5:$J$24+'2. Investicijos'!$K$5:$K$24+'2. Investicijos'!$L$5:$L$24)/'2. Investicijos'!$H$5:$H$24,0)))} -> 0 | E20: {=IF(E21="","",SUMPRODUCT('4. Metinis CAPEX'!H$9:H$28,IFERROR(('2. Investicijos'!$I$5:$I$24+'2. Investicijos'!$J$5:$J$24+'2. Investicijos'!$K$5:$K$24+'2. Investicijos'!$L$5:$L$24)/'2. Investicijos'!$H$5:$H$24,0)))} -> 0 | F20: {=IF(F21="","",SUMPRODUCT('4. Metinis CAPEX'!I$9:I$28,IFERROR(('2. Investicijos'!$I$5:$I$24+'2. Investicijos'!$J$5:$J$24+'2. Investicijos'!$K$5:$K$24+'2. Investicijos'!$L$5:$L$24)/'2. Investicijos'!$H$5:$H$24,0)))} -> 0 | G20: {=IF(G21="","",SUMPRODUCT('4. Metinis CAPEX'!J$9:J$28,IFERROR(('2. Investicijos'!$I$5:$I$24+'2. Investicijos'!$J$5:$J$24+'2. Investicijos'!$K$5:$K$24+'2. Investicijos'!$L$5:$L$24)/'2. Investicijos'!$H$5:$H$24,0)))} -> 0 | H20: {=IF(H21="","",SUMPRODUCT('4. Metinis CAPEX'!K$9:K$28,IFERROR(('2. Investicijos'!$I$5:$I$24+'2. Investicijos'!$J$5:$J$24+'2. Investicijos'!$K$5:$K$24+'2. Investicijos'!$L$5:$L$24)/'2. Investicijos'!$H$5:$H$24,0)))} -> 0 | I20: {=IF(I21="","",SUMPRODUCT('4. Metinis CAPEX'!L$9:L$28,IFERROR(('2. Investicijos'!$I$5:$I$24+'2. Investicijos'!$J$5:$J$24+'2. Investicijos'!$K$5:$K$24+'2. Investicijos'!$L$5:$L$24)/'2. Investicijos'!$H$5:$H$24,0)))} -> 0 | J20: {=IF(J21="","",SUMPRODUCT('4. Metinis CAPEX'!M$9:M$28,IFERROR(('2. Investicijos'!$I$5:$I$24+'2. Investicijos'!$J$5:$J$24+'2. Investicijos'!$K$5:$K$24+'2. Investicijos'!$L$5:$L$24)/'2. Investicijos'!$H$5:$H$24,0)))} -> 0 | ... L20: {=IF(L21="","",SUMPRODUCT('4. Metinis CAPEX'!O$9:O$28,IFERROR(('2. Investicijos'!$I$5:$I$24+'2. Investicijos'!$J$5:$J$24+'2. Investicijos'!$K$5:$K$24+'2. Investicijos'!$L$5:$L$24)/'2. Investicijos'!$H$5:$H$24,0)))} -> 0
A21: 14 | B21: CAPEX (Eur) | C21: ='4. Metinis CAPEX'!F5 -> 0 | D21: ='4. Metinis CAPEX'!G5 -> 0 | E21: ='4. Metinis CAPEX'!H5 -> 0 | F21: ='4. Metinis CAPEX'!I5 -> 0 | G21: ='4. Metinis CAPEX'!J5 -> 0 | H21: ='4. Metinis CAPEX'!K5 -> 0 | I21: ='4. Metinis CAPEX'!L5 -> 0 | J21: ='4. Metinis CAPEX'!M5 -> 0 | ... L21: ='4. Metinis CAPEX'!O5 -> 0
A22: 15 | B22: Naujų paskolų ir finansavimo trūkumo aptarnavimas (Eur) | C22: =IF(OR(C14="",C15=""),"",C14+C15+0) -> 0 | D22: {=IF(OR(D14="",D15=""),"",D14+D15+MAX(0,-C24)*IFERROR(SUMPRODUCT('2. Investicijos'!$N$5:$N$24,'2. Investicijos'!$O$5:$O$24/100)/SUM('2. Investicijos'!$N$5:$N$24),0))} -> 0 | E22: {=IF(OR(E14="",E15=""),"",E14+E15+MAX(0,-D24)*IFERROR(SUMPRODUCT('2. Investicijos'!$N$5:$N$24,'2. Investicijos'!$O$5:$O$24/100)/SUM('2. Investicijos'!$N$5:$N$24),0))} -> 0 | F22: {=IF(OR(F14="",F15=""),"",F14+F15+MAX(0,-E24)*IFERROR(SUMPRODUCT('2. Investicijos'!$N$5:$N$24,'2. Investicijos'!$O$5:$O$24/100)/SUM('2. Investicijos'!$N$5:$N$24),0))} -> 0 | G22: {=IF(OR(G14="",G15=""),"",G14+G15+MAX(0,-F24)*IFERROR(SUMPRODUCT('2. Investicijos'!$N$5:$N$24,'2. Investicijos'!$O$5:$O$24/100)/SUM('2. Investicijos'!$N$5:$N$24),0))} -> 0 | H22: {=IF(OR(H14="",H15=""),"",H14+H15+MAX(0,-G24)*IFERROR(SUMPRODUCT('2. Investicijos'!$N$5:$N$24,'2. Investicijos'!$O$5:$O$24/100)/SUM('2. Investicijos'!$N$5:$N$24),0))} -> 0 | I22: {=IF(OR(I14="",I15=""),"",I14+I15+MAX(0,-H24)*IFERROR(SUMPRODUCT('2. Investicijos'!$N$5:$N$24,'2. Investicijos'!$O$5:$O$24/100)/SUM('2. Investicijos'!$N$5:$N$24),0))} -> 0 | J22: {=IF(OR(J14="",J15=""),"",J14+J15+MAX(0,-I24)*IFERROR(SUMPRODUCT('2. Investicijos'!$N$5:$N$24,'2. Investicijos'!$O$5:$O$24/100)/SUM('2. Investicijos'!$N$5:$N$24),0))} -> 0 | K22: {=IF(OR(K14="",K15=""),"",K14+K15+MAX(0,-J24)*IFERROR(SUMPRODUCT('2. Investicijos'!$N$5:$N$24,'2. Investicijos'!$O$5:$O$24/100)/SUM('2. Investicijos'!$N$5:$N$24),0))} -> 0 | L22: {=IF(OR(L14="",L15=""),"",L14+L15+MAX(0,-K24)*IFERROR(SUMPRODUCT('2. Investicijos'!$N$5:$N$24,'2. Investicijos'!$O$5:$O$24/100)/SUM('2. Investicijos'!$N$5:$N$24),0))} -> 0
A23: 16 | B23: Investicijų grynasis pinigų poveikis (Eur) | C23: =IF(C21="","",IFERROR(C9,0)+IFERROR(C10,0)+IFERROR(C13,0)+IFERROR(C20,0)-C21-IFERROR(C22,0)) -> 0 | D23: =IF(D21="","",IFERROR(D9,0)+IFERROR(D10,0)+IFERROR(D13,0)+IFERROR(D20,0)-D21-IFERROR(D22,0)) -> 0 | E23: =IF(E21="","",IFERROR(E9,0)+IFERROR(E10,0)+IFERROR(E13,0)+IFERROR(E20,0)-E21-IFERROR(E22,0)) -> 0 | F23: =IF(F21="","",IFERROR(F9,0)+IFERROR(F10,0)+IFERROR(F13,0)+IFERROR(F20,0)-F21-IFERROR(F22,0)) -> 0 | G23: =IF(G21="","",IFERROR(G9,0)+IFERROR(G10,0)+IFERROR(G13,0)+IFERROR(G20,0)-G21-IFERROR(G22,0)) -> 0 | H23: =IF(H21="","",IFERROR(H9,0)+IFERROR(H10,0)+IFERROR(H13,0)+IFERROR(H20,0)-H21-IFERROR(H22,0)) -> 0 | I23: =IF(I21="","",IFERROR(I9,0)+IFERROR(I10,0)+IFERROR(I13,0)+IFERROR(I20,0)-I21-IFERROR(I22,0)) -> 0 | J23: =IF(J21="","",IFERROR(J9,0)+IFERROR(J10,0)+IFERROR(J13,0)+IFERROR(J20,0)-J21-IFERROR(J22,0)) -> 0 | ... L23: =IF(L21="","",IFERROR(L9,0)+IFERROR(L10,0)+IFERROR(L13,0)+IFERROR(L20,0)-L21-IFERROR(L22,0)) -> 0
A24: 17 | B24: Pinigų perteklius / (finansavimo trūkumas) metų pabaigoje (Eur) | C24: =IF(C18="","",C18+SUM($C$23:C23)) -> 0 | D24: =IF(D18="","",D18+SUM($C$23:D23)) -> 0 | E24: =IF(E18="","",E18+SUM($C$23:E23)) -> 0 | F24: =IF(F18="","",F18+SUM($C$23:F23)) -> 0 | G24: =IF(G18="","",G18+SUM($C$23:G23)) -> 0 | H24: =IF(H18="","",H18+SUM($C$23:H23)) -> 0 | I24: =IF(I18="","",I18+SUM($C$23:I23)) -> 0 | J24: =IF(J18="","",J18+SUM($C$23:J23)) -> 0 | ... L24: =IF(L18="","",L18+SUM($C$23:L23)) -> 0
A25: 18 | B25: Net Debt (Eur) | C25: =IF(OR(C17="",C24=""),"",C17-C24) -> 0 | D25: =IF(OR(D17="",D24=""),"",D17-D24) -> 0 | E25: =IF(OR(E17="",E24=""),"",E17-E24) -> 0 | F25: =IF(OR(F17="",F24=""),"",F17-F24) -> 0 | G25: =IF(OR(G17="",G24=""),"",G17-G24) -> 0 | H25: =IF(OR(H17="",H24=""),"",H17-H24) -> 0 | I25: =IF(OR(I17="",I24=""),"",I17-I24) -> 0 | J25: =IF(OR(J17="",J24=""),"",J17-J24) -> 0 | ... L25: =IF(OR(L17="",L24=""),"",L17-L24) -> 0
A26: 19 | B26: Net Debt / net EBITDA | C26: =IF(OR(C25="",C11="",C11<=0),"",C25/C11) | D26: =IF(OR(D25="",D11="",D11<=0),"",D25/D11) | E26: =IF(OR(E25="",E11="",E11<=0),"",E25/E11) | F26: =IF(OR(F25="",F11="",F11<=0),"",F25/F11) | G26: =IF(OR(G25="",G11="",G11<=0),"",G25/G11) | H26: =IF(OR(H25="",H11="",H11<=0),"",H25/H11) | I26: =IF(OR(I25="",I11="",I11<=0),"",I25/I11) | J26: =IF(OR(J25="",J11="",J11<=0),"",J25/J11) | ... L26: =IF(OR(L25="",L11="",L11<=0),"",L25/L11)
A27: 20 | B27: DSCR | C27: =IF(OR(C11="",C19="",C11<=0),"",IF(C19+IFERROR(C22,0)=0,"",C11/(C19+IFERROR(C22,0)))) | D27: =IF(OR(D11="",D19="",D11<=0),"",IF(D19+IFERROR(D22,0)=0,"",D11/(D19+IFERROR(D22,0)))) | E27: =IF(OR(E11="",E19="",E11<=0),"",IF(E19+IFERROR(E22,0)=0,"",E11/(E19+IFERROR(E22,0)))) | F27: =IF(OR(F11="",F19="",F11<=0),"",IF(F19+IFERROR(F22,0)=0,"",F11/(F19+IFERROR(F22,0)))) | G27: =IF(OR(G11="",G19="",G11<=0),"",IF(G19+IFERROR(G22,0)=0,"",G11/(G19+IFERROR(G22,0)))) | H27: =IF(OR(H11="",H19="",H11<=0),"",IF(H19+IFERROR(H22,0)=0,"",H11/(H19+IFERROR(H22,0)))) | I27: =IF(OR(I11="",I19="",I11<=0),"",IF(I19+IFERROR(I22,0)=0,"",I11/(I19+IFERROR(I22,0)))) | J27: =IF(OR(J11="",J19="",J11<=0),"",IF(J19+IFERROR(J22,0)=0,"",J11/(J19+IFERROR(J22,0)))) | ... L27: =IF(OR(L11="",L19="",L11<=0),"",IF(L19+IFERROR(L22,0)=0,"",L11/(L19+IFERROR(L22,0))))
A28: 21 | B28: Tvarumo būsena | C28: =IF(OR(C26="",C27=""),"",IF(AND(C26<=5.5,C27>=1.2),"ATITINKA","NEATITINKA")) | D28: =IF(OR(D26="",D27=""),"",IF(AND(D26<=5.5,D27>=1.2),"ATITINKA","NEATITINKA")) | E28: =IF(OR(E26="",E27=""),"",IF(AND(E26<=5.5,E27>=1.2),"ATITINKA","NEATITINKA")) | F28: =IF(OR(F26="",F27=""),"",IF(AND(F26<=5.5,F27>=1.2),"ATITINKA","NEATITINKA")) | G28: =IF(OR(G26="",G27=""),"",IF(AND(G26<=5.5,G27>=1.2),"ATITINKA","NEATITINKA")) | H28: =IF(OR(H26="",H27=""),"",IF(AND(H26<=5.5,H27>=1.2),"ATITINKA","NEATITINKA")) | I28: =IF(OR(I26="",I27=""),"",IF(AND(I26<=5.5,I27>=1.2),"ATITINKA","NEATITINKA")) | J28: =IF(OR(J26="",J27=""),"",IF(AND(J26<=5.5,J27>=1.2),"ATITINKA","NEATITINKA")) | ... L28: =IF(OR(L26="",L27=""),"",IF(AND(L26<=5.5,L27>=1.2),"ATITINKA","NEATITINKA"))
A30: Kriterijai | B30: Riba | C30: Pagrindas / paaiškinimas
A31: Net Debt / net EBITDA | B31: 5.5 | C31: Pagal Aprašo 11³.6 papunktį - neviršija 5,5.
A32: DSCR | B32: 1.2 | C32: Pagal Aprašo 11³.6 papunktį ne mažesnis nei 1,2.
A33: Pirmi neatitikties metai | C33: Pirmi metai, kurių tvarumo būsena = NEATITINKA.
A34: Modelio pastaba | C34: Pagrindinis 0 % scenarijus vertina visą suplanuotą investicijų portfelį. Lūžio analizė šiame lape vertina kaupiamąjį portfelį pagal 2. „Investicijos“ eiliškumą (0–20 investicijų) ir nustato pirmą investiciją, po kurios bent vienais 2026–2035 m. nebetenkinamas bent vienas 11³.6 kriterijus. Pilno portfelio eilutė turi sutapti su pagrindinio 0 % scenarijaus metinėmis tvarumo būsenomis (cross-check).
A36: LŪŽIO ANALIZĖ – KUMULIACINIS INVESTICIJŲ PORTFELIS
A37: Eil. Nr. | B37: Investicijų portfelis | C37: Tvarumo būsena | D37: Pirmi neatitikties metai | E37: Neatitikimo kriterijus | F37: Maks. Net Debt /net EBITDA | G37: Min. DSCR | H37: 2026 | I37: 2027 | J37: 2028 | K37: 2029 | L37: 2030 | M37: 2031 | N37: 2032 | O37: 2033 | P37: 2034 | Q37: 2035
A38: 0 | B38: Bazė (0 investicijų) | C38: =IF(COUNTIF(H38:Q38,"ATITINKA")+COUNTIF(H38:Q38,"NEATITINKA")=0,"",IF(COUNTIF(H38:Q38,"ATITINKA")=10,"ATITINKA","NEATITINKA")) | D38: =IFERROR(IF(C38="","",IF(C38<>"NEATITINKA","–",INDEX($H$37:$Q$37,1,MATCH("NEATITINKA",H38:Q38,0)))),"") | E38: =IFERROR(IF(C38="","",IF(C38<>"NEATITINKA","–",IF(INDEX('5A. Pagalbiniai skaičiavimai'!$C$35:$L$35,1,MATCH("NEATITINKA",H38:Q38,0))<=0,"EBITDA ≤ 0",IF(AND(INDEX('5A. Pagalbiniai skaičiavimai'!$C$38:$L$38,1,MATCH("NEATITINKA",H38:Q38,0))>$B$31,INDEX('5A. Pagalbiniai skaičiavimai'!$C$39:$L$39,1,MATCH("NEATITINKA",H38:Q38,0))<$B$32),"Abu kriterijai",IF(INDEX('5A. Pagalbiniai skaičiavimai'!$C$38:$L$38,1,MATCH("NEATITINKA",H38:Q38,0))>$B$31,"Net Debt / EBITDA > 5,5","DSCR < 1,2"))))),"") | F38: =IF(C38="","",MAX('5A. Pagalbiniai skaičiavimai'!C38:L38)) | G38: =IF(C38="","",MIN('5A. Pagalbiniai skaičiavimai'!C39:L39)) | H38: =IF(OR($B38="",'5A. Pagalbiniai skaičiavimai'!C35="",'5A. Pagalbiniai skaičiavimai'!C38="",'5A. Pagalbiniai skaičiavimai'!C39=""),"",IF(AND('5A. Pagalbiniai skaičiavimai'!C35>0,'5A. Pagalbiniai skaičiavimai'!C38<=$B$31,'5A. Pagalbiniai skaičiavimai'!C39>=$B$32),"ATITINKA","NEATITINKA")) | I38: =IF(OR($B38="",'5A. Pagalbiniai skaičiavimai'!D35="",'5A. Pagalbiniai skaičiavimai'!D38="",'5A. Pagalbiniai skaičiavimai'!D39=""),"",IF(AND('5A. Pagalbiniai skaičiavimai'!D35>0,'5A. Pagalbiniai skaičiavimai'!D38<=$B$31,'5A. Pagalbiniai skaičiavimai'!D39>=$B$32),"ATITINKA","NEATITINKA")) | J38: =IF(OR($B38="",'5A. Pagalbiniai skaičiavimai'!E35="",'5A. Pagalbiniai skaičiavimai'!E38="",'5A. Pagalbiniai skaičiavimai'!E39=""),"",IF(AND('5A. Pagalbiniai skaičiavimai'!E35>0,'5A. Pagalbiniai skaičiavimai'!E38<=$B$31,'5A. Pagalbiniai skaičiavimai'!E39>=$B$32),"ATITINKA","NEATITINKA")) | K38: =IF(OR($B38="",'5A. Pagalbiniai skaičiavimai'!F35="",'5A. Pagalbiniai skaičiavimai'!F38="",'5A. Pagalbiniai skaičiavimai'!F39=""),"",IF(AND('5A. Pagalbiniai skaičiavimai'!F35>0,'5A. Pagalbiniai skaičiavimai'!F38<=$B$31,'5A. Pagalbiniai skaičiavimai'!F39>=$B$32),"ATITINKA","NEATITINKA")) | L38: =IF(OR($B38="",'5A. Pagalbiniai skaičiavimai'!G35="",'5A. Pagalbiniai skaičiavimai'!G38="",'5A. Pagalbiniai skaičiavimai'!G39=""),"",IF(AND('5A. Pagalbiniai skaičiavimai'!G35>0,'5A. Pagalbiniai skaičiavimai'!G38<=$B$31,'5A. Pagalbiniai skaičiavimai'!G39>=$B$32),"ATITINKA","NEATITINKA")) | M38: =IF(OR($B38="",'5A. Pagalbiniai skaičiavimai'!H35="",'5A. Pagalbiniai skaičiavimai'!H38="",'5A. Pagalbiniai skaičiavimai'!H39=""),"",IF(AND('5A. Pagalbiniai skaičiavimai'!H35>0,'5A. Pagalbiniai skaičiavimai'!H38<=$B$31,'5A. Pagalbiniai skaičiavimai'!H39>=$B$32),"ATITINKA","NEATITINKA")) | N38: =IF(OR($B38="",'5A. Pagalbiniai skaičiavimai'!I35="",'5A. Pagalbiniai skaičiavimai'!I38="",'5A. Pagalbiniai skaičiavimai'!I39=""),"",IF(AND('5A. Pagalbiniai skaičiavimai'!I35>0,'5A. Pagalbiniai skaičiavimai'!I38<=$B$31,'5A. Pagalbiniai skaičiavimai'!I39>=$B$32),"ATITINKA","NEATITINKA")) | O38: =IF(OR($B38="",'5A. Pagalbiniai skaičiavimai'!J35="",'5A. Pagalbiniai skaičiavimai'!J38="",'5A. Pagalbiniai skaičiavimai'!J39=""),"",IF(AND('5A. Pagalbiniai skaičiavimai'!J35>0,'5A. Pagalbiniai skaičiavimai'!J38<=$B$31,'5A. Pagalbiniai skaičiavimai'!J39>=$B$32),"ATITINKA","NEATITINKA")) | ... Q38: =IF(OR($B38="",'5A. Pagalbiniai skaičiavimai'!L35="",'5A. Pagalbiniai skaičiavimai'!L38="",'5A. Pagalbiniai skaičiavimai'!L39=""),"",IF(AND('5A. Pagalbiniai skaičiavimai'!L35>0,'5A. Pagalbiniai skaičiavimai'!L38<=$B$31,'5A. Pagalbiniai skaičiavimai'!L39>=$B$32),"ATITINKA","NEATITINKA"))
A39: 1 | B39: =IF(AND(COUNTA('2. Investicijos'!$B$5:$B$5)=1,COUNT('2. Investicijos'!$E$5:$E$5)=1,COUNT('2. Investicijos'!$F$5:$F$5)=1,COUNT('2. Investicijos'!$G$5:$G$5)=1,COUNT('2. Investicijos'!$H$5:$H$5)=1),'2. Investicijos'!B5,"") | C39: =IF(OR(B39="",COUNT('3. Finansinės prielaidos'!$C$27:$L$32)<60),"",IF(COUNTIF(H39:Q39,"ATITINKA")=10,"ATITINKA","NEATITINKA")) | D39: =IF(C39="","",IF(C39<>"NEATITINKA","–",INDEX($H$37:$Q$37,1,MATCH("NEATITINKA",H39:Q39,0)))) | E39: =IF(C39="","",IF(C39<>"NEATITINKA","–",IF(INDEX('5A. Pagalbiniai skaičiavimai'!$C$45:$L$45,1,MATCH("NEATITINKA",H39:Q39,0))<=0,"EBITDA ≤ 0",IF(AND(INDEX('5A. Pagalbiniai skaičiavimai'!$C$48:$L$48,1,MATCH("NEATITINKA",H39:Q39,0))>$B$31,INDEX('5A. Pagalbiniai skaičiavimai'!$C$49:$L$49,1,MATCH("NEATITINKA",H39:Q39,0))<$B$32),"Abu kriterijai",IF(INDEX('5A. Pagalbiniai skaičiavimai'!$C$48:$L$48,1,MATCH("NEATITINKA",H39:Q39,0))>$B$31,"Net Debt / EBITDA > 5,5","DSCR < 1,2"))))) | F39: =IF(C39="","",MAX('5A. Pagalbiniai skaičiavimai'!C48:L48)) | G39: =IF(C39="","",MIN('5A. Pagalbiniai skaičiavimai'!C49:L49)) | H39: =IF(OR($B39="",'5A. Pagalbiniai skaičiavimai'!C45="",'5A. Pagalbiniai skaičiavimai'!C48="",'5A. Pagalbiniai skaičiavimai'!C49=""),"",IF(AND('5A. Pagalbiniai skaičiavimai'!C45>0,'5A. Pagalbiniai skaičiavimai'!C48<=$B$31,'5A. Pagalbiniai skaičiavimai'!C49>=$B$32),"ATITINKA","NEATITINKA")) -> #VALUE! | I39: =IF(OR($B39="",'5A. Pagalbiniai skaičiavimai'!D45="",'5A. Pagalbiniai skaičiavimai'!D48="",'5A. Pagalbiniai skaičiavimai'!D49=""),"",IF(AND('5A. Pagalbiniai skaičiavimai'!D45>0,'5A. Pagalbiniai skaičiavimai'!D48<=$B$31,'5A. Pagalbiniai skaičiavimai'!D49>=$B$32),"ATITINKA","NEATITINKA")) -> #VALUE! | J39: =IF(OR($B39="",'5A. Pagalbiniai skaičiavimai'!E45="",'5A. Pagalbiniai skaičiavimai'!E48="",'5A. Pagalbiniai skaičiavimai'!E49=""),"",IF(AND('5A. Pagalbiniai skaičiavimai'!E45>0,'5A. Pagalbiniai skaičiavimai'!E48<=$B$31,'5A. Pagalbiniai skaičiavimai'!E49>=$B$32),"ATITINKA","NEATITINKA")) -> #VALUE! | K39: =IF(OR($B39="",'5A. Pagalbiniai skaičiavimai'!F45="",'5A. Pagalbiniai skaičiavimai'!F48="",'5A. Pagalbiniai skaičiavimai'!F49=""),"",IF(AND('5A. Pagalbiniai skaičiavimai'!F45>0,'5A. Pagalbiniai skaičiavimai'!F48<=$B$31,'5A. Pagalbiniai skaičiavimai'!F49>=$B$32),"ATITINKA","NEATITINKA")) -> #VALUE! | L39: =IF(OR($B39="",'5A. Pagalbiniai skaičiavimai'!G45="",'5A. Pagalbiniai skaičiavimai'!G48="",'5A. Pagalbiniai skaičiavimai'!G49=""),"",IF(AND('5A. Pagalbiniai skaičiavimai'!G45>0,'5A. Pagalbiniai skaičiavimai'!G48<=$B$31,'5A. Pagalbiniai skaičiavimai'!G49>=$B$32),"ATITINKA","NEATITINKA")) -> #VALUE! | M39: =IF(OR($B39="",'5A. Pagalbiniai skaičiavimai'!H45="",'5A. Pagalbiniai skaičiavimai'!H48="",'5A. Pagalbiniai skaičiavimai'!H49=""),"",IF(AND('5A. Pagalbiniai skaičiavimai'!H45>0,'5A. Pagalbiniai skaičiavimai'!H48<=$B$31,'5A. Pagalbiniai skaičiavimai'!H49>=$B$32),"ATITINKA","NEATITINKA")) -> #VALUE! | N39: =IF(OR($B39="",'5A. Pagalbiniai skaičiavimai'!I45="",'5A. Pagalbiniai skaičiavimai'!I48="",'5A. Pagalbiniai skaičiavimai'!I49=""),"",IF(AND('5A. Pagalbiniai skaičiavimai'!I45>0,'5A. Pagalbiniai skaičiavimai'!I48<=$B$31,'5A. Pagalbiniai skaičiavimai'!I49>=$B$32),"ATITINKA","NEATITINKA")) -> #VALUE! | O39: =IF(OR($B39="",'5A. Pagalbiniai skaičiavimai'!J45="",'5A. Pagalbiniai skaičiavimai'!J48="",'5A. Pagalbiniai skaičiavimai'!J49=""),"",IF(AND('5A. Pagalbiniai skaičiavimai'!J45>0,'5A. Pagalbiniai skaičiavimai'!J48<=$B$31,'5A. Pagalbiniai skaičiavimai'!J49>=$B$32),"ATITINKA","NEATITINKA")) -> #VALUE! | ... Q39: =IF(OR($B39="",'5A. Pagalbiniai skaičiavimai'!L45="",'5A. Pagalbiniai skaičiavimai'!L48="",'5A. Pagalbiniai skaičiavimai'!L49=""),"",IF(AND('5A. Pagalbiniai skaičiavimai'!L45>0,'5A. Pagalbiniai skaičiavimai'!L48<=$B$31,'5A. Pagalbiniai skaičiavimai'!L49>=$B$32),"ATITINKA","NEATITINKA")) -> #VALUE!
A40: 2 | B40: =IF(AND(COUNTA('2. Investicijos'!$B$5:$B$6)=2,COUNT('2. Investicijos'!$E$5:$E$6)=2,COUNT('2. Investicijos'!$F$5:$F$6)=2,COUNT('2. Investicijos'!$G$5:$G$6)=2,COUNT('2. Investicijos'!$H$5:$H$6)=2),'2. Investicijos'!B6,"") | C40: =IF(OR(B40="",COUNT('3. Finansinės prielaidos'!$C$27:$L$32)<60),"",IF(COUNTIF(H40:Q40,"ATITINKA")=10,"ATITINKA","NEATITINKA")) | D40: =IF(C40="","",IF(C40<>"NEATITINKA","–",INDEX($H$37:$Q$37,1,MATCH("NEATITINKA",H40:Q40,0)))) | E40: =IF(C40="","",IF(C40<>"NEATITINKA","–",IF(INDEX('5A. Pagalbiniai skaičiavimai'!$C$55:$L$55,1,MATCH("NEATITINKA",H40:Q40,0))<=0,"EBITDA ≤ 0",IF(AND(INDEX('5A. Pagalbiniai skaičiavimai'!$C$58:$L$58,1,MATCH("NEATITINKA",H40:Q40,0))>$B$31,INDEX('5A. Pagalbiniai skaičiavimai'!$C$59:$L$59,1,MATCH("NEATITINKA",H40:Q40,0))<$B$32),"Abu kriterijai",IF(INDEX('5A. Pagalbiniai skaičiavimai'!$C$58:$L$58,1,MATCH("NEATITINKA",H40:Q40,0))>$B$31,"Net Debt / EBITDA > 5,5","DSCR < 1,2"))))) | F40: =IF(C40="","",MAX('5A. Pagalbiniai skaičiavimai'!C58:L58)) | G40: =IF(C40="","",MIN('5A. Pagalbiniai skaičiavimai'!C59:L59)) | H40: =IF(OR($B40="",'5A. Pagalbiniai skaičiavimai'!C55="",'5A. Pagalbiniai skaičiavimai'!C58="",'5A. Pagalbiniai skaičiavimai'!C59=""),"",IF(AND('5A. Pagalbiniai skaičiavimai'!C55>0,'5A. Pagalbiniai skaičiavimai'!C58<=$B$31,'5A. Pagalbiniai skaičiavimai'!C59>=$B$32),"ATITINKA","NEATITINKA")) -> #VALUE! | I40: =IF(OR($B40="",'5A. Pagalbiniai skaičiavimai'!D55="",'5A. Pagalbiniai skaičiavimai'!D58="",'5A. Pagalbiniai skaičiavimai'!D59=""),"",IF(AND('5A. Pagalbiniai skaičiavimai'!D55>0,'5A. Pagalbiniai skaičiavimai'!D58<=$B$31,'5A. Pagalbiniai skaičiavimai'!D59>=$B$32),"ATITINKA","NEATITINKA")) -> #VALUE! | J40: =IF(OR($B40="",'5A. Pagalbiniai skaičiavimai'!E55="",'5A. Pagalbiniai skaičiavimai'!E58="",'5A. Pagalbiniai skaičiavimai'!E59=""),"",IF(AND('5A. Pagalbiniai skaičiavimai'!E55>0,'5A. Pagalbiniai skaičiavimai'!E58<=$B$31,'5A. Pagalbiniai skaičiavimai'!E59>=$B$32),"ATITINKA","NEATITINKA")) -> #VALUE! | K40: =IF(OR($B40="",'5A. Pagalbiniai skaičiavimai'!F55="",'5A. Pagalbiniai skaičiavimai'!F58="",'5A. Pagalbiniai skaičiavimai'!F59=""),"",IF(AND('5A. Pagalbiniai skaičiavimai'!F55>0,'5A. Pagalbiniai skaičiavimai'!F58<=$B$31,'5A. Pagalbiniai skaičiavimai'!F59>=$B$32),"ATITINKA","NEATITINKA")) -> #VALUE! | L40: =IF(OR($B40="",'5A. Pagalbiniai skaičiavimai'!G55="",'5A. Pagalbiniai skaičiavimai'!G58="",'5A. Pagalbiniai skaičiavimai'!G59=""),"",IF(AND('5A. Pagalbiniai skaičiavimai'!G55>0,'5A. Pagalbiniai skaičiavimai'!G58<=$B$31,'5A. Pagalbiniai skaičiavimai'!G59>=$B$32),"ATITINKA","NEATITINKA")) -> #VALUE! | M40: =IF(OR($B40="",'5A. Pagalbiniai skaičiavimai'!H55="",'5A. Pagalbiniai skaičiavimai'!H58="",'5A. Pagalbiniai skaičiavimai'!H59=""),"",IF(AND('5A. Pagalbiniai skaičiavimai'!H55>0,'5A. Pagalbiniai skaičiavimai'!H58<=$B$31,'5A. Pagalbiniai skaičiavimai'!H59>=$B$32),"ATITINKA","NEATITINKA")) -> #VALUE! | N40: =IF(OR($B40="",'5A. Pagalbiniai skaičiavimai'!I55="",'5A. Pagalbiniai skaičiavimai'!I58="",'5A. Pagalbiniai skaičiavimai'!I59=""),"",IF(AND('5A. Pagalbiniai skaičiavimai'!I55>0,'5A. Pagalbiniai skaičiavimai'!I58<=$B$31,'5A. Pagalbiniai skaičiavimai'!I59>=$B$32),"ATITINKA","NEATITINKA")) -> #VALUE! | O40: =IF(OR($B40="",'5A. Pagalbiniai skaičiavimai'!J55="",'5A. Pagalbiniai skaičiavimai'!J58="",'5A. Pagalbiniai skaičiavimai'!J59=""),"",IF(AND('5A. Pagalbiniai skaičiavimai'!J55>0,'5A. Pagalbiniai skaičiavimai'!J58<=$B$31,'5A. Pagalbiniai skaičiavimai'!J59>=$B$32),"ATITINKA","NEATITINKA")) -> #VALUE! | ... Q40: =IF(OR($B40="",'5A. Pagalbiniai skaičiavimai'!L55="",'5A. Pagalbiniai skaičiavimai'!L58="",'5A. Pagalbiniai skaičiavimai'!L59=""),"",IF(AND('5A. Pagalbiniai skaičiavimai'!L55>0,'5A. Pagalbiniai skaičiavimai'!L58<=$B$31,'5A. Pagalbiniai skaičiavimai'!L59>=$B$32),"ATITINKA","NEATITINKA")) -> #VALUE!
A41: 3 | B41: =IF(AND(COUNTA('2. Investicijos'!$B$5:$B$7)=3,COUNT('2. Investicijos'!$E$5:$E$7)=3,COUNT('2. Investicijos'!$F$5:$F$7)=3,COUNT('2. Investicijos'!$G$5:$G$7)=3,COUNT('2. Investicijos'!$H$5:$H$7)=3),'2. Investicijos'!B7,"") | C41: =IF(OR(B41="",COUNT('3. Finansinės prielaidos'!$C$27:$L$32)<60),"",IF(COUNTIF(H41:Q41,"ATITINKA")=10,"ATITINKA","NEATITINKA")) | D41: =IF(C41="","",IF(C41<>"NEATITINKA","–",INDEX($H$37:$Q$37,1,MATCH("NEATITINKA",H41:Q41,0)))) | E41: =IF(C41="","",IF(C41<>"NEATITINKA","–",IF(INDEX('5A. Pagalbiniai skaičiavimai'!$C$65:$L$65,1,MATCH("NEATITINKA",H41:Q41,0))<=0,"EBITDA ≤ 0",IF(AND(INDEX('5A. Pagalbiniai skaičiavimai'!$C$68:$L$68,1,MATCH("NEATITINKA",H41:Q41,0))>$B$31,INDEX('5A. Pagalbiniai skaičiavimai'!$C$69:$L$69,1,MATCH("NEATITINKA",H41:Q41,0))<$B$32),"Abu kriterijai",IF(INDEX('5A. Pagalbiniai skaičiavimai'!$C$68:$L$68,1,MATCH("NEATITINKA",H41:Q41,0))>$B$31,"Net Debt / EBITDA > 5,5","DSCR < 1,2"))))) | F41: =IF(C41="","",MAX('5A. Pagalbiniai skaičiavimai'!C68:L68)) | G41: =IF(C41="","",MIN('5A. Pagalbiniai skaičiavimai'!C69:L69)) | H41: =IF(OR($B41="",'5A. Pagalbiniai skaičiavimai'!C65="",'5A. Pagalbiniai skaičiavimai'!C68="",'5A. Pagalbiniai skaičiavimai'!C69=""),"",IF(AND('5A. Pagalbiniai skaičiavimai'!C65>0,'5A. Pagalbiniai skaičiavimai'!C68<=$B$31,'5A. Pagalbiniai skaičiavimai'!C69>=$B$32),"ATITINKA","NEATITINKA")) -> #VALUE! | I41: =IF(OR($B41="",'5A. Pagalbiniai skaičiavimai'!D65="",'5A. Pagalbiniai skaičiavimai'!D68="",'5A. Pagalbiniai skaičiavimai'!D69=""),"",IF(AND('5A. Pagalbiniai skaičiavimai'!D65>0,'5A. Pagalbiniai skaičiavimai'!D68<=$B$31,'5A. Pagalbiniai skaičiavimai'!D69>=$B$32),"ATITINKA","NEATITINKA")) -> #VALUE! | J41: =IF(OR($B41="",'5A. Pagalbiniai skaičiavimai'!E65="",'5A. Pagalbiniai skaičiavimai'!E68="",'5A. Pagalbiniai skaičiavimai'!E69=""),"",IF(AND('5A. Pagalbiniai skaičiavimai'!E65>0,'5A. Pagalbiniai skaičiavimai'!E68<=$B$31,'5A. Pagalbiniai skaičiavimai'!E69>=$B$32),"ATITINKA","NEATITINKA")) -> #VALUE! | K41: =IF(OR($B41="",'5A. Pagalbiniai skaičiavimai'!F65="",'5A. Pagalbiniai skaičiavimai'!F68="",'5A. Pagalbiniai skaičiavimai'!F69=""),"",IF(AND('5A. Pagalbiniai skaičiavimai'!F65>0,'5A. Pagalbiniai skaičiavimai'!F68<=$B$31,'5A. Pagalbiniai skaičiavimai'!F69>=$B$32),"ATITINKA","NEATITINKA")) -> #VALUE! | L41: =IF(OR($B41="",'5A. Pagalbiniai skaičiavimai'!G65="",'5A. Pagalbiniai skaičiavimai'!G68="",'5A. Pagalbiniai skaičiavimai'!G69=""),"",IF(AND('5A. Pagalbiniai skaičiavimai'!G65>0,'5A. Pagalbiniai skaičiavimai'!G68<=$B$31,'5A. Pagalbiniai skaičiavimai'!G69>=$B$32),"ATITINKA","NEATITINKA")) -> #VALUE! | M41: =IF(OR($B41="",'5A. Pagalbiniai skaičiavimai'!H65="",'5A. Pagalbiniai skaičiavimai'!H68="",'5A. Pagalbiniai skaičiavimai'!H69=""),"",IF(AND('5A. Pagalbiniai skaičiavimai'!H65>0,'5A. Pagalbiniai skaičiavimai'!H68<=$B$31,'5A. Pagalbiniai skaičiavimai'!H69>=$B$32),"ATITINKA","NEATITINKA")) -> #VALUE! | N41: =IF(OR($B41="",'5A. Pagalbiniai skaičiavimai'!I65="",'5A. Pagalbiniai skaičiavimai'!I68="",'5A. Pagalbiniai skaičiavimai'!I69=""),"",IF(AND('5A. Pagalbiniai skaičiavimai'!I65>0,'5A. Pagalbiniai skaičiavimai'!I68<=$B$31,'5A. Pagalbiniai skaičiavimai'!I69>=$B$32),"ATITINKA","NEATITINKA")) -> #VALUE! | O41: =IF(OR($B41="",'5A. Pagalbiniai skaičiavimai'!J65="",'5A. Pagalbiniai skaičiavimai'!J68="",'5A. Pagalbiniai skaičiavimai'!J69=""),"",IF(AND('5A. Pagalbiniai skaičiavimai'!J65>0,'5A. Pagalbiniai skaičiavimai'!J68<=$B$31,'5A. Pagalbiniai skaičiavimai'!J69>=$B$32),"ATITINKA","NEATITINKA")) -> #VALUE! | ... Q41: =IF(OR($B41="",'5A. Pagalbiniai skaičiavimai'!L65="",'5A. Pagalbiniai skaičiavimai'!L68="",'5A. Pagalbiniai skaičiavimai'!L69=""),"",IF(AND('5A. Pagalbiniai skaičiavimai'!L65>0,'5A. Pagalbiniai skaičiavimai'!L68<=$B$31,'5A. Pagalbiniai skaičiavimai'!L69>=$B$32),"ATITINKA","NEATITINKA")) -> #VALUE!
A42: 4 | B42: =IF(AND(COUNTA('2. Investicijos'!$B$5:$B$8)=4,COUNT('2. Investicijos'!$E$5:$E$8)=4,COUNT('2. Investicijos'!$F$5:$F$8)=4,COUNT('2. Investicijos'!$G$5:$G$8)=4,COUNT('2. Investicijos'!$H$5:$H$8)=4),'2. Investicijos'!B8,"") | C42: =IF(OR(B42="",COUNT('3. Finansinės prielaidos'!$C$27:$L$32)<60),"",IF(COUNTIF(H42:Q42,"ATITINKA")=10,"ATITINKA","NEATITINKA")) | D42: =IF(C42="","",IF(C42<>"NEATITINKA","–",INDEX($H$37:$Q$37,1,MATCH("NEATITINKA",H42:Q42,0)))) | E42: =IF(C42="","",IF(C42<>"NEATITINKA","–",IF(INDEX('5A. Pagalbiniai skaičiavimai'!$C$75:$L$75,1,MATCH("NEATITINKA",H42:Q42,0))<=0,"EBITDA ≤ 0",IF(AND(INDEX('5A. Pagalbiniai skaičiavimai'!$C$78:$L$78,1,MATCH("NEATITINKA",H42:Q42,0))>$B$31,INDEX('5A. Pagalbiniai skaičiavimai'!$C$79:$L$79,1,MATCH("NEATITINKA",H42:Q42,0))<$B$32),"Abu kriterijai",IF(INDEX('5A. Pagalbiniai skaičiavimai'!$C$78:$L$78,1,MATCH("NEATITINKA",H42:Q42,0))>$B$31,"Net Debt / EBITDA > 5,5","DSCR < 1,2"))))) | F42: =IF(C42="","",MAX('5A. Pagalbiniai skaičiavimai'!C78:L78)) | G42: =IF(C42="","",MIN('5A. Pagalbiniai skaičiavimai'!C79:L79)) | H42: =IF(OR($B42="",'5A. Pagalbiniai skaičiavimai'!C75="",'5A. Pagalbiniai skaičiavimai'!C78="",'5A. Pagalbiniai skaičiavimai'!C79=""),"",IF(AND('5A. Pagalbiniai skaičiavimai'!C75>0,'5A. Pagalbiniai skaičiavimai'!C78<=$B$31,'5A. Pagalbiniai skaičiavimai'!C79>=$B$32),"ATITINKA","NEATITINKA")) -> #VALUE! | I42: =IF(OR($B42="",'5A. Pagalbiniai skaičiavimai'!D75="",'5A. Pagalbiniai skaičiavimai'!D78="",'5A. Pagalbiniai skaičiavimai'!D79=""),"",IF(AND('5A. Pagalbiniai skaičiavimai'!D75>0,'5A. Pagalbiniai skaičiavimai'!D78<=$B$31,'5A. Pagalbiniai skaičiavimai'!D79>=$B$32),"ATITINKA","NEATITINKA")) -> #VALUE! | J42: =IF(OR($B42="",'5A. Pagalbiniai skaičiavimai'!E75="",'5A. Pagalbiniai skaičiavimai'!E78="",'5A. Pagalbiniai skaičiavimai'!E79=""),"",IF(AND('5A. Pagalbiniai skaičiavimai'!E75>0,'5A. Pagalbiniai skaičiavimai'!E78<=$B$31,'5A. Pagalbiniai skaičiavimai'!E79>=$B$32),"ATITINKA","NEATITINKA")) -> #VALUE! | K42: =IF(OR($B42="",'5A. Pagalbiniai skaičiavimai'!F75="",'5A. Pagalbiniai skaičiavimai'!F78="",'5A. Pagalbiniai skaičiavimai'!F79=""),"",IF(AND('5A. Pagalbiniai skaičiavimai'!F75>0,'5A. Pagalbiniai skaičiavimai'!F78<=$B$31,'5A. Pagalbiniai skaičiavimai'!F79>=$B$32),"ATITINKA","NEATITINKA")) -> #VALUE! | L42: =IF(OR($B42="",'5A. Pagalbiniai skaičiavimai'!G75="",'5A. Pagalbiniai skaičiavimai'!G78="",'5A. Pagalbiniai skaičiavimai'!G79=""),"",IF(AND('5A. Pagalbiniai skaičiavimai'!G75>0,'5A. Pagalbiniai skaičiavimai'!G78<=$B$31,'5A. Pagalbiniai skaičiavimai'!G79>=$B$32),"ATITINKA","NEATITINKA")) -> #VALUE! | M42: =IF(OR($B42="",'5A. Pagalbiniai skaičiavimai'!H75="",'5A. Pagalbiniai skaičiavimai'!H78="",'5A. Pagalbiniai skaičiavimai'!H79=""),"",IF(AND('5A. Pagalbiniai skaičiavimai'!H75>0,'5A. Pagalbiniai skaičiavimai'!H78<=$B$31,'5A. Pagalbiniai skaičiavimai'!H79>=$B$32),"ATITINKA","NEATITINKA")) -> #VALUE! | N42: =IF(OR($B42="",'5A. Pagalbiniai skaičiavimai'!I75="",'5A. Pagalbiniai skaičiavimai'!I78="",'5A. Pagalbiniai skaičiavimai'!I79=""),"",IF(AND('5A. Pagalbiniai skaičiavimai'!I75>0,'5A. Pagalbiniai skaičiavimai'!I78<=$B$31,'5A. Pagalbiniai skaičiavimai'!I79>=$B$32),"ATITINKA","NEATITINKA")) -> #VALUE! | O42: =IF(OR($B42="",'5A. Pagalbiniai skaičiavimai'!J75="",'5A. Pagalbiniai skaičiavimai'!J78="",'5A. Pagalbiniai skaičiavimai'!J79=""),"",IF(AND('5A. Pagalbiniai skaičiavimai'!J75>0,'5A. Pagalbiniai skaičiavimai'!J78<=$B$31,'5A. Pagalbiniai skaičiavimai'!J79>=$B$32),"ATITINKA","NEATITINKA")) -> #VALUE! | ... Q42: =IF(OR($B42="",'5A. Pagalbiniai skaičiavimai'!L75="",'5A. Pagalbiniai skaičiavimai'!L78="",'5A. Pagalbiniai skaičiavimai'!L79=""),"",IF(AND('5A. Pagalbiniai skaičiavimai'!L75>0,'5A. Pagalbiniai skaičiavimai'!L78<=$B$31,'5A. Pagalbiniai skaičiavimai'!L79>=$B$32),"ATITINKA","NEATITINKA")) -> #VALUE!
A43: 5 | B43: =IF(AND(COUNTA('2. Investicijos'!$B$5:$B$9)=5,COUNT('2. Investicijos'!$E$5:$E$9)=5,COUNT('2. Investicijos'!$F$5:$F$9)=5,COUNT('2. Investicijos'!$G$5:$G$9)=5,COUNT('2. Investicijos'!$H$5:$H$9)=5),'2. Investicijos'!B9,"") | C43: =IF(OR(B43="",COUNT('3. Finansinės prielaidos'!$C$27:$L$32)<60),"",IF(COUNTIF(H43:Q43,"ATITINKA")=10,"ATITINKA","NEATITINKA")) | D43: =IF(C43="","",IF(C43<>"NEATITINKA","–",INDEX($H$37:$Q$37,1,MATCH("NEATITINKA",H43:Q43,0)))) | E43: =IF(C43="","",IF(C43<>"NEATITINKA","–",IF(INDEX('5A. Pagalbiniai skaičiavimai'!$C$85:$L$85,1,MATCH("NEATITINKA",H43:Q43,0))<=0,"EBITDA ≤ 0",IF(AND(INDEX('5A. Pagalbiniai skaičiavimai'!$C$88:$L$88,1,MATCH("NEATITINKA",H43:Q43,0))>$B$31,INDEX('5A. Pagalbiniai skaičiavimai'!$C$89:$L$89,1,MATCH("NEATITINKA",H43:Q43,0))<$B$32),"Abu kriterijai",IF(INDEX('5A. Pagalbiniai skaičiavimai'!$C$88:$L$88,1,MATCH("NEATITINKA",H43:Q43,0))>$B$31,"Net Debt / EBITDA > 5,5","DSCR < 1,2"))))) | F43: =IF(C43="","",MAX('5A. Pagalbiniai skaičiavimai'!C88:L88)) | G43: =IF(C43="","",MIN('5A. Pagalbiniai skaičiavimai'!C89:L89)) | H43: =IF(OR($B43="",'5A. Pagalbiniai skaičiavimai'!C85="",'5A. Pagalbiniai skaičiavimai'!C88="",'5A. Pagalbiniai skaičiavimai'!C89=""),"",IF(AND('5A. Pagalbiniai skaičiavimai'!C85>0,'5A. Pagalbiniai skaičiavimai'!C88<=$B$31,'5A. Pagalbiniai skaičiavimai'!C89>=$B$32),"ATITINKA","NEATITINKA")) -> #VALUE! | I43: =IF(OR($B43="",'5A. Pagalbiniai skaičiavimai'!D85="",'5A. Pagalbiniai skaičiavimai'!D88="",'5A. Pagalbiniai skaičiavimai'!D89=""),"",IF(AND('5A. Pagalbiniai skaičiavimai'!D85>0,'5A. Pagalbiniai skaičiavimai'!D88<=$B$31,'5A. Pagalbiniai skaičiavimai'!D89>=$B$32),"ATITINKA","NEATITINKA")) -> #VALUE! | J43: =IF(OR($B43="",'5A. Pagalbiniai skaičiavimai'!E85="",'5A. Pagalbiniai skaičiavimai'!E88="",'5A. Pagalbiniai skaičiavimai'!E89=""),"",IF(AND('5A. Pagalbiniai skaičiavimai'!E85>0,'5A. Pagalbiniai skaičiavimai'!E88<=$B$31,'5A. Pagalbiniai skaičiavimai'!E89>=$B$32),"ATITINKA","NEATITINKA")) -> #VALUE! | K43: =IF(OR($B43="",'5A. Pagalbiniai skaičiavimai'!F85="",'5A. Pagalbiniai skaičiavimai'!F88="",'5A. Pagalbiniai skaičiavimai'!F89=""),"",IF(AND('5A. Pagalbiniai skaičiavimai'!F85>0,'5A. Pagalbiniai skaičiavimai'!F88<=$B$31,'5A. Pagalbiniai skaičiavimai'!F89>=$B$32),"ATITINKA","NEATITINKA")) -> #VALUE! | L43: =IF(OR($B43="",'5A. Pagalbiniai skaičiavimai'!G85="",'5A. Pagalbiniai skaičiavimai'!G88="",'5A. Pagalbiniai skaičiavimai'!G89=""),"",IF(AND('5A. Pagalbiniai skaičiavimai'!G85>0,'5A. Pagalbiniai skaičiavimai'!G88<=$B$31,'5A. Pagalbiniai skaičiavimai'!G89>=$B$32),"ATITINKA","NEATITINKA")) -> #VALUE! | M43: =IF(OR($B43="",'5A. Pagalbiniai skaičiavimai'!H85="",'5A. Pagalbiniai skaičiavimai'!H88="",'5A. Pagalbiniai skaičiavimai'!H89=""),"",IF(AND('5A. Pagalbiniai skaičiavimai'!H85>0,'5A. Pagalbiniai skaičiavimai'!H88<=$B$31,'5A. Pagalbiniai skaičiavimai'!H89>=$B$32),"ATITINKA","NEATITINKA")) -> #VALUE! | N43: =IF(OR($B43="",'5A. Pagalbiniai skaičiavimai'!I85="",'5A. Pagalbiniai skaičiavimai'!I88="",'5A. Pagalbiniai skaičiavimai'!I89=""),"",IF(AND('5A. Pagalbiniai skaičiavimai'!I85>0,'5A. Pagalbiniai skaičiavimai'!I88<=$B$31,'5A. Pagalbiniai skaičiavimai'!I89>=$B$32),"ATITINKA","NEATITINKA")) -> #VALUE! | O43: =IF(OR($B43="",'5A. Pagalbiniai skaičiavimai'!J85="",'5A. Pagalbiniai skaičiavimai'!J88="",'5A. Pagalbiniai skaičiavimai'!J89=""),"",IF(AND('5A. Pagalbiniai skaičiavimai'!J85>0,'5A. Pagalbiniai skaičiavimai'!J88<=$B$31,'5A. Pagalbiniai skaičiavimai'!J89>=$B$32),"ATITINKA","NEATITINKA")) -> #VALUE! | ... Q43: =IF(OR($B43="",'5A. Pagalbiniai skaičiavimai'!L85="",'5A. Pagalbiniai skaičiavimai'!L88="",'5A. Pagalbiniai skaičiavimai'!L89=""),"",IF(AND('5A. Pagalbiniai skaičiavimai'!L85>0,'5A. Pagalbiniai skaičiavimai'!L88<=$B$31,'5A. Pagalbiniai skaičiavimai'!L89>=$B$32),"ATITINKA","NEATITINKA")) -> #VALUE!
A44: 6 | B44: =IF(AND(COUNTA('2. Investicijos'!$B$5:$B$10)=6,COUNT('2. Investicijos'!$E$5:$E$10)=6,COUNT('2. Investicijos'!$F$5:$F$10)=6,COUNT('2. Investicijos'!$G$5:$G$10)=6,COUNT('2. Investicijos'!$H$5:$H$10)=6),'2. Investicijos'!B10,"") | C44: =IF(OR(B44="",COUNT('3. Finansinės prielaidos'!$C$27:$L$32)<60),"",IF(COUNTIF(H44:Q44,"ATITINKA")=10,"ATITINKA","NEATITINKA")) | D44: =IF(C44="","",IF(C44<>"NEATITINKA","–",INDEX($H$37:$Q$37,1,MATCH("NEATITINKA",H44:Q44,0)))) | E44: =IF(C44="","",IF(C44<>"NEATITINKA","–",IF(INDEX('5A. Pagalbiniai skaičiavimai'!$C$95:$L$95,1,MATCH("NEATITINKA",H44:Q44,0))<=0,"EBITDA ≤ 0",IF(AND(INDEX('5A. Pagalbiniai skaičiavimai'!$C$98:$L$98,1,MATCH("NEATITINKA",H44:Q44,0))>$B$31,INDEX('5A. Pagalbiniai skaičiavimai'!$C$99:$L$99,1,MATCH("NEATITINKA",H44:Q44,0))<$B$32),"Abu kriterijai",IF(INDEX('5A. Pagalbiniai skaičiavimai'!$C$98:$L$98,1,MATCH("NEATITINKA",H44:Q44,0))>$B$31,"Net Debt / EBITDA > 5,5","DSCR < 1,2"))))) | F44: =IF(C44="","",MAX('5A. Pagalbiniai skaičiavimai'!C98:L98)) | G44: =IF(C44="","",MIN('5A. Pagalbiniai skaičiavimai'!C99:L99)) | H44: =IF(OR($B44="",'5A. Pagalbiniai skaičiavimai'!C95="",'5A. Pagalbiniai skaičiavimai'!C98="",'5A. Pagalbiniai skaičiavimai'!C99=""),"",IF(AND('5A. Pagalbiniai skaičiavimai'!C95>0,'5A. Pagalbiniai skaičiavimai'!C98<=$B$31,'5A. Pagalbiniai skaičiavimai'!C99>=$B$32),"ATITINKA","NEATITINKA")) -> #VALUE! | I44: =IF(OR($B44="",'5A. Pagalbiniai skaičiavimai'!D95="",'5A. Pagalbiniai skaičiavimai'!D98="",'5A. Pagalbiniai skaičiavimai'!D99=""),"",IF(AND('5A. Pagalbiniai skaičiavimai'!D95>0,'5A. Pagalbiniai skaičiavimai'!D98<=$B$31,'5A. Pagalbiniai skaičiavimai'!D99>=$B$32),"ATITINKA","NEATITINKA")) -> #VALUE! | J44: =IF(OR($B44="",'5A. Pagalbiniai skaičiavimai'!E95="",'5A. Pagalbiniai skaičiavimai'!E98="",'5A. Pagalbiniai skaičiavimai'!E99=""),"",IF(AND('5A. Pagalbiniai skaičiavimai'!E95>0,'5A. Pagalbiniai skaičiavimai'!E98<=$B$31,'5A. Pagalbiniai skaičiavimai'!E99>=$B$32),"ATITINKA","NEATITINKA")) -> #VALUE! | K44: =IF(OR($B44="",'5A. Pagalbiniai skaičiavimai'!F95="",'5A. Pagalbiniai skaičiavimai'!F98="",'5A. Pagalbiniai skaičiavimai'!F99=""),"",IF(AND('5A. Pagalbiniai skaičiavimai'!F95>0,'5A. Pagalbiniai skaičiavimai'!F98<=$B$31,'5A. Pagalbiniai skaičiavimai'!F99>=$B$32),"ATITINKA","NEATITINKA")) -> #VALUE! | L44: =IF(OR($B44="",'5A. Pagalbiniai skaičiavimai'!G95="",'5A. Pagalbiniai skaičiavimai'!G98="",'5A. Pagalbiniai skaičiavimai'!G99=""),"",IF(AND('5A. Pagalbiniai skaičiavimai'!G95>0,'5A. Pagalbiniai skaičiavimai'!G98<=$B$31,'5A. Pagalbiniai skaičiavimai'!G99>=$B$32),"ATITINKA","NEATITINKA")) -> #VALUE! | M44: =IF(OR($B44="",'5A. Pagalbiniai skaičiavimai'!H95="",'5A. Pagalbiniai skaičiavimai'!H98="",'5A. Pagalbiniai skaičiavimai'!H99=""),"",IF(AND('5A. Pagalbiniai skaičiavimai'!H95>0,'5A. Pagalbiniai skaičiavimai'!H98<=$B$31,'5A. Pagalbiniai skaičiavimai'!H99>=$B$32),"ATITINKA","NEATITINKA")) -> #VALUE! | N44: =IF(OR($B44="",'5A. Pagalbiniai skaičiavimai'!I95="",'5A. Pagalbiniai skaičiavimai'!I98="",'5A. Pagalbiniai skaičiavimai'!I99=""),"",IF(AND('5A. Pagalbiniai skaičiavimai'!I95>0,'5A. Pagalbiniai skaičiavimai'!I98<=$B$31,'5A. Pagalbiniai skaičiavimai'!I99>=$B$32),"ATITINKA","NEATITINKA")) -> #VALUE! | O44: =IF(OR($B44="",'5A. Pagalbiniai skaičiavimai'!J95="",'5A. Pagalbiniai skaičiavimai'!J98="",'5A. Pagalbiniai skaičiavimai'!J99=""),"",IF(AND('5A. Pagalbiniai skaičiavimai'!J95>0,'5A. Pagalbiniai skaičiavimai'!J98<=$B$31,'5A. Pagalbiniai skaičiavimai'!J99>=$B$32),"ATITINKA","NEATITINKA")) -> #VALUE! | ... Q44: =IF(OR($B44="",'5A. Pagalbiniai skaičiavimai'!L95="",'5A. Pagalbiniai skaičiavimai'!L98="",'5A. Pagalbiniai skaičiavimai'!L99=""),"",IF(AND('5A. Pagalbiniai skaičiavimai'!L95>0,'5A. Pagalbiniai skaičiavimai'!L98<=$B$31,'5A. Pagalbiniai skaičiavimai'!L99>=$B$32),"ATITINKA","NEATITINKA")) -> #VALUE!
A45: 7 | B45: =IF(AND(COUNTA('2. Investicijos'!$B$5:$B$11)=7,COUNT('2. Investicijos'!$E$5:$E$11)=7,COUNT('2. Investicijos'!$F$5:$F$11)=7,COUNT('2. Investicijos'!$G$5:$G$11)=7,COUNT('2. Investicijos'!$H$5:$H$11)=7),'2. Investicijos'!B11,"") | C45: =IF(OR(B45="",COUNT('3. Finansinės prielaidos'!$C$27:$L$32)<60),"",IF(COUNTIF(H45:Q45,"ATITINKA")=10,"ATITINKA","NEATITINKA")) | D45: =IF(C45="","",IF(C45<>"NEATITINKA","–",INDEX($H$37:$Q$37,1,MATCH("NEATITINKA",H45:Q45,0)))) | E45: =IF(C45="","",IF(C45<>"NEATITINKA","–",IF(INDEX('5A. Pagalbiniai skaičiavimai'!$C$105:$L$105,1,MATCH("NEATITINKA",H45:Q45,0))<=0,"EBITDA ≤ 0",IF(AND(INDEX('5A. Pagalbiniai skaičiavimai'!$C$108:$L$108,1,MATCH("NEATITINKA",H45:Q45,0))>$B$31,INDEX('5A. Pagalbiniai skaičiavimai'!$C$109:$L$109,1,MATCH("NEATITINKA",H45:Q45,0))<$B$32),"Abu kriterijai",IF(INDEX('5A. Pagalbiniai skaičiavimai'!$C$108:$L$108,1,MATCH("NEATITINKA",H45:Q45,0))>$B$31,"Net Debt / EBITDA > 5,5","DSCR < 1,2"))))) | F45: =IF(C45="","",MAX('5A. Pagalbiniai skaičiavimai'!C108:L108)) | G45: =IF(C45="","",MIN('5A. Pagalbiniai skaičiavimai'!C109:L109)) | H45: =IF(OR($B45="",'5A. Pagalbiniai skaičiavimai'!C105="",'5A. Pagalbiniai skaičiavimai'!C108="",'5A. Pagalbiniai skaičiavimai'!C109=""),"",IF(AND('5A. Pagalbiniai skaičiavimai'!C105>0,'5A. Pagalbiniai skaičiavimai'!C108<=$B$31,'5A. Pagalbiniai skaičiavimai'!C109>=$B$32),"ATITINKA","NEATITINKA")) -> #VALUE! | I45: =IF(OR($B45="",'5A. Pagalbiniai skaičiavimai'!D105="",'5A. Pagalbiniai skaičiavimai'!D108="",'5A. Pagalbiniai skaičiavimai'!D109=""),"",IF(AND('5A. Pagalbiniai skaičiavimai'!D105>0,'5A. Pagalbiniai skaičiavimai'!D108<=$B$31,'5A. Pagalbiniai skaičiavimai'!D109>=$B$32),"ATITINKA","NEATITINKA")) -> #VALUE! | J45: =IF(OR($B45="",'5A. Pagalbiniai skaičiavimai'!E105="",'5A. Pagalbiniai skaičiavimai'!E108="",'5A. Pagalbiniai skaičiavimai'!E109=""),"",IF(AND('5A. Pagalbiniai skaičiavimai'!E105>0,'5A. Pagalbiniai skaičiavimai'!E108<=$B$31,'5A. Pagalbiniai skaičiavimai'!E109>=$B$32),"ATITINKA","NEATITINKA")) -> #VALUE! | K45: =IF(OR($B45="",'5A. Pagalbiniai skaičiavimai'!F105="",'5A. Pagalbiniai skaičiavimai'!F108="",'5A. Pagalbiniai skaičiavimai'!F109=""),"",IF(AND('5A. Pagalbiniai skaičiavimai'!F105>0,'5A. Pagalbiniai skaičiavimai'!F108<=$B$31,'5A. Pagalbiniai skaičiavimai'!F109>=$B$32),"ATITINKA","NEATITINKA")) -> #VALUE! | L45: =IF(OR($B45="",'5A. Pagalbiniai skaičiavimai'!G105="",'5A. Pagalbiniai skaičiavimai'!G108="",'5A. Pagalbiniai skaičiavimai'!G109=""),"",IF(AND('5A. Pagalbiniai skaičiavimai'!G105>0,'5A. Pagalbiniai skaičiavimai'!G108<=$B$31,'5A. Pagalbiniai skaičiavimai'!G109>=$B$32),"ATITINKA","NEATITINKA")) -> #VALUE! | M45: =IF(OR($B45="",'5A. Pagalbiniai skaičiavimai'!H105="",'5A. Pagalbiniai skaičiavimai'!H108="",'5A. Pagalbiniai skaičiavimai'!H109=""),"",IF(AND('5A. Pagalbiniai skaičiavimai'!H105>0,'5A. Pagalbiniai skaičiavimai'!H108<=$B$31,'5A. Pagalbiniai skaičiavimai'!H109>=$B$32),"ATITINKA","NEATITINKA")) -> #VALUE! | N45: =IF(OR($B45="",'5A. Pagalbiniai skaičiavimai'!I105="",'5A. Pagalbiniai skaičiavimai'!I108="",'5A. Pagalbiniai skaičiavimai'!I109=""),"",IF(AND('5A. Pagalbiniai skaičiavimai'!I105>0,'5A. Pagalbiniai skaičiavimai'!I108<=$B$31,'5A. Pagalbiniai skaičiavimai'!I109>=$B$32),"ATITINKA","NEATITINKA")) -> #VALUE! | O45: =IF(OR($B45="",'5A. Pagalbiniai skaičiavimai'!J105="",'5A. Pagalbiniai skaičiavimai'!J108="",'5A. Pagalbiniai skaičiavimai'!J109=""),"",IF(AND('5A. Pagalbiniai skaičiavimai'!J105>0,'5A. Pagalbiniai skaičiavimai'!J108<=$B$31,'5A. Pagalbiniai skaičiavimai'!J109>=$B$32),"ATITINKA","NEATITINKA")) -> #VALUE! | ... Q45: =IF(OR($B45="",'5A. Pagalbiniai skaičiavimai'!L105="",'5A. Pagalbiniai skaičiavimai'!L108="",'5A. Pagalbiniai skaičiavimai'!L109=""),"",IF(AND('5A. Pagalbiniai skaičiavimai'!L105>0,'5A. Pagalbiniai skaičiavimai'!L108<=$B$31,'5A. Pagalbiniai skaičiavimai'!L109>=$B$32),"ATITINKA","NEATITINKA")) -> #VALUE!
A46: 8 | B46: =IF(AND(COUNTA('2. Investicijos'!$B$5:$B$12)=8,COUNT('2. Investicijos'!$E$5:$E$12)=8,COUNT('2. Investicijos'!$F$5:$F$12)=8,COUNT('2. Investicijos'!$G$5:$G$12)=8,COUNT('2. Investicijos'!$H$5:$H$12)=8),'2. Investicijos'!B12,"") | C46: =IF(OR(B46="",COUNT('3. Finansinės prielaidos'!$C$27:$L$32)<60),"",IF(COUNTIF(H46:Q46,"ATITINKA")=10,"ATITINKA","NEATITINKA")) | D46: =IF(C46="","",IF(C46<>"NEATITINKA","–",INDEX($H$37:$Q$37,1,MATCH("NEATITINKA",H46:Q46,0)))) | E46: =IF(C46="","",IF(C46<>"NEATITINKA","–",IF(INDEX('5A. Pagalbiniai skaičiavimai'!$C$115:$L$115,1,MATCH("NEATITINKA",H46:Q46,0))<=0,"EBITDA ≤ 0",IF(AND(INDEX('5A. Pagalbiniai skaičiavimai'!$C$118:$L$118,1,MATCH("NEATITINKA",H46:Q46,0))>$B$31,INDEX('5A. Pagalbiniai skaičiavimai'!$C$119:$L$119,1,MATCH("NEATITINKA",H46:Q46,0))<$B$32),"Abu kriterijai",IF(INDEX('5A. Pagalbiniai skaičiavimai'!$C$118:$L$118,1,MATCH("NEATITINKA",H46:Q46,0))>$B$31,"Net Debt / EBITDA > 5,5","DSCR < 1,2"))))) | F46: =IF(C46="","",MAX('5A. Pagalbiniai skaičiavimai'!C118:L118)) | G46: =IF(C46="","",MIN('5A. Pagalbiniai skaičiavimai'!C119:L119)) | H46: =IF(OR($B46="",'5A. Pagalbiniai skaičiavimai'!C115="",'5A. Pagalbiniai skaičiavimai'!C118="",'5A. Pagalbiniai skaičiavimai'!C119=""),"",IF(AND('5A. Pagalbiniai skaičiavimai'!C115>0,'5A. Pagalbiniai skaičiavimai'!C118<=$B$31,'5A. Pagalbiniai skaičiavimai'!C119>=$B$32),"ATITINKA","NEATITINKA")) -> #VALUE! | I46: =IF(OR($B46="",'5A. Pagalbiniai skaičiavimai'!D115="",'5A. Pagalbiniai skaičiavimai'!D118="",'5A. Pagalbiniai skaičiavimai'!D119=""),"",IF(AND('5A. Pagalbiniai skaičiavimai'!D115>0,'5A. Pagalbiniai skaičiavimai'!D118<=$B$31,'5A. Pagalbiniai skaičiavimai'!D119>=$B$32),"ATITINKA","NEATITINKA")) -> #VALUE! | J46: =IF(OR($B46="",'5A. Pagalbiniai skaičiavimai'!E115="",'5A. Pagalbiniai skaičiavimai'!E118="",'5A. Pagalbiniai skaičiavimai'!E119=""),"",IF(AND('5A. Pagalbiniai skaičiavimai'!E115>0,'5A. Pagalbiniai skaičiavimai'!E118<=$B$31,'5A. Pagalbiniai skaičiavimai'!E119>=$B$32),"ATITINKA","NEATITINKA")) -> #VALUE! | K46: =IF(OR($B46="",'5A. Pagalbiniai skaičiavimai'!F115="",'5A. Pagalbiniai skaičiavimai'!F118="",'5A. Pagalbiniai skaičiavimai'!F119=""),"",IF(AND('5A. Pagalbiniai skaičiavimai'!F115>0,'5A. Pagalbiniai skaičiavimai'!F118<=$B$31,'5A. Pagalbiniai skaičiavimai'!F119>=$B$32),"ATITINKA","NEATITINKA")) -> #VALUE! | L46: =IF(OR($B46="",'5A. Pagalbiniai skaičiavimai'!G115="",'5A. Pagalbiniai skaičiavimai'!G118="",'5A. Pagalbiniai skaičiavimai'!G119=""),"",IF(AND('5A. Pagalbiniai skaičiavimai'!G115>0,'5A. Pagalbiniai skaičiavimai'!G118<=$B$31,'5A. Pagalbiniai skaičiavimai'!G119>=$B$32),"ATITINKA","NEATITINKA")) -> #VALUE! | M46: =IF(OR($B46="",'5A. Pagalbiniai skaičiavimai'!H115="",'5A. Pagalbiniai skaičiavimai'!H118="",'5A. Pagalbiniai skaičiavimai'!H119=""),"",IF(AND('5A. Pagalbiniai skaičiavimai'!H115>0,'5A. Pagalbiniai skaičiavimai'!H118<=$B$31,'5A. Pagalbiniai skaičiavimai'!H119>=$B$32),"ATITINKA","NEATITINKA")) -> #VALUE! | N46: =IF(OR($B46="",'5A. Pagalbiniai skaičiavimai'!I115="",'5A. Pagalbiniai skaičiavimai'!I118="",'5A. Pagalbiniai skaičiavimai'!I119=""),"",IF(AND('5A. Pagalbiniai skaičiavimai'!I115>0,'5A. Pagalbiniai skaičiavimai'!I118<=$B$31,'5A. Pagalbiniai skaičiavimai'!I119>=$B$32),"ATITINKA","NEATITINKA")) -> #VALUE! | O46: =IF(OR($B46="",'5A. Pagalbiniai skaičiavimai'!J115="",'5A. Pagalbiniai skaičiavimai'!J118="",'5A. Pagalbiniai skaičiavimai'!J119=""),"",IF(AND('5A. Pagalbiniai skaičiavimai'!J115>0,'5A. Pagalbiniai skaičiavimai'!J118<=$B$31,'5A. Pagalbiniai skaičiavimai'!J119>=$B$32),"ATITINKA","NEATITINKA")) -> #VALUE! | ... Q46: =IF(OR($B46="",'5A. Pagalbiniai skaičiavimai'!L115="",'5A. Pagalbiniai skaičiavimai'!L118="",'5A. Pagalbiniai skaičiavimai'!L119=""),"",IF(AND('5A. Pagalbiniai skaičiavimai'!L115>0,'5A. Pagalbiniai skaičiavimai'!L118<=$B$31,'5A. Pagalbiniai skaičiavimai'!L119>=$B$32),"ATITINKA","NEATITINKA")) -> #VALUE!
A47: 9 | B47: =IF(AND(COUNTA('2. Investicijos'!$B$5:$B$13)=9,COUNT('2. Investicijos'!$E$5:$E$13)=9,COUNT('2. Investicijos'!$F$5:$F$13)=9,COUNT('2. Investicijos'!$G$5:$G$13)=9,COUNT('2. Investicijos'!$H$5:$H$13)=9),'2. Investicijos'!B13,"") | C47: =IF(OR(B47="",COUNT('3. Finansinės prielaidos'!$C$27:$L$32)<60),"",IF(COUNTIF(H47:Q47,"ATITINKA")=10,"ATITINKA","NEATITINKA")) | D47: =IF(C47="","",IF(C47<>"NEATITINKA","–",INDEX($H$37:$Q$37,1,MATCH("NEATITINKA",H47:Q47,0)))) | E47: =IF(C47="","",IF(C47<>"NEATITINKA","–",IF(INDEX('5A. Pagalbiniai skaičiavimai'!$C$125:$L$125,1,MATCH("NEATITINKA",H47:Q47,0))<=0,"EBITDA ≤ 0",IF(AND(INDEX('5A. Pagalbiniai skaičiavimai'!$C$128:$L$128,1,MATCH("NEATITINKA",H47:Q47,0))>$B$31,INDEX('5A. Pagalbiniai skaičiavimai'!$C$129:$L$129,1,MATCH("NEATITINKA",H47:Q47,0))<$B$32),"Abu kriterijai",IF(INDEX('5A. Pagalbiniai skaičiavimai'!$C$128:$L$128,1,MATCH("NEATITINKA",H47:Q47,0))>$B$31,"Net Debt / EBITDA > 5,5","DSCR < 1,2"))))) | F47: =IF(C47="","",MAX('5A. Pagalbiniai skaičiavimai'!C128:L128)) | G47: =IF(C47="","",MIN('5A. Pagalbiniai skaičiavimai'!C129:L129)) | H47: =IF(OR($B47="",'5A. Pagalbiniai skaičiavimai'!C125="",'5A. Pagalbiniai skaičiavimai'!C128="",'5A. Pagalbiniai skaičiavimai'!C129=""),"",IF(AND('5A. Pagalbiniai skaičiavimai'!C125>0,'5A. Pagalbiniai skaičiavimai'!C128<=$B$31,'5A. Pagalbiniai skaičiavimai'!C129>=$B$32),"ATITINKA","NEATITINKA")) -> #VALUE! | I47: =IF(OR($B47="",'5A. Pagalbiniai skaičiavimai'!D125="",'5A. Pagalbiniai skaičiavimai'!D128="",'5A. Pagalbiniai skaičiavimai'!D129=""),"",IF(AND('5A. Pagalbiniai skaičiavimai'!D125>0,'5A. Pagalbiniai skaičiavimai'!D128<=$B$31,'5A. Pagalbiniai skaičiavimai'!D129>=$B$32),"ATITINKA","NEATITINKA")) -> #VALUE! | J47: =IF(OR($B47="",'5A. Pagalbiniai skaičiavimai'!E125="",'5A. Pagalbiniai skaičiavimai'!E128="",'5A. Pagalbiniai skaičiavimai'!E129=""),"",IF(AND('5A. Pagalbiniai skaičiavimai'!E125>0,'5A. Pagalbiniai skaičiavimai'!E128<=$B$31,'5A. Pagalbiniai skaičiavimai'!E129>=$B$32),"ATITINKA","NEATITINKA")) -> #VALUE! | K47: =IF(OR($B47="",'5A. Pagalbiniai skaičiavimai'!F125="",'5A. Pagalbiniai skaičiavimai'!F128="",'5A. Pagalbiniai skaičiavimai'!F129=""),"",IF(AND('5A. Pagalbiniai skaičiavimai'!F125>0,'5A. Pagalbiniai skaičiavimai'!F128<=$B$31,'5A. Pagalbiniai skaičiavimai'!F129>=$B$32),"ATITINKA","NEATITINKA")) -> #VALUE! | L47: =IF(OR($B47="",'5A. Pagalbiniai skaičiavimai'!G125="",'5A. Pagalbiniai skaičiavimai'!G128="",'5A. Pagalbiniai skaičiavimai'!G129=""),"",IF(AND('5A. Pagalbiniai skaičiavimai'!G125>0,'5A. Pagalbiniai skaičiavimai'!G128<=$B$31,'5A. Pagalbiniai skaičiavimai'!G129>=$B$32),"ATITINKA","NEATITINKA")) -> #VALUE! | M47: =IF(OR($B47="",'5A. Pagalbiniai skaičiavimai'!H125="",'5A. Pagalbiniai skaičiavimai'!H128="",'5A. Pagalbiniai skaičiavimai'!H129=""),"",IF(AND('5A. Pagalbiniai skaičiavimai'!H125>0,'5A. Pagalbiniai skaičiavimai'!H128<=$B$31,'5A. Pagalbiniai skaičiavimai'!H129>=$B$32),"ATITINKA","NEATITINKA")) -> #VALUE! | N47: =IF(OR($B47="",'5A. Pagalbiniai skaičiavimai'!I125="",'5A. Pagalbiniai skaičiavimai'!I128="",'5A. Pagalbiniai skaičiavimai'!I129=""),"",IF(AND('5A. Pagalbiniai skaičiavimai'!I125>0,'5A. Pagalbiniai skaičiavimai'!I128<=$B$31,'5A. Pagalbiniai skaičiavimai'!I129>=$B$32),"ATITINKA","NEATITINKA")) -> #VALUE! | O47: =IF(OR($B47="",'5A. Pagalbiniai skaičiavimai'!J125="",'5A. Pagalbiniai skaičiavimai'!J128="",'5A. Pagalbiniai skaičiavimai'!J129=""),"",IF(AND('5A. Pagalbiniai skaičiavimai'!J125>0,'5A. Pagalbiniai skaičiavimai'!J128<=$B$31,'5A. Pagalbiniai skaičiavimai'!J129>=$B$32),"ATITINKA","NEATITINKA")) -> #VALUE! | ... Q47: =IF(OR($B47="",'5A. Pagalbiniai skaičiavimai'!L125="",'5A. Pagalbiniai skaičiavimai'!L128="",'5A. Pagalbiniai skaičiavimai'!L129=""),"",IF(AND('5A. Pagalbiniai skaičiavimai'!L125>0,'5A. Pagalbiniai skaičiavimai'!L128<=$B$31,'5A. Pagalbiniai skaičiavimai'!L129>=$B$32),"ATITINKA","NEATITINKA")) -> #VALUE!
A48: 10 | B48: =IF(AND(COUNTA('2. Investicijos'!$B$5:$B$14)=10,COUNT('2. Investicijos'!$E$5:$E$14)=10,COUNT('2. Investicijos'!$F$5:$F$14)=10,COUNT('2. Investicijos'!$G$5:$G$14)=10,COUNT('2. Investicijos'!$H$5:$H$14)=10),'2. Investicijos'!B14,"") | C48: =IF(OR(B48="",COUNT('3. Finansinės prielaidos'!$C$27:$L$32)<60),"",IF(COUNTIF(H48:Q48,"ATITINKA")=10,"ATITINKA","NEATITINKA")) | D48: =IF(C48="","",IF(C48<>"NEATITINKA","–",INDEX($H$37:$Q$37,1,MATCH("NEATITINKA",H48:Q48,0)))) | E48: =IF(C48="","",IF(C48<>"NEATITINKA","–",IF(INDEX('5A. Pagalbiniai skaičiavimai'!$C$135:$L$135,1,MATCH("NEATITINKA",H48:Q48,0))<=0,"EBITDA ≤ 0",IF(AND(INDEX('5A. Pagalbiniai skaičiavimai'!$C$138:$L$138,1,MATCH("NEATITINKA",H48:Q48,0))>$B$31,INDEX('5A. Pagalbiniai skaičiavimai'!$C$139:$L$139,1,MATCH("NEATITINKA",H48:Q48,0))<$B$32),"Abu kriterijai",IF(INDEX('5A. Pagalbiniai skaičiavimai'!$C$138:$L$138,1,MATCH("NEATITINKA",H48:Q48,0))>$B$31,"Net Debt / EBITDA > 5,5","DSCR < 1,2"))))) | F48: =IF(C48="","",MAX('5A. Pagalbiniai skaičiavimai'!C138:L138)) | G48: =IF(C48="","",MIN('5A. Pagalbiniai skaičiavimai'!C139:L139)) | H48: =IF(OR($B48="",'5A. Pagalbiniai skaičiavimai'!C135="",'5A. Pagalbiniai skaičiavimai'!C138="",'5A. Pagalbiniai skaičiavimai'!C139=""),"",IF(AND('5A. Pagalbiniai skaičiavimai'!C135>0,'5A. Pagalbiniai skaičiavimai'!C138<=$B$31,'5A. Pagalbiniai skaičiavimai'!C139>=$B$32),"ATITINKA","NEATITINKA")) -> #VALUE! | I48: =IF(OR($B48="",'5A. Pagalbiniai skaičiavimai'!D135="",'5A. Pagalbiniai skaičiavimai'!D138="",'5A. Pagalbiniai skaičiavimai'!D139=""),"",IF(AND('5A. Pagalbiniai skaičiavimai'!D135>0,'5A. Pagalbiniai skaičiavimai'!D138<=$B$31,'5A. Pagalbiniai skaičiavimai'!D139>=$B$32),"ATITINKA","NEATITINKA")) -> #VALUE! | J48: =IF(OR($B48="",'5A. Pagalbiniai skaičiavimai'!E135="",'5A. Pagalbiniai skaičiavimai'!E138="",'5A. Pagalbiniai skaičiavimai'!E139=""),"",IF(AND('5A. Pagalbiniai skaičiavimai'!E135>0,'5A. Pagalbiniai skaičiavimai'!E138<=$B$31,'5A. Pagalbiniai skaičiavimai'!E139>=$B$32),"ATITINKA","NEATITINKA")) -> #VALUE! | K48: =IF(OR($B48="",'5A. Pagalbiniai skaičiavimai'!F135="",'5A. Pagalbiniai skaičiavimai'!F138="",'5A. Pagalbiniai skaičiavimai'!F139=""),"",IF(AND('5A. Pagalbiniai skaičiavimai'!F135>0,'5A. Pagalbiniai skaičiavimai'!F138<=$B$31,'5A. Pagalbiniai skaičiavimai'!F139>=$B$32),"ATITINKA","NEATITINKA")) -> #VALUE! | L48: =IF(OR($B48="",'5A. Pagalbiniai skaičiavimai'!G135="",'5A. Pagalbiniai skaičiavimai'!G138="",'5A. Pagalbiniai skaičiavimai'!G139=""),"",IF(AND('5A. Pagalbiniai skaičiavimai'!G135>0,'5A. Pagalbiniai skaičiavimai'!G138<=$B$31,'5A. Pagalbiniai skaičiavimai'!G139>=$B$32),"ATITINKA","NEATITINKA")) -> #VALUE! | M48: =IF(OR($B48="",'5A. Pagalbiniai skaičiavimai'!H135="",'5A. Pagalbiniai skaičiavimai'!H138="",'5A. Pagalbiniai skaičiavimai'!H139=""),"",IF(AND('5A. Pagalbiniai skaičiavimai'!H135>0,'5A. Pagalbiniai skaičiavimai'!H138<=$B$31,'5A. Pagalbiniai skaičiavimai'!H139>=$B$32),"ATITINKA","NEATITINKA")) -> #VALUE! | N48: =IF(OR($B48="",'5A. Pagalbiniai skaičiavimai'!I135="",'5A. Pagalbiniai skaičiavimai'!I138="",'5A. Pagalbiniai skaičiavimai'!I139=""),"",IF(AND('5A. Pagalbiniai skaičiavimai'!I135>0,'5A. Pagalbiniai skaičiavimai'!I138<=$B$31,'5A. Pagalbiniai skaičiavimai'!I139>=$B$32),"ATITINKA","NEATITINKA")) -> #VALUE! | O48: =IF(OR($B48="",'5A. Pagalbiniai skaičiavimai'!J135="",'5A. Pagalbiniai skaičiavimai'!J138="",'5A. Pagalbiniai skaičiavimai'!J139=""),"",IF(AND('5A. Pagalbiniai skaičiavimai'!J135>0,'5A. Pagalbiniai skaičiavimai'!J138<=$B$31,'5A. Pagalbiniai skaičiavimai'!J139>=$B$32),"ATITINKA","NEATITINKA")) -> #VALUE! | ... Q48: =IF(OR($B48="",'5A. Pagalbiniai skaičiavimai'!L135="",'5A. Pagalbiniai skaičiavimai'!L138="",'5A. Pagalbiniai skaičiavimai'!L139=""),"",IF(AND('5A. Pagalbiniai skaičiavimai'!L135>0,'5A. Pagalbiniai skaičiavimai'!L138<=$B$31,'5A. Pagalbiniai skaičiavimai'!L139>=$B$32),"ATITINKA","NEATITINKA")) -> #VALUE!
A49: 11 | B49: =IF(AND(COUNTA('2. Investicijos'!$B$5:$B$15)=11,COUNT('2. Investicijos'!$E$5:$E$15)=11,COUNT('2. Investicijos'!$F$5:$F$15)=11,COUNT('2. Investicijos'!$G$5:$G$15)=11,COUNT('2. Investicijos'!$H$5:$H$15)=11),'2. Investicijos'!B15,"") | C49: =IF(OR(B49="",COUNT('3. Finansinės prielaidos'!$C$27:$L$32)<60),"",IF(COUNTIF(H49:Q49,"ATITINKA")=10,"ATITINKA","NEATITINKA")) | D49: =IF(C49="","",IF(C49<>"NEATITINKA","–",INDEX($H$37:$Q$37,1,MATCH("NEATITINKA",H49:Q49,0)))) | E49: =IF(C49="","",IF(C49<>"NEATITINKA","–",IF(INDEX('5A. Pagalbiniai skaičiavimai'!$C$145:$L$145,1,MATCH("NEATITINKA",H49:Q49,0))<=0,"EBITDA ≤ 0",IF(AND(INDEX('5A. Pagalbiniai skaičiavimai'!$C$148:$L$148,1,MATCH("NEATITINKA",H49:Q49,0))>$B$31,INDEX('5A. Pagalbiniai skaičiavimai'!$C$149:$L$149,1,MATCH("NEATITINKA",H49:Q49,0))<$B$32),"Abu kriterijai",IF(INDEX('5A. Pagalbiniai skaičiavimai'!$C$148:$L$148,1,MATCH("NEATITINKA",H49:Q49,0))>$B$31,"Net Debt / EBITDA > 5,5","DSCR < 1,2"))))) | F49: =IF(C49="","",MAX('5A. Pagalbiniai skaičiavimai'!C148:L148)) | G49: =IF(C49="","",MIN('5A. Pagalbiniai skaičiavimai'!C149:L149)) | H49: =IF(OR($B49="",'5A. Pagalbiniai skaičiavimai'!C145="",'5A. Pagalbiniai skaičiavimai'!C148="",'5A. Pagalbiniai skaičiavimai'!C149=""),"",IF(AND('5A. Pagalbiniai skaičiavimai'!C145>0,'5A. Pagalbiniai skaičiavimai'!C148<=$B$31,'5A. Pagalbiniai skaičiavimai'!C149>=$B$32),"ATITINKA","NEATITINKA")) -> #VALUE! | I49: =IF(OR($B49="",'5A. Pagalbiniai skaičiavimai'!D145="",'5A. Pagalbiniai skaičiavimai'!D148="",'5A. Pagalbiniai skaičiavimai'!D149=""),"",IF(AND('5A. Pagalbiniai skaičiavimai'!D145>0,'5A. Pagalbiniai skaičiavimai'!D148<=$B$31,'5A. Pagalbiniai skaičiavimai'!D149>=$B$32),"ATITINKA","NEATITINKA")) -> #VALUE! | J49: =IF(OR($B49="",'5A. Pagalbiniai skaičiavimai'!E145="",'5A. Pagalbiniai skaičiavimai'!E148="",'5A. Pagalbiniai skaičiavimai'!E149=""),"",IF(AND('5A. Pagalbiniai skaičiavimai'!E145>0,'5A. Pagalbiniai skaičiavimai'!E148<=$B$31,'5A. Pagalbiniai skaičiavimai'!E149>=$B$32),"ATITINKA","NEATITINKA")) -> #VALUE! | K49: =IF(OR($B49="",'5A. Pagalbiniai skaičiavimai'!F145="",'5A. Pagalbiniai skaičiavimai'!F148="",'5A. Pagalbiniai skaičiavimai'!F149=""),"",IF(AND('5A. Pagalbiniai skaičiavimai'!F145>0,'5A. Pagalbiniai skaičiavimai'!F148<=$B$31,'5A. Pagalbiniai skaičiavimai'!F149>=$B$32),"ATITINKA","NEATITINKA")) -> #VALUE! | L49: =IF(OR($B49="",'5A. Pagalbiniai skaičiavimai'!G145="",'5A. Pagalbiniai skaičiavimai'!G148="",'5A. Pagalbiniai skaičiavimai'!G149=""),"",IF(AND('5A. Pagalbiniai skaičiavimai'!G145>0,'5A. Pagalbiniai skaičiavimai'!G148<=$B$31,'5A. Pagalbiniai skaičiavimai'!G149>=$B$32),"ATITINKA","NEATITINKA")) -> #VALUE! | M49: =IF(OR($B49="",'5A. Pagalbiniai skaičiavimai'!H145="",'5A. Pagalbiniai skaičiavimai'!H148="",'5A. Pagalbiniai skaičiavimai'!H149=""),"",IF(AND('5A. Pagalbiniai skaičiavimai'!H145>0,'5A. Pagalbiniai skaičiavimai'!H148<=$B$31,'5A. Pagalbiniai skaičiavimai'!H149>=$B$32),"ATITINKA","NEATITINKA")) -> #VALUE! | N49: =IF(OR($B49="",'5A. Pagalbiniai skaičiavimai'!I145="",'5A. Pagalbiniai skaičiavimai'!I148="",'5A. Pagalbiniai skaičiavimai'!I149=""),"",IF(AND('5A. Pagalbiniai skaičiavimai'!I145>0,'5A. Pagalbiniai skaičiavimai'!I148<=$B$31,'5A. Pagalbiniai skaičiavimai'!I149>=$B$32),"ATITINKA","NEATITINKA")) -> #VALUE! | O49: =IF(OR($B49="",'5A. Pagalbiniai skaičiavimai'!J145="",'5A. Pagalbiniai skaičiavimai'!J148="",'5A. Pagalbiniai skaičiavimai'!J149=""),"",IF(AND('5A. Pagalbiniai skaičiavimai'!J145>0,'5A. Pagalbiniai skaičiavimai'!J148<=$B$31,'5A. Pagalbiniai skaičiavimai'!J149>=$B$32),"ATITINKA","NEATITINKA")) -> #VALUE! | ... Q49: =IF(OR($B49="",'5A. Pagalbiniai skaičiavimai'!L145="",'5A. Pagalbiniai skaičiavimai'!L148="",'5A. Pagalbiniai skaičiavimai'!L149=""),"",IF(AND('5A. Pagalbiniai skaičiavimai'!L145>0,'5A. Pagalbiniai skaičiavimai'!L148<=$B$31,'5A. Pagalbiniai skaičiavimai'!L149>=$B$32),"ATITINKA","NEATITINKA")) -> #VALUE!
A50: 12 | B50: =IF(AND(COUNTA('2. Investicijos'!$B$5:$B$16)=12,COUNT('2. Investicijos'!$E$5:$E$16)=12,COUNT('2. Investicijos'!$F$5:$F$16)=12,COUNT('2. Investicijos'!$G$5:$G$16)=12,COUNT('2. Investicijos'!$H$5:$H$16)=12),'2. Investicijos'!B16,"") | C50: =IF(OR(B50="",COUNT('3. Finansinės prielaidos'!$C$27:$L$32)<60),"",IF(COUNTIF(H50:Q50,"ATITINKA")=10,"ATITINKA","NEATITINKA")) | D50: =IF(C50="","",IF(C50<>"NEATITINKA","–",INDEX($H$37:$Q$37,1,MATCH("NEATITINKA",H50:Q50,0)))) | E50: =IF(C50="","",IF(C50<>"NEATITINKA","–",IF(INDEX('5A. Pagalbiniai skaičiavimai'!$C$155:$L$155,1,MATCH("NEATITINKA",H50:Q50,0))<=0,"EBITDA ≤ 0",IF(AND(INDEX('5A. Pagalbiniai skaičiavimai'!$C$158:$L$158,1,MATCH("NEATITINKA",H50:Q50,0))>$B$31,INDEX('5A. Pagalbiniai skaičiavimai'!$C$159:$L$159,1,MATCH("NEATITINKA",H50:Q50,0))<$B$32),"Abu kriterijai",IF(INDEX('5A. Pagalbiniai skaičiavimai'!$C$158:$L$158,1,MATCH("NEATITINKA",H50:Q50,0))>$B$31,"Net Debt / EBITDA > 5,5","DSCR < 1,2"))))) | F50: =IF(C50="","",MAX('5A. Pagalbiniai skaičiavimai'!C158:L158)) | G50: =IF(C50="","",MIN('5A. Pagalbiniai skaičiavimai'!C159:L159)) | H50: =IF(OR($B50="",'5A. Pagalbiniai skaičiavimai'!C155="",'5A. Pagalbiniai skaičiavimai'!C158="",'5A. Pagalbiniai skaičiavimai'!C159=""),"",IF(AND('5A. Pagalbiniai skaičiavimai'!C155>0,'5A. Pagalbiniai skaičiavimai'!C158<=$B$31,'5A. Pagalbiniai skaičiavimai'!C159>=$B$32),"ATITINKA","NEATITINKA")) -> #VALUE! | I50: =IF(OR($B50="",'5A. Pagalbiniai skaičiavimai'!D155="",'5A. Pagalbiniai skaičiavimai'!D158="",'5A. Pagalbiniai skaičiavimai'!D159=""),"",IF(AND('5A. Pagalbiniai skaičiavimai'!D155>0,'5A. Pagalbiniai skaičiavimai'!D158<=$B$31,'5A. Pagalbiniai skaičiavimai'!D159>=$B$32),"ATITINKA","NEATITINKA")) -> #VALUE! | J50: =IF(OR($B50="",'5A. Pagalbiniai skaičiavimai'!E155="",'5A. Pagalbiniai skaičiavimai'!E158="",'5A. Pagalbiniai skaičiavimai'!E159=""),"",IF(AND('5A. Pagalbiniai skaičiavimai'!E155>0,'5A. Pagalbiniai skaičiavimai'!E158<=$B$31,'5A. Pagalbiniai skaičiavimai'!E159>=$B$32),"ATITINKA","NEATITINKA")) -> #VALUE! | K50: =IF(OR($B50="",'5A. Pagalbiniai skaičiavimai'!F155="",'5A. Pagalbiniai skaičiavimai'!F158="",'5A. Pagalbiniai skaičiavimai'!F159=""),"",IF(AND('5A. Pagalbiniai skaičiavimai'!F155>0,'5A. Pagalbiniai skaičiavimai'!F158<=$B$31,'5A. Pagalbiniai skaičiavimai'!F159>=$B$32),"ATITINKA","NEATITINKA")) -> #VALUE! | L50: =IF(OR($B50="",'5A. Pagalbiniai skaičiavimai'!G155="",'5A. Pagalbiniai skaičiavimai'!G158="",'5A. Pagalbiniai skaičiavimai'!G159=""),"",IF(AND('5A. Pagalbiniai skaičiavimai'!G155>0,'5A. Pagalbiniai skaičiavimai'!G158<=$B$31,'5A. Pagalbiniai skaičiavimai'!G159>=$B$32),"ATITINKA","NEATITINKA")) -> #VALUE! | M50: =IF(OR($B50="",'5A. Pagalbiniai skaičiavimai'!H155="",'5A. Pagalbiniai skaičiavimai'!H158="",'5A. Pagalbiniai skaičiavimai'!H159=""),"",IF(AND('5A. Pagalbiniai skaičiavimai'!H155>0,'5A. Pagalbiniai skaičiavimai'!H158<=$B$31,'5A. Pagalbiniai skaičiavimai'!H159>=$B$32),"ATITINKA","NEATITINKA")) -> #VALUE! | N50: =IF(OR($B50="",'5A. Pagalbiniai skaičiavimai'!I155="",'5A. Pagalbiniai skaičiavimai'!I158="",'5A. Pagalbiniai skaičiavimai'!I159=""),"",IF(AND('5A. Pagalbiniai skaičiavimai'!I155>0,'5A. Pagalbiniai skaičiavimai'!I158<=$B$31,'5A. Pagalbiniai skaičiavimai'!I159>=$B$32),"ATITINKA","NEATITINKA")) -> #VALUE! | O50: =IF(OR($B50="",'5A. Pagalbiniai skaičiavimai'!J155="",'5A. Pagalbiniai skaičiavimai'!J158="",'5A. Pagalbiniai skaičiavimai'!J159=""),"",IF(AND('5A. Pagalbiniai skaičiavimai'!J155>0,'5A. Pagalbiniai skaičiavimai'!J158<=$B$31,'5A. Pagalbiniai skaičiavimai'!J159>=$B$32),"ATITINKA","NEATITINKA")) -> #VALUE! | ... Q50: =IF(OR($B50="",'5A. Pagalbiniai skaičiavimai'!L155="",'5A. Pagalbiniai skaičiavimai'!L158="",'5A. Pagalbiniai skaičiavimai'!L159=""),"",IF(AND('5A. Pagalbiniai skaičiavimai'!L155>0,'5A. Pagalbiniai skaičiavimai'!L158<=$B$31,'5A. Pagalbiniai skaičiavimai'!L159>=$B$32),"ATITINKA","NEATITINKA")) -> #VALUE!
A51: 13 | B51: =IF(AND(COUNTA('2. Investicijos'!$B$5:$B$17)=13,COUNT('2. Investicijos'!$E$5:$E$17)=13,COUNT('2. Investicijos'!$F$5:$F$17)=13,COUNT('2. Investicijos'!$G$5:$G$17)=13,COUNT('2. Investicijos'!$H$5:$H$17)=13),'2. Investicijos'!B17,"") | C51: =IF(OR(B51="",COUNT('3. Finansinės prielaidos'!$C$27:$L$32)<60),"",IF(COUNTIF(H51:Q51,"ATITINKA")=10,"ATITINKA","NEATITINKA")) | D51: =IF(C51="","",IF(C51<>"NEATITINKA","–",INDEX($H$37:$Q$37,1,MATCH("NEATITINKA",H51:Q51,0)))) | E51: =IF(C51="","",IF(C51<>"NEATITINKA","–",IF(INDEX('5A. Pagalbiniai skaičiavimai'!$C$165:$L$165,1,MATCH("NEATITINKA",H51:Q51,0))<=0,"EBITDA ≤ 0",IF(AND(INDEX('5A. Pagalbiniai skaičiavimai'!$C$168:$L$168,1,MATCH("NEATITINKA",H51:Q51,0))>$B$31,INDEX('5A. Pagalbiniai skaičiavimai'!$C$169:$L$169,1,MATCH("NEATITINKA",H51:Q51,0))<$B$32),"Abu kriterijai",IF(INDEX('5A. Pagalbiniai skaičiavimai'!$C$168:$L$168,1,MATCH("NEATITINKA",H51:Q51,0))>$B$31,"Net Debt / EBITDA > 5,5","DSCR < 1,2"))))) | F51: =IF(C51="","",MAX('5A. Pagalbiniai skaičiavimai'!C168:L168)) | G51: =IF(C51="","",MIN('5A. Pagalbiniai skaičiavimai'!C169:L169)) | H51: =IF(OR($B51="",'5A. Pagalbiniai skaičiavimai'!C165="",'5A. Pagalbiniai skaičiavimai'!C168="",'5A. Pagalbiniai skaičiavimai'!C169=""),"",IF(AND('5A. Pagalbiniai skaičiavimai'!C165>0,'5A. Pagalbiniai skaičiavimai'!C168<=$B$31,'5A. Pagalbiniai skaičiavimai'!C169>=$B$32),"ATITINKA","NEATITINKA")) -> #VALUE! | I51: =IF(OR($B51="",'5A. Pagalbiniai skaičiavimai'!D165="",'5A. Pagalbiniai skaičiavimai'!D168="",'5A. Pagalbiniai skaičiavimai'!D169=""),"",IF(AND('5A. Pagalbiniai skaičiavimai'!D165>0,'5A. Pagalbiniai skaičiavimai'!D168<=$B$31,'5A. Pagalbiniai skaičiavimai'!D169>=$B$32),"ATITINKA","NEATITINKA")) -> #VALUE! | J51: =IF(OR($B51="",'5A. Pagalbiniai skaičiavimai'!E165="",'5A. Pagalbiniai skaičiavimai'!E168="",'5A. Pagalbiniai skaičiavimai'!E169=""),"",IF(AND('5A. Pagalbiniai skaičiavimai'!E165>0,'5A. Pagalbiniai skaičiavimai'!E168<=$B$31,'5A. Pagalbiniai skaičiavimai'!E169>=$B$32),"ATITINKA","NEATITINKA")) -> #VALUE! | K51: =IF(OR($B51="",'5A. Pagalbiniai skaičiavimai'!F165="",'5A. Pagalbiniai skaičiavimai'!F168="",'5A. Pagalbiniai skaičiavimai'!F169=""),"",IF(AND('5A. Pagalbiniai skaičiavimai'!F165>0,'5A. Pagalbiniai skaičiavimai'!F168<=$B$31,'5A. Pagalbiniai skaičiavimai'!F169>=$B$32),"ATITINKA","NEATITINKA")) -> #VALUE! | L51: =IF(OR($B51="",'5A. Pagalbiniai skaičiavimai'!G165="",'5A. Pagalbiniai skaičiavimai'!G168="",'5A. Pagalbiniai skaičiavimai'!G169=""),"",IF(AND('5A. Pagalbiniai skaičiavimai'!G165>0,'5A. Pagalbiniai skaičiavimai'!G168<=$B$31,'5A. Pagalbiniai skaičiavimai'!G169>=$B$32),"ATITINKA","NEATITINKA")) -> #VALUE! | M51: =IF(OR($B51="",'5A. Pagalbiniai skaičiavimai'!H165="",'5A. Pagalbiniai skaičiavimai'!H168="",'5A. Pagalbiniai skaičiavimai'!H169=""),"",IF(AND('5A. Pagalbiniai skaičiavimai'!H165>0,'5A. Pagalbiniai skaičiavimai'!H168<=$B$31,'5A. Pagalbiniai skaičiavimai'!H169>=$B$32),"ATITINKA","NEATITINKA")) -> #VALUE! | N51: =IF(OR($B51="",'5A. Pagalbiniai skaičiavimai'!I165="",'5A. Pagalbiniai skaičiavimai'!I168="",'5A. Pagalbiniai skaičiavimai'!I169=""),"",IF(AND('5A. Pagalbiniai skaičiavimai'!I165>0,'5A. Pagalbiniai skaičiavimai'!I168<=$B$31,'5A. Pagalbiniai skaičiavimai'!I169>=$B$32),"ATITINKA","NEATITINKA")) -> #VALUE! | O51: =IF(OR($B51="",'5A. Pagalbiniai skaičiavimai'!J165="",'5A. Pagalbiniai skaičiavimai'!J168="",'5A. Pagalbiniai skaičiavimai'!J169=""),"",IF(AND('5A. Pagalbiniai skaičiavimai'!J165>0,'5A. Pagalbiniai skaičiavimai'!J168<=$B$31,'5A. Pagalbiniai skaičiavimai'!J169>=$B$32),"ATITINKA","NEATITINKA")) -> #VALUE! | ... Q51: =IF(OR($B51="",'5A. Pagalbiniai skaičiavimai'!L165="",'5A. Pagalbiniai skaičiavimai'!L168="",'5A. Pagalbiniai skaičiavimai'!L169=""),"",IF(AND('5A. Pagalbiniai skaičiavimai'!L165>0,'5A. Pagalbiniai skaičiavimai'!L168<=$B$31,'5A. Pagalbiniai skaičiavimai'!L169>=$B$32),"ATITINKA","NEATITINKA")) -> #VALUE!
A52: 14 | B52: =IF(AND(COUNTA('2. Investicijos'!$B$5:$B$18)=14,COUNT('2. Investicijos'!$E$5:$E$18)=14,COUNT('2. Investicijos'!$F$5:$F$18)=14,COUNT('2. Investicijos'!$G$5:$G$18)=14,COUNT('2. Investicijos'!$H$5:$H$18)=14),'2. Investicijos'!B18,"") | C52: =IF(OR(B52="",COUNT('3. Finansinės prielaidos'!$C$27:$L$32)<60),"",IF(COUNTIF(H52:Q52,"ATITINKA")=10,"ATITINKA","NEATITINKA")) | D52: =IF(C52="","",IF(C52<>"NEATITINKA","–",INDEX($H$37:$Q$37,1,MATCH("NEATITINKA",H52:Q52,0)))) | E52: =IF(C52="","",IF(C52<>"NEATITINKA","–",IF(INDEX('5A. Pagalbiniai skaičiavimai'!$C$175:$L$175,1,MATCH("NEATITINKA",H52:Q52,0))<=0,"EBITDA ≤ 0",IF(AND(INDEX('5A. Pagalbiniai skaičiavimai'!$C$178:$L$178,1,MATCH("NEATITINKA",H52:Q52,0))>$B$31,INDEX('5A. Pagalbiniai skaičiavimai'!$C$179:$L$179,1,MATCH("NEATITINKA",H52:Q52,0))<$B$32),"Abu kriterijai",IF(INDEX('5A. Pagalbiniai skaičiavimai'!$C$178:$L$178,1,MATCH("NEATITINKA",H52:Q52,0))>$B$31,"Net Debt / EBITDA > 5,5","DSCR < 1,2"))))) | F52: =IF(C52="","",MAX('5A. Pagalbiniai skaičiavimai'!C178:L178)) | G52: =IF(C52="","",MIN('5A. Pagalbiniai skaičiavimai'!C179:L179)) | H52: =IF(OR($B52="",'5A. Pagalbiniai skaičiavimai'!C175="",'5A. Pagalbiniai skaičiavimai'!C178="",'5A. Pagalbiniai skaičiavimai'!C179=""),"",IF(AND('5A. Pagalbiniai skaičiavimai'!C175>0,'5A. Pagalbiniai skaičiavimai'!C178<=$B$31,'5A. Pagalbiniai skaičiavimai'!C179>=$B$32),"ATITINKA","NEATITINKA")) -> #VALUE! | I52: =IF(OR($B52="",'5A. Pagalbiniai skaičiavimai'!D175="",'5A. Pagalbiniai skaičiavimai'!D178="",'5A. Pagalbiniai skaičiavimai'!D179=""),"",IF(AND('5A. Pagalbiniai skaičiavimai'!D175>0,'5A. Pagalbiniai skaičiavimai'!D178<=$B$31,'5A. Pagalbiniai skaičiavimai'!D179>=$B$32),"ATITINKA","NEATITINKA")) -> #VALUE! | J52: =IF(OR($B52="",'5A. Pagalbiniai skaičiavimai'!E175="",'5A. Pagalbiniai skaičiavimai'!E178="",'5A. Pagalbiniai skaičiavimai'!E179=""),"",IF(AND('5A. Pagalbiniai skaičiavimai'!E175>0,'5A. Pagalbiniai skaičiavimai'!E178<=$B$31,'5A. Pagalbiniai skaičiavimai'!E179>=$B$32),"ATITINKA","NEATITINKA")) -> #VALUE! | K52: =IF(OR($B52="",'5A. Pagalbiniai skaičiavimai'!F175="",'5A. Pagalbiniai skaičiavimai'!F178="",'5A. Pagalbiniai skaičiavimai'!F179=""),"",IF(AND('5A. Pagalbiniai skaičiavimai'!F175>0,'5A. Pagalbiniai skaičiavimai'!F178<=$B$31,'5A. Pagalbiniai skaičiavimai'!F179>=$B$32),"ATITINKA","NEATITINKA")) -> #VALUE! | L52: =IF(OR($B52="",'5A. Pagalbiniai skaičiavimai'!G175="",'5A. Pagalbiniai skaičiavimai'!G178="",'5A. Pagalbiniai skaičiavimai'!G179=""),"",IF(AND('5A. Pagalbiniai skaičiavimai'!G175>0,'5A. Pagalbiniai skaičiavimai'!G178<=$B$31,'5A. Pagalbiniai skaičiavimai'!G179>=$B$32),"ATITINKA","NEATITINKA")) -> #VALUE! | M52: =IF(OR($B52="",'5A. Pagalbiniai skaičiavimai'!H175="",'5A. Pagalbiniai skaičiavimai'!H178="",'5A. Pagalbiniai skaičiavimai'!H179=""),"",IF(AND('5A. Pagalbiniai skaičiavimai'!H175>0,'5A. Pagalbiniai skaičiavimai'!H178<=$B$31,'5A. Pagalbiniai skaičiavimai'!H179>=$B$32),"ATITINKA","NEATITINKA")) -> #VALUE! | N52: =IF(OR($B52="",'5A. Pagalbiniai skaičiavimai'!I175="",'5A. Pagalbiniai skaičiavimai'!I178="",'5A. Pagalbiniai skaičiavimai'!I179=""),"",IF(AND('5A. Pagalbiniai skaičiavimai'!I175>0,'5A. Pagalbiniai skaičiavimai'!I178<=$B$31,'5A. Pagalbiniai skaičiavimai'!I179>=$B$32),"ATITINKA","NEATITINKA")) -> #VALUE! | O52: =IF(OR($B52="",'5A. Pagalbiniai skaičiavimai'!J175="",'5A. Pagalbiniai skaičiavimai'!J178="",'5A. Pagalbiniai skaičiavimai'!J179=""),"",IF(AND('5A. Pagalbiniai skaičiavimai'!J175>0,'5A. Pagalbiniai skaičiavimai'!J178<=$B$31,'5A. Pagalbiniai skaičiavimai'!J179>=$B$32),"ATITINKA","NEATITINKA")) -> #VALUE! | ... Q52: =IF(OR($B52="",'5A. Pagalbiniai skaičiavimai'!L175="",'5A. Pagalbiniai skaičiavimai'!L178="",'5A. Pagalbiniai skaičiavimai'!L179=""),"",IF(AND('5A. Pagalbiniai skaičiavimai'!L175>0,'5A. Pagalbiniai skaičiavimai'!L178<=$B$31,'5A. Pagalbiniai skaičiavimai'!L179>=$B$32),"ATITINKA","NEATITINKA")) -> #VALUE!
A53: 15 | B53: =IF(AND(COUNTA('2. Investicijos'!$B$5:$B$19)=15,COUNT('2. Investicijos'!$E$5:$E$19)=15,COUNT('2. Investicijos'!$F$5:$F$19)=15,COUNT('2. Investicijos'!$G$5:$G$19)=15,COUNT('2. Investicijos'!$H$5:$H$19)=15),'2. Investicijos'!B19,"") | C53: =IF(OR(B53="",COUNT('3. Finansinės prielaidos'!$C$27:$L$32)<60),"",IF(COUNTIF(H53:Q53,"ATITINKA")=10,"ATITINKA","NEATITINKA")) | D53: =IF(C53="","",IF(C53<>"NEATITINKA","–",INDEX($H$37:$Q$37,1,MATCH("NEATITINKA",H53:Q53,0)))) | E53: =IF(C53="","",IF(C53<>"NEATITINKA","–",IF(INDEX('5A. Pagalbiniai skaičiavimai'!$C$185:$L$185,1,MATCH("NEATITINKA",H53:Q53,0))<=0,"EBITDA ≤ 0",IF(AND(INDEX('5A. Pagalbiniai skaičiavimai'!$C$188:$L$188,1,MATCH("NEATITINKA",H53:Q53,0))>$B$31,INDEX('5A. Pagalbiniai skaičiavimai'!$C$189:$L$189,1,MATCH("NEATITINKA",H53:Q53,0))<$B$32),"Abu kriterijai",IF(INDEX('5A. Pagalbiniai skaičiavimai'!$C$188:$L$188,1,MATCH("NEATITINKA",H53:Q53,0))>$B$31,"Net Debt / EBITDA > 5,5","DSCR < 1,2"))))) | F53: =IF(C53="","",MAX('5A. Pagalbiniai skaičiavimai'!C188:L188)) | G53: =IF(C53="","",MIN('5A. Pagalbiniai skaičiavimai'!C189:L189)) | H53: =IF(OR($B53="",'5A. Pagalbiniai skaičiavimai'!C185="",'5A. Pagalbiniai skaičiavimai'!C188="",'5A. Pagalbiniai skaičiavimai'!C189=""),"",IF(AND('5A. Pagalbiniai skaičiavimai'!C185>0,'5A. Pagalbiniai skaičiavimai'!C188<=$B$31,'5A. Pagalbiniai skaičiavimai'!C189>=$B$32),"ATITINKA","NEATITINKA")) -> #VALUE! | I53: =IF(OR($B53="",'5A. Pagalbiniai skaičiavimai'!D185="",'5A. Pagalbiniai skaičiavimai'!D188="",'5A. Pagalbiniai skaičiavimai'!D189=""),"",IF(AND('5A. Pagalbiniai skaičiavimai'!D185>0,'5A. Pagalbiniai skaičiavimai'!D188<=$B$31,'5A. Pagalbiniai skaičiavimai'!D189>=$B$32),"ATITINKA","NEATITINKA")) -> #VALUE! | J53: =IF(OR($B53="",'5A. Pagalbiniai skaičiavimai'!E185="",'5A. Pagalbiniai skaičiavimai'!E188="",'5A. Pagalbiniai skaičiavimai'!E189=""),"",IF(AND('5A. Pagalbiniai skaičiavimai'!E185>0,'5A. Pagalbiniai skaičiavimai'!E188<=$B$31,'5A. Pagalbiniai skaičiavimai'!E189>=$B$32),"ATITINKA","NEATITINKA")) -> #VALUE! | K53: =IF(OR($B53="",'5A. Pagalbiniai skaičiavimai'!F185="",'5A. Pagalbiniai skaičiavimai'!F188="",'5A. Pagalbiniai skaičiavimai'!F189=""),"",IF(AND('5A. Pagalbiniai skaičiavimai'!F185>0,'5A. Pagalbiniai skaičiavimai'!F188<=$B$31,'5A. Pagalbiniai skaičiavimai'!F189>=$B$32),"ATITINKA","NEATITINKA")) -> #VALUE! | L53: =IF(OR($B53="",'5A. Pagalbiniai skaičiavimai'!G185="",'5A. Pagalbiniai skaičiavimai'!G188="",'5A. Pagalbiniai skaičiavimai'!G189=""),"",IF(AND('5A. Pagalbiniai skaičiavimai'!G185>0,'5A. Pagalbiniai skaičiavimai'!G188<=$B$31,'5A. Pagalbiniai skaičiavimai'!G189>=$B$32),"ATITINKA","NEATITINKA")) -> #VALUE! | M53: =IF(OR($B53="",'5A. Pagalbiniai skaičiavimai'!H185="",'5A. Pagalbiniai skaičiavimai'!H188="",'5A. Pagalbiniai skaičiavimai'!H189=""),"",IF(AND('5A. Pagalbiniai skaičiavimai'!H185>0,'5A. Pagalbiniai skaičiavimai'!H188<=$B$31,'5A. Pagalbiniai skaičiavimai'!H189>=$B$32),"ATITINKA","NEATITINKA")) -> #VALUE! | N53: =IF(OR($B53="",'5A. Pagalbiniai skaičiavimai'!I185="",'5A. Pagalbiniai skaičiavimai'!I188="",'5A. Pagalbiniai skaičiavimai'!I189=""),"",IF(AND('5A. Pagalbiniai skaičiavimai'!I185>0,'5A. Pagalbiniai skaičiavimai'!I188<=$B$31,'5A. Pagalbiniai skaičiavimai'!I189>=$B$32),"ATITINKA","NEATITINKA")) -> #VALUE! | O53: =IF(OR($B53="",'5A. Pagalbiniai skaičiavimai'!J185="",'5A. Pagalbiniai skaičiavimai'!J188="",'5A. Pagalbiniai skaičiavimai'!J189=""),"",IF(AND('5A. Pagalbiniai skaičiavimai'!J185>0,'5A. Pagalbiniai skaičiavimai'!J188<=$B$31,'5A. Pagalbiniai skaičiavimai'!J189>=$B$32),"ATITINKA","NEATITINKA")) -> #VALUE! | ... Q53: =IF(OR($B53="",'5A. Pagalbiniai skaičiavimai'!L185="",'5A. Pagalbiniai skaičiavimai'!L188="",'5A. Pagalbiniai skaičiavimai'!L189=""),"",IF(AND('5A. Pagalbiniai skaičiavimai'!L185>0,'5A. Pagalbiniai skaičiavimai'!L188<=$B$31,'5A. Pagalbiniai skaičiavimai'!L189>=$B$32),"ATITINKA","NEATITINKA")) -> #VALUE!
A54: 16 | B54: =IF(AND(COUNTA('2. Investicijos'!$B$5:$B$20)=16,COUNT('2. Investicijos'!$E$5:$E$20)=16,COUNT('2. Investicijos'!$F$5:$F$20)=16,COUNT('2. Investicijos'!$G$5:$G$20)=16,COUNT('2. Investicijos'!$H$5:$H$20)=16),'2. Investicijos'!B20,"") | C54: =IF(OR(B54="",COUNT('3. Finansinės prielaidos'!$C$27:$L$32)<60),"",IF(COUNTIF(H54:Q54,"ATITINKA")=10,"ATITINKA","NEATITINKA")) | D54: =IF(C54="","",IF(C54<>"NEATITINKA","–",INDEX($H$37:$Q$37,1,MATCH("NEATITINKA",H54:Q54,0)))) | E54: =IF(C54="","",IF(C54<>"NEATITINKA","–",IF(INDEX('5A. Pagalbiniai skaičiavimai'!$C$195:$L$195,1,MATCH("NEATITINKA",H54:Q54,0))<=0,"EBITDA ≤ 0",IF(AND(INDEX('5A. Pagalbiniai skaičiavimai'!$C$198:$L$198,1,MATCH("NEATITINKA",H54:Q54,0))>$B$31,INDEX('5A. Pagalbiniai skaičiavimai'!$C$199:$L$199,1,MATCH("NEATITINKA",H54:Q54,0))<$B$32),"Abu kriterijai",IF(INDEX('5A. Pagalbiniai skaičiavimai'!$C$198:$L$198,1,MATCH("NEATITINKA",H54:Q54,0))>$B$31,"Net Debt / EBITDA > 5,5","DSCR < 1,2"))))) | F54: =IF(C54="","",MAX('5A. Pagalbiniai skaičiavimai'!C198:L198)) | G54: =IF(C54="","",MIN('5A. Pagalbiniai skaičiavimai'!C199:L199)) | H54: =IF(OR($B54="",'5A. Pagalbiniai skaičiavimai'!C195="",'5A. Pagalbiniai skaičiavimai'!C198="",'5A. Pagalbiniai skaičiavimai'!C199=""),"",IF(AND('5A. Pagalbiniai skaičiavimai'!C195>0,'5A. Pagalbiniai skaičiavimai'!C198<=$B$31,'5A. Pagalbiniai skaičiavimai'!C199>=$B$32),"ATITINKA","NEATITINKA")) -> #VALUE! | I54: =IF(OR($B54="",'5A. Pagalbiniai skaičiavimai'!D195="",'5A. Pagalbiniai skaičiavimai'!D198="",'5A. Pagalbiniai skaičiavimai'!D199=""),"",IF(AND('5A. Pagalbiniai skaičiavimai'!D195>0,'5A. Pagalbiniai skaičiavimai'!D198<=$B$31,'5A. Pagalbiniai skaičiavimai'!D199>=$B$32),"ATITINKA","NEATITINKA")) -> #VALUE! | J54: =IF(OR($B54="",'5A. Pagalbiniai skaičiavimai'!E195="",'5A. Pagalbiniai skaičiavimai'!E198="",'5A. Pagalbiniai skaičiavimai'!E199=""),"",IF(AND('5A. Pagalbiniai skaičiavimai'!E195>0,'5A. Pagalbiniai skaičiavimai'!E198<=$B$31,'5A. Pagalbiniai skaičiavimai'!E199>=$B$32),"ATITINKA","NEATITINKA")) -> #VALUE! | K54: =IF(OR($B54="",'5A. Pagalbiniai skaičiavimai'!F195="",'5A. Pagalbiniai skaičiavimai'!F198="",'5A. Pagalbiniai skaičiavimai'!F199=""),"",IF(AND('5A. Pagalbiniai skaičiavimai'!F195>0,'5A. Pagalbiniai skaičiavimai'!F198<=$B$31,'5A. Pagalbiniai skaičiavimai'!F199>=$B$32),"ATITINKA","NEATITINKA")) -> #VALUE! | L54: =IF(OR($B54="",'5A. Pagalbiniai skaičiavimai'!G195="",'5A. Pagalbiniai skaičiavimai'!G198="",'5A. Pagalbiniai skaičiavimai'!G199=""),"",IF(AND('5A. Pagalbiniai skaičiavimai'!G195>0,'5A. Pagalbiniai skaičiavimai'!G198<=$B$31,'5A. Pagalbiniai skaičiavimai'!G199>=$B$32),"ATITINKA","NEATITINKA")) -> #VALUE! | M54: =IF(OR($B54="",'5A. Pagalbiniai skaičiavimai'!H195="",'5A. Pagalbiniai skaičiavimai'!H198="",'5A. Pagalbiniai skaičiavimai'!H199=""),"",IF(AND('5A. Pagalbiniai skaičiavimai'!H195>0,'5A. Pagalbiniai skaičiavimai'!H198<=$B$31,'5A. Pagalbiniai skaičiavimai'!H199>=$B$32),"ATITINKA","NEATITINKA")) -> #VALUE! | N54: =IF(OR($B54="",'5A. Pagalbiniai skaičiavimai'!I195="",'5A. Pagalbiniai skaičiavimai'!I198="",'5A. Pagalbiniai skaičiavimai'!I199=""),"",IF(AND('5A. Pagalbiniai skaičiavimai'!I195>0,'5A. Pagalbiniai skaičiavimai'!I198<=$B$31,'5A. Pagalbiniai skaičiavimai'!I199>=$B$32),"ATITINKA","NEATITINKA")) -> #VALUE! | O54: =IF(OR($B54="",'5A. Pagalbiniai skaičiavimai'!J195="",'5A. Pagalbiniai skaičiavimai'!J198="",'5A. Pagalbiniai skaičiavimai'!J199=""),"",IF(AND('5A. Pagalbiniai skaičiavimai'!J195>0,'5A. Pagalbiniai skaičiavimai'!J198<=$B$31,'5A. Pagalbiniai skaičiavimai'!J199>=$B$32),"ATITINKA","NEATITINKA")) -> #VALUE! | ... Q54: =IF(OR($B54="",'5A. Pagalbiniai skaičiavimai'!L195="",'5A. Pagalbiniai skaičiavimai'!L198="",'5A. Pagalbiniai skaičiavimai'!L199=""),"",IF(AND('5A. Pagalbiniai skaičiavimai'!L195>0,'5A. Pagalbiniai skaičiavimai'!L198<=$B$31,'5A. Pagalbiniai skaičiavimai'!L199>=$B$32),"ATITINKA","NEATITINKA")) -> #VALUE!
A55: 17 | B55: =IF(AND(COUNTA('2. Investicijos'!$B$5:$B$21)=17,COUNT('2. Investicijos'!$E$5:$E$21)=17,COUNT('2. Investicijos'!$F$5:$F$21)=17,COUNT('2. Investicijos'!$G$5:$G$21)=17,COUNT('2. Investicijos'!$H$5:$H$21)=17),'2. Investicijos'!B21,"") | C55: =IF(OR(B55="",COUNT('3. Finansinės prielaidos'!$C$27:$L$32)<60),"",IF(COUNTIF(H55:Q55,"ATITINKA")=10,"ATITINKA","NEATITINKA")) | D55: =IF(C55="","",IF(C55<>"NEATITINKA","–",INDEX($H$37:$Q$37,1,MATCH("NEATITINKA",H55:Q55,0)))) | E55: =IF(C55="","",IF(C55<>"NEATITINKA","–",IF(INDEX('5A. Pagalbiniai skaičiavimai'!$C$205:$L$205,1,MATCH("NEATITINKA",H55:Q55,0))<=0,"EBITDA ≤ 0",IF(AND(INDEX('5A. Pagalbiniai skaičiavimai'!$C$208:$L$208,1,MATCH("NEATITINKA",H55:Q55,0))>$B$31,INDEX('5A. Pagalbiniai skaičiavimai'!$C$209:$L$209,1,MATCH("NEATITINKA",H55:Q55,0))<$B$32),"Abu kriterijai",IF(INDEX('5A. Pagalbiniai skaičiavimai'!$C$208:$L$208,1,MATCH("NEATITINKA",H55:Q55,0))>$B$31,"Net Debt / EBITDA > 5,5","DSCR < 1,2"))))) | F55: =IF(C55="","",MAX('5A. Pagalbiniai skaičiavimai'!C208:L208)) | G55: =IF(C55="","",MIN('5A. Pagalbiniai skaičiavimai'!C209:L209)) | H55: =IF(OR($B55="",'5A. Pagalbiniai skaičiavimai'!C205="",'5A. Pagalbiniai skaičiavimai'!C208="",'5A. Pagalbiniai skaičiavimai'!C209=""),"",IF(AND('5A. Pagalbiniai skaičiavimai'!C205>0,'5A. Pagalbiniai skaičiavimai'!C208<=$B$31,'5A. Pagalbiniai skaičiavimai'!C209>=$B$32),"ATITINKA","NEATITINKA")) -> #VALUE! | I55: =IF(OR($B55="",'5A. Pagalbiniai skaičiavimai'!D205="",'5A. Pagalbiniai skaičiavimai'!D208="",'5A. Pagalbiniai skaičiavimai'!D209=""),"",IF(AND('5A. Pagalbiniai skaičiavimai'!D205>0,'5A. Pagalbiniai skaičiavimai'!D208<=$B$31,'5A. Pagalbiniai skaičiavimai'!D209>=$B$32),"ATITINKA","NEATITINKA")) -> #VALUE! | J55: =IF(OR($B55="",'5A. Pagalbiniai skaičiavimai'!E205="",'5A. Pagalbiniai skaičiavimai'!E208="",'5A. Pagalbiniai skaičiavimai'!E209=""),"",IF(AND('5A. Pagalbiniai skaičiavimai'!E205>0,'5A. Pagalbiniai skaičiavimai'!E208<=$B$31,'5A. Pagalbiniai skaičiavimai'!E209>=$B$32),"ATITINKA","NEATITINKA")) -> #VALUE! | K55: =IF(OR($B55="",'5A. Pagalbiniai skaičiavimai'!F205="",'5A. Pagalbiniai skaičiavimai'!F208="",'5A. Pagalbiniai skaičiavimai'!F209=""),"",IF(AND('5A. Pagalbiniai skaičiavimai'!F205>0,'5A. Pagalbiniai skaičiavimai'!F208<=$B$31,'5A. Pagalbiniai skaičiavimai'!F209>=$B$32),"ATITINKA","NEATITINKA")) -> #VALUE! | L55: =IF(OR($B55="",'5A. Pagalbiniai skaičiavimai'!G205="",'5A. Pagalbiniai skaičiavimai'!G208="",'5A. Pagalbiniai skaičiavimai'!G209=""),"",IF(AND('5A. Pagalbiniai skaičiavimai'!G205>0,'5A. Pagalbiniai skaičiavimai'!G208<=$B$31,'5A. Pagalbiniai skaičiavimai'!G209>=$B$32),"ATITINKA","NEATITINKA")) -> #VALUE! | M55: =IF(OR($B55="",'5A. Pagalbiniai skaičiavimai'!H205="",'5A. Pagalbiniai skaičiavimai'!H208="",'5A. Pagalbiniai skaičiavimai'!H209=""),"",IF(AND('5A. Pagalbiniai skaičiavimai'!H205>0,'5A. Pagalbiniai skaičiavimai'!H208<=$B$31,'5A. Pagalbiniai skaičiavimai'!H209>=$B$32),"ATITINKA","NEATITINKA")) -> #VALUE! | N55: =IF(OR($B55="",'5A. Pagalbiniai skaičiavimai'!I205="",'5A. Pagalbiniai skaičiavimai'!I208="",'5A. Pagalbiniai skaičiavimai'!I209=""),"",IF(AND('5A. Pagalbiniai skaičiavimai'!I205>0,'5A. Pagalbiniai skaičiavimai'!I208<=$B$31,'5A. Pagalbiniai skaičiavimai'!I209>=$B$32),"ATITINKA","NEATITINKA")) -> #VALUE! | O55: =IF(OR($B55="",'5A. Pagalbiniai skaičiavimai'!J205="",'5A. Pagalbiniai skaičiavimai'!J208="",'5A. Pagalbiniai skaičiavimai'!J209=""),"",IF(AND('5A. Pagalbiniai skaičiavimai'!J205>0,'5A. Pagalbiniai skaičiavimai'!J208<=$B$31,'5A. Pagalbiniai skaičiavimai'!J209>=$B$32),"ATITINKA","NEATITINKA")) -> #VALUE! | ... Q55: =IF(OR($B55="",'5A. Pagalbiniai skaičiavimai'!L205="",'5A. Pagalbiniai skaičiavimai'!L208="",'5A. Pagalbiniai skaičiavimai'!L209=""),"",IF(AND('5A. Pagalbiniai skaičiavimai'!L205>0,'5A. Pagalbiniai skaičiavimai'!L208<=$B$31,'5A. Pagalbiniai skaičiavimai'!L209>=$B$32),"ATITINKA","NEATITINKA")) -> #VALUE!
A56: 18 | B56: =IF(AND(COUNTA('2. Investicijos'!$B$5:$B$22)=18,COUNT('2. Investicijos'!$E$5:$E$22)=18,COUNT('2. Investicijos'!$F$5:$F$22)=18,COUNT('2. Investicijos'!$G$5:$G$22)=18,COUNT('2. Investicijos'!$H$5:$H$22)=18),'2. Investicijos'!B22,"") | C56: =IF(OR(B56="",COUNT('3. Finansinės prielaidos'!$C$27:$L$32)<60),"",IF(COUNTIF(H56:Q56,"ATITINKA")=10,"ATITINKA","NEATITINKA")) | D56: =IF(C56="","",IF(C56<>"NEATITINKA","–",INDEX($H$37:$Q$37,1,MATCH("NEATITINKA",H56:Q56,0)))) | E56: =IF(C56="","",IF(C56<>"NEATITINKA","–",IF(INDEX('5A. Pagalbiniai skaičiavimai'!$C$215:$L$215,1,MATCH("NEATITINKA",H56:Q56,0))<=0,"EBITDA ≤ 0",IF(AND(INDEX('5A. Pagalbiniai skaičiavimai'!$C$218:$L$218,1,MATCH("NEATITINKA",H56:Q56,0))>$B$31,INDEX('5A. Pagalbiniai skaičiavimai'!$C$219:$L$219,1,MATCH("NEATITINKA",H56:Q56,0))<$B$32),"Abu kriterijai",IF(INDEX('5A. Pagalbiniai skaičiavimai'!$C$218:$L$218,1,MATCH("NEATITINKA",H56:Q56,0))>$B$31,"Net Debt / EBITDA > 5,5","DSCR < 1,2"))))) | F56: =IF(C56="","",MAX('5A. Pagalbiniai skaičiavimai'!C218:L218)) | G56: =IF(C56="","",MIN('5A. Pagalbiniai skaičiavimai'!C219:L219)) | H56: =IF(OR($B56="",'5A. Pagalbiniai skaičiavimai'!C215="",'5A. Pagalbiniai skaičiavimai'!C218="",'5A. Pagalbiniai skaičiavimai'!C219=""),"",IF(AND('5A. Pagalbiniai skaičiavimai'!C215>0,'5A. Pagalbiniai skaičiavimai'!C218<=$B$31,'5A. Pagalbiniai skaičiavimai'!C219>=$B$32),"ATITINKA","NEATITINKA")) -> #VALUE! | I56: =IF(OR($B56="",'5A. Pagalbiniai skaičiavimai'!D215="",'5A. Pagalbiniai skaičiavimai'!D218="",'5A. Pagalbiniai skaičiavimai'!D219=""),"",IF(AND('5A. Pagalbiniai skaičiavimai'!D215>0,'5A. Pagalbiniai skaičiavimai'!D218<=$B$31,'5A. Pagalbiniai skaičiavimai'!D219>=$B$32),"ATITINKA","NEATITINKA")) -> #VALUE! | J56: =IF(OR($B56="",'5A. Pagalbiniai skaičiavimai'!E215="",'5A. Pagalbiniai skaičiavimai'!E218="",'5A. Pagalbiniai skaičiavimai'!E219=""),"",IF(AND('5A. Pagalbiniai skaičiavimai'!E215>0,'5A. Pagalbiniai skaičiavimai'!E218<=$B$31,'5A. Pagalbiniai skaičiavimai'!E219>=$B$32),"ATITINKA","NEATITINKA")) -> #VALUE! | K56: =IF(OR($B56="",'5A. Pagalbiniai skaičiavimai'!F215="",'5A. Pagalbiniai skaičiavimai'!F218="",'5A. Pagalbiniai skaičiavimai'!F219=""),"",IF(AND('5A. Pagalbiniai skaičiavimai'!F215>0,'5A. Pagalbiniai skaičiavimai'!F218<=$B$31,'5A. Pagalbiniai skaičiavimai'!F219>=$B$32),"ATITINKA","NEATITINKA")) -> #VALUE! | L56: =IF(OR($B56="",'5A. Pagalbiniai skaičiavimai'!G215="",'5A. Pagalbiniai skaičiavimai'!G218="",'5A. Pagalbiniai skaičiavimai'!G219=""),"",IF(AND('5A. Pagalbiniai skaičiavimai'!G215>0,'5A. Pagalbiniai skaičiavimai'!G218<=$B$31,'5A. Pagalbiniai skaičiavimai'!G219>=$B$32),"ATITINKA","NEATITINKA")) -> #VALUE! | M56: =IF(OR($B56="",'5A. Pagalbiniai skaičiavimai'!H215="",'5A. Pagalbiniai skaičiavimai'!H218="",'5A. Pagalbiniai skaičiavimai'!H219=""),"",IF(AND('5A. Pagalbiniai skaičiavimai'!H215>0,'5A. Pagalbiniai skaičiavimai'!H218<=$B$31,'5A. Pagalbiniai skaičiavimai'!H219>=$B$32),"ATITINKA","NEATITINKA")) -> #VALUE! | N56: =IF(OR($B56="",'5A. Pagalbiniai skaičiavimai'!I215="",'5A. Pagalbiniai skaičiavimai'!I218="",'5A. Pagalbiniai skaičiavimai'!I219=""),"",IF(AND('5A. Pagalbiniai skaičiavimai'!I215>0,'5A. Pagalbiniai skaičiavimai'!I218<=$B$31,'5A. Pagalbiniai skaičiavimai'!I219>=$B$32),"ATITINKA","NEATITINKA")) -> #VALUE! | O56: =IF(OR($B56="",'5A. Pagalbiniai skaičiavimai'!J215="",'5A. Pagalbiniai skaičiavimai'!J218="",'5A. Pagalbiniai skaičiavimai'!J219=""),"",IF(AND('5A. Pagalbiniai skaičiavimai'!J215>0,'5A. Pagalbiniai skaičiavimai'!J218<=$B$31,'5A. Pagalbiniai skaičiavimai'!J219>=$B$32),"ATITINKA","NEATITINKA")) -> #VALUE! | ... Q56: =IF(OR($B56="",'5A. Pagalbiniai skaičiavimai'!L215="",'5A. Pagalbiniai skaičiavimai'!L218="",'5A. Pagalbiniai skaičiavimai'!L219=""),"",IF(AND('5A. Pagalbiniai skaičiavimai'!L215>0,'5A. Pagalbiniai skaičiavimai'!L218<=$B$31,'5A. Pagalbiniai skaičiavimai'!L219>=$B$32),"ATITINKA","NEATITINKA")) -> #VALUE!
A57: 19 | B57: =IF(AND(COUNTA('2. Investicijos'!$B$5:$B$23)=19,COUNT('2. Investicijos'!$E$5:$E$23)=19,COUNT('2. Investicijos'!$F$5:$F$23)=19,COUNT('2. Investicijos'!$G$5:$G$23)=19,COUNT('2. Investicijos'!$H$5:$H$23)=19),'2. Investicijos'!B23,"") | C57: =IF(OR(B57="",COUNT('3. Finansinės prielaidos'!$C$27:$L$32)<60),"",IF(COUNTIF(H57:Q57,"ATITINKA")=10,"ATITINKA","NEATITINKA")) | D57: =IF(C57="","",IF(C57<>"NEATITINKA","–",INDEX($H$37:$Q$37,1,MATCH("NEATITINKA",H57:Q57,0)))) | E57: =IF(C57="","",IF(C57<>"NEATITINKA","–",IF(INDEX('5A. Pagalbiniai skaičiavimai'!$C$225:$L$225,1,MATCH("NEATITINKA",H57:Q57,0))<=0,"EBITDA ≤ 0",IF(AND(INDEX('5A. Pagalbiniai skaičiavimai'!$C$228:$L$228,1,MATCH("NEATITINKA",H57:Q57,0))>$B$31,INDEX('5A. Pagalbiniai skaičiavimai'!$C$229:$L$229,1,MATCH("NEATITINKA",H57:Q57,0))<$B$32),"Abu kriterijai",IF(INDEX('5A. Pagalbiniai skaičiavimai'!$C$228:$L$228,1,MATCH("NEATITINKA",H57:Q57,0))>$B$31,"Net Debt / EBITDA > 5,5","DSCR < 1,2"))))) | F57: =IF(C57="","",MAX('5A. Pagalbiniai skaičiavimai'!C228:L228)) | G57: =IF(C57="","",MIN('5A. Pagalbiniai skaičiavimai'!C229:L229)) | H57: =IF(OR($B57="",'5A. Pagalbiniai skaičiavimai'!C225="",'5A. Pagalbiniai skaičiavimai'!C228="",'5A. Pagalbiniai skaičiavimai'!C229=""),"",IF(AND('5A. Pagalbiniai skaičiavimai'!C225>0,'5A. Pagalbiniai skaičiavimai'!C228<=$B$31,'5A. Pagalbiniai skaičiavimai'!C229>=$B$32),"ATITINKA","NEATITINKA")) -> #VALUE! | I57: =IF(OR($B57="",'5A. Pagalbiniai skaičiavimai'!D225="",'5A. Pagalbiniai skaičiavimai'!D228="",'5A. Pagalbiniai skaičiavimai'!D229=""),"",IF(AND('5A. Pagalbiniai skaičiavimai'!D225>0,'5A. Pagalbiniai skaičiavimai'!D228<=$B$31,'5A. Pagalbiniai skaičiavimai'!D229>=$B$32),"ATITINKA","NEATITINKA")) -> #VALUE! | J57: =IF(OR($B57="",'5A. Pagalbiniai skaičiavimai'!E225="",'5A. Pagalbiniai skaičiavimai'!E228="",'5A. Pagalbiniai skaičiavimai'!E229=""),"",IF(AND('5A. Pagalbiniai skaičiavimai'!E225>0,'5A. Pagalbiniai skaičiavimai'!E228<=$B$31,'5A. Pagalbiniai skaičiavimai'!E229>=$B$32),"ATITINKA","NEATITINKA")) -> #VALUE! | K57: =IF(OR($B57="",'5A. Pagalbiniai skaičiavimai'!F225="",'5A. Pagalbiniai skaičiavimai'!F228="",'5A. Pagalbiniai skaičiavimai'!F229=""),"",IF(AND('5A. Pagalbiniai skaičiavimai'!F225>0,'5A. Pagalbiniai skaičiavimai'!F228<=$B$31,'5A. Pagalbiniai skaičiavimai'!F229>=$B$32),"ATITINKA","NEATITINKA")) -> #VALUE! | L57: =IF(OR($B57="",'5A. Pagalbiniai skaičiavimai'!G225="",'5A. Pagalbiniai skaičiavimai'!G228="",'5A. Pagalbiniai skaičiavimai'!G229=""),"",IF(AND('5A. Pagalbiniai skaičiavimai'!G225>0,'5A. Pagalbiniai skaičiavimai'!G228<=$B$31,'5A. Pagalbiniai skaičiavimai'!G229>=$B$32),"ATITINKA","NEATITINKA")) -> #VALUE! | M57: =IF(OR($B57="",'5A. Pagalbiniai skaičiavimai'!H225="",'5A. Pagalbiniai skaičiavimai'!H228="",'5A. Pagalbiniai skaičiavimai'!H229=""),"",IF(AND('5A. Pagalbiniai skaičiavimai'!H225>0,'5A. Pagalbiniai skaičiavimai'!H228<=$B$31,'5A. Pagalbiniai skaičiavimai'!H229>=$B$32),"ATITINKA","NEATITINKA")) -> #VALUE! | N57: =IF(OR($B57="",'5A. Pagalbiniai skaičiavimai'!I225="",'5A. Pagalbiniai skaičiavimai'!I228="",'5A. Pagalbiniai skaičiavimai'!I229=""),"",IF(AND('5A. Pagalbiniai skaičiavimai'!I225>0,'5A. Pagalbiniai skaičiavimai'!I228<=$B$31,'5A. Pagalbiniai skaičiavimai'!I229>=$B$32),"ATITINKA","NEATITINKA")) -> #VALUE! | O57: =IF(OR($B57="",'5A. Pagalbiniai skaičiavimai'!J225="",'5A. Pagalbiniai skaičiavimai'!J228="",'5A. Pagalbiniai skaičiavimai'!J229=""),"",IF(AND('5A. Pagalbiniai skaičiavimai'!J225>0,'5A. Pagalbiniai skaičiavimai'!J228<=$B$31,'5A. Pagalbiniai skaičiavimai'!J229>=$B$32),"ATITINKA","NEATITINKA")) -> #VALUE! | ... Q57: =IF(OR($B57="",'5A. Pagalbiniai skaičiavimai'!L225="",'5A. Pagalbiniai skaičiavimai'!L228="",'5A. Pagalbiniai skaičiavimai'!L229=""),"",IF(AND('5A. Pagalbiniai skaičiavimai'!L225>0,'5A. Pagalbiniai skaičiavimai'!L228<=$B$31,'5A. Pagalbiniai skaičiavimai'!L229>=$B$32),"ATITINKA","NEATITINKA")) -> #VALUE!
A58: 20 | B58: =IF(AND(COUNTA('2. Investicijos'!$B$5:$B$24)=20,COUNT('2. Investicijos'!$E$5:$E$24)=20,COUNT('2. Investicijos'!$F$5:$F$24)=20,COUNT('2. Investicijos'!$G$5:$G$24)=20,COUNT('2. Investicijos'!$H$5:$H$24)=20),'2. Investicijos'!B24,"") | C58: =IF(OR(B58="",COUNT('3. Finansinės prielaidos'!$C$27:$L$32)<60),"",IF(COUNTIF(H58:Q58,"ATITINKA")=10,"ATITINKA","NEATITINKA")) | D58: =IF(C58="","",IF(C58<>"NEATITINKA","–",INDEX($H$37:$Q$37,1,MATCH("NEATITINKA",H58:Q58,0)))) | E58: =IF(C58="","",IF(C58<>"NEATITINKA","–",IF(INDEX('5A. Pagalbiniai skaičiavimai'!$C$235:$L$235,1,MATCH("NEATITINKA",H58:Q58,0))<=0,"EBITDA ≤ 0",IF(AND(INDEX('5A. Pagalbiniai skaičiavimai'!$C$238:$L$238,1,MATCH("NEATITINKA",H58:Q58,0))>$B$31,INDEX('5A. Pagalbiniai skaičiavimai'!$C$239:$L$239,1,MATCH("NEATITINKA",H58:Q58,0))<$B$32),"Abu kriterijai",IF(INDEX('5A. Pagalbiniai skaičiavimai'!$C$238:$L$238,1,MATCH("NEATITINKA",H58:Q58,0))>$B$31,"Net Debt / EBITDA > 5,5","DSCR < 1,2"))))) | F58: =IF(C58="","",MAX('5A. Pagalbiniai skaičiavimai'!C238:L238)) | G58: =IF(C58="","",MIN('5A. Pagalbiniai skaičiavimai'!C239:L239)) | H58: =IF(OR($B58="",'5A. Pagalbiniai skaičiavimai'!C235="",'5A. Pagalbiniai skaičiavimai'!C238="",'5A. Pagalbiniai skaičiavimai'!C239=""),"",IF(AND('5A. Pagalbiniai skaičiavimai'!C235>0,'5A. Pagalbiniai skaičiavimai'!C238<=$B$31,'5A. Pagalbiniai skaičiavimai'!C239>=$B$32),"ATITINKA","NEATITINKA")) -> #VALUE! | I58: =IF(OR($B58="",'5A. Pagalbiniai skaičiavimai'!D235="",'5A. Pagalbiniai skaičiavimai'!D238="",'5A. Pagalbiniai skaičiavimai'!D239=""),"",IF(AND('5A. Pagalbiniai skaičiavimai'!D235>0,'5A. Pagalbiniai skaičiavimai'!D238<=$B$31,'5A. Pagalbiniai skaičiavimai'!D239>=$B$32),"ATITINKA","NEATITINKA")) -> #VALUE! | J58: =IF(OR($B58="",'5A. Pagalbiniai skaičiavimai'!E235="",'5A. Pagalbiniai skaičiavimai'!E238="",'5A. Pagalbiniai skaičiavimai'!E239=""),"",IF(AND('5A. Pagalbiniai skaičiavimai'!E235>0,'5A. Pagalbiniai skaičiavimai'!E238<=$B$31,'5A. Pagalbiniai skaičiavimai'!E239>=$B$32),"ATITINKA","NEATITINKA")) -> #VALUE! | K58: =IF(OR($B58="",'5A. Pagalbiniai skaičiavimai'!F235="",'5A. Pagalbiniai skaičiavimai'!F238="",'5A. Pagalbiniai skaičiavimai'!F239=""),"",IF(AND('5A. Pagalbiniai skaičiavimai'!F235>0,'5A. Pagalbiniai skaičiavimai'!F238<=$B$31,'5A. Pagalbiniai skaičiavimai'!F239>=$B$32),"ATITINKA","NEATITINKA")) -> #VALUE! | L58: =IF(OR($B58="",'5A. Pagalbiniai skaičiavimai'!G235="",'5A. Pagalbiniai skaičiavimai'!G238="",'5A. Pagalbiniai skaičiavimai'!G239=""),"",IF(AND('5A. Pagalbiniai skaičiavimai'!G235>0,'5A. Pagalbiniai skaičiavimai'!G238<=$B$31,'5A. Pagalbiniai skaičiavimai'!G239>=$B$32),"ATITINKA","NEATITINKA")) -> #VALUE! | M58: =IF(OR($B58="",'5A. Pagalbiniai skaičiavimai'!H235="",'5A. Pagalbiniai skaičiavimai'!H238="",'5A. Pagalbiniai skaičiavimai'!H239=""),"",IF(AND('5A. Pagalbiniai skaičiavimai'!H235>0,'5A. Pagalbiniai skaičiavimai'!H238<=$B$31,'5A. Pagalbiniai skaičiavimai'!H239>=$B$32),"ATITINKA","NEATITINKA")) -> #VALUE! | N58: =IF(OR($B58="",'5A. Pagalbiniai skaičiavimai'!I235="",'5A. Pagalbiniai skaičiavimai'!I238="",'5A. Pagalbiniai skaičiavimai'!I239=""),"",IF(AND('5A. Pagalbiniai skaičiavimai'!I235>0,'5A. Pagalbiniai skaičiavimai'!I238<=$B$31,'5A. Pagalbiniai skaičiavimai'!I239>=$B$32),"ATITINKA","NEATITINKA")) -> #VALUE! | O58: =IF(OR($B58="",'5A. Pagalbiniai skaičiavimai'!J235="",'5A. Pagalbiniai skaičiavimai'!J238="",'5A. Pagalbiniai skaičiavimai'!J239=""),"",IF(AND('5A. Pagalbiniai skaičiavimai'!J235>0,'5A. Pagalbiniai skaičiavimai'!J238<=$B$31,'5A. Pagalbiniai skaičiavimai'!J239>=$B$32),"ATITINKA","NEATITINKA")) -> #VALUE! | ... Q58: =IF(OR($B58="",'5A. Pagalbiniai skaičiavimai'!L235="",'5A. Pagalbiniai skaičiavimai'!L238="",'5A. Pagalbiniai skaičiavimai'!L239=""),"",IF(AND('5A. Pagalbiniai skaičiavimai'!L235>0,'5A. Pagalbiniai skaičiavimai'!L238<=$B$31,'5A. Pagalbiniai skaičiavimai'!L239>=$B$32),"ATITINKA","NEATITINKA")) -> #VALUE!
A60: Lūžio rezultatas | B60: =IF(C38="","",IF(C38="NEATITINKA","BAZĖ JAU NEATITINKA",IF(COUNTIF(C39:C58,"NEATITINKA")=0,"LŪŽIO NĖRA","LŪŽIS")))
A61: Pirmi neatitikties metai | B61: =IFERROR(IF(B60="","",IF(B60="BAZĖ JAU NEATITINKA",D38,IF(B60="LŪŽIO NĖRA","–",INDEX(D39:D58,MATCH("NEATITINKA",C39:C58,0))))),"")
A62: Lūžio investicija | B62: =IF(B60="","",IF(B60="BAZĖ JAU NEATITINKA","Bazė",IF(B60="LŪŽIO NĖRA","–",INDEX(B39:B58,MATCH("NEATITINKA",C39:C58,0)))))
A63: Cross-check su pagrindiniu 0 % scenarijumi | B63: {=IF(C58="","",IF(AND(SUMPRODUCT(--(H58:Q58=C28:L28))=10,SUMPRODUCT(--(ABS('5A. Pagalbiniai skaičiavimai'!C235:L235-C11:L11)<0.01))=10,SUMPRODUCT(--(ABS('5A. Pagalbiniai skaičiavimai'!C236:L236-C17:L17)<0.01))=10,SUMPRODUCT(--(ABS('5A. Pagalbiniai skaičiavimai'!C237:L237-C24:L24)<0.01))=10,SUMPRODUCT(--(ABS('5A. Pagalbiniai skaičiavimai'!C238:L238-C26:L26)<0.000001))=10,SUMPRODUCT(--(ABS('5A. Pagalbiniai skaičiavimai'!C239:L239-C27:L27)<0.000001))=10),"OK","NEATITINKA"))}
A65: Pastaba: Lūžio analizė vertina kaupiamąjį investicijų portfelį pagal 2. „Investicijos“ eiliškumą. Pirmoji NEATITINKA eilutė yra lūžio investicija. Jei bazė jau neatitinka kriterijų, rodoma „BAZĖ JAU NEATITINKA“. Pilno portfelio eilutė (Nr. 20) turi sutapti su pagrindinio 0 % scenarijaus metinėmis tvarumo būsenomis.

Sheet 5A. Pagalbiniai skaičiavimai
A1: INDIVIDUALŪS INVESTICINIŲ PASKOLŲ GRAFIKAI
A2: Paskolos išmokamos proporcingai metiniam CAPEX. Kiekviena išmokėta dalis grąžinama lygiomis pagrindinės sumos dalimis per investicijai nustatytą terminą, pradedant kitais metais; palūkanos skaičiuojamos nuo metų pradžios likučio.
F3: PASKOLOS IŠMOKĖJIMAS (Eur) | P3: PAGRINDINĖS SUMOS GRĄŽINIMAS (Eur) | Z3: PALŪKANOS (Eur) | AJ3: SKOLOS LIKUTIS METŲ PABAIGOJE (Eur)
A4: Eil. Nr. | B4: Investicija | C4: Paskola (Eur) | D4: Palūkanų norma | E4: Terminas (m.) | F4: 2026 | G4: 2027 | H4: 2028 | I4: 2029 | J4: 2030 | K4: 2031 | L4: 2032 | M4: 2033 | N4: 2034 | O4: 2035 | P4: 2026 | Q4: 2027 | R4: 2028 | S4: 2029 | T4: 2030 | U4: 2031 | V4: 2032 | W4: 2033 | X4: 2034 | Y4: 2035 | Z4: 2026 | AA4: 2027 | AB4: 2028 | AC4: 2029 | AD4: 2030 | AE4: 2031 | AF4: 2032 | AG4: 2033 | AH4: 2034 | AI4: 2035 | AJ4: 2026 | AK4: 2027 | AL4: 2028 | AM4: 2029 | AN4: 2030 | AO4: 2031 | AP4: 2032 | AQ4: 2033 | AR4: 2034 | AS4: 2035
A5: ='2. Investicijos'!A5 -> 1. | B5: ='2. Investicijos'!B5 -> 0 | C5: =IF('2. Investicijos'!N5="",0,'2. Investicijos'!N5) -> 0 | D5: =IF('2. Investicijos'!O5="",0,'2. Investicijos'!O5/100) -> 0 | E5: =IF('2. Investicijos'!P5="",0,'2. Investicijos'!P5) -> 0 | F5: =IFERROR('4. Metinis CAPEX'!F9/'2. Investicijos'!$H5*$C5,0) -> 0 | G5: =IFERROR('4. Metinis CAPEX'!G9/'2. Investicijos'!$H5*$C5,0) -> 0 | H5: =IFERROR('4. Metinis CAPEX'!H9/'2. Investicijos'!$H5*$C5,0) -> 0 | I5: =IFERROR('4. Metinis CAPEX'!I9/'2. Investicijos'!$H5*$C5,0) -> 0 | J5: =IFERROR('4. Metinis CAPEX'!J9/'2. Investicijos'!$H5*$C5,0) -> 0 | K5: =IFERROR('4. Metinis CAPEX'!K9/'2. Investicijos'!$H5*$C5,0) -> 0 | L5: =IFERROR('4. Metinis CAPEX'!L9/'2. Investicijos'!$H5*$C5,0) -> 0 | M5: =IFERROR('4. Metinis CAPEX'!M9/'2. Investicijos'!$H5*$C5,0) -> 0 | ... O5: =IFERROR('4. Metinis CAPEX'!O9/'2. Investicijos'!$H5*$C5,0) -> 0 | P5: {=IF($E5=0,0,SUMPRODUCT(($F$4:$O$4<P$4)*($F$4:$O$4>=P$4-$E5)*($F5:$O5/$E5)))} -> 0 | Q5: {=IF($E5=0,0,SUMPRODUCT(($F$4:$O$4<Q$4)*($F$4:$O$4>=Q$4-$E5)*($F5:$O5/$E5)))} -> 0 | R5: {=IF($E5=0,0,SUMPRODUCT(($F$4:$O$4<R$4)*($F$4:$O$4>=R$4-$E5)*($F5:$O5/$E5)))} -> 0 | S5: {=IF($E5=0,0,SUMPRODUCT(($F$4:$O$4<S$4)*($F$4:$O$4>=S$4-$E5)*($F5:$O5/$E5)))} -> 0 | T5: {=IF($E5=0,0,SUMPRODUCT(($F$4:$O$4<T$4)*($F$4:$O$4>=T$4-$E5)*($F5:$O5/$E5)))} -> 0 | U5: {=IF($E5=0,0,SUMPRODUCT(($F$4:$O$4<U$4)*($F$4:$O$4>=U$4-$E5)*($F5:$O5/$E5)))} -> 0 | V5: {=IF($E5=0,0,SUMPRODUCT(($F$4:$O$4<V$4)*($F$4:$O$4>=V$4-$E5)*($F5:$O5/$E5)))} -> 0 | W5: {=IF($E5=0,0,SUMPRODUCT(($F$4:$O$4<W$4)*($F$4:$O$4>=W$4-$E5)*($F5:$O5/$E5)))} -> 0 | ... Y5: {=IF($E5=0,0,SUMPRODUCT(($F$4:$O$4<Y$4)*($F$4:$O$4>=Y$4-$E5)*($F5:$O5/$E5)))} -> 0 | Z5: =0 -> 0 | AA5: =AJ5*$D5 -> 0 | AB5: =AK5*$D5 -> 0 | AC5: =AL5*$D5 -> 0 | AD5: =AM5*$D5 -> 0 | AE5: =AN5*$D5 -> 0 | AF5: =AO5*$D5 -> 0 | AG5: =AP5*$D5 -> 0 | AH5: =AQ5*$D5 -> 0 | AI5: =AR5*$D5 -> 0 | AJ5: =F5-P5 -> 0 | AK5: =AJ5+G5-Q5 -> 0 | AL5: =AK5+H5-R5 -> 0 | AM5: =AL5+I5-S5 -> 0 | AN5: =AM5+J5-T5 -> 0 | AO5: =AN5+K5-U5 -> 0 | AP5: =AO5+L5-V5 -> 0 | AQ5: =AP5+M5-W5 -> 0 | AR5: =AQ5+N5-X5 -> 0 | AS5: =AR5+O5-Y5 -> 0
A6: ='2. Investicijos'!A6 -> 2. | B6: ='2. Investicijos'!B6 -> 0 | C6: =IF('2. Investicijos'!N6="",0,'2. Investicijos'!N6) -> 0 | D6: =IF('2. Investicijos'!O6="",0,'2. Investicijos'!O6/100) -> 0 | E6: =IF('2. Investicijos'!P6="",0,'2. Investicijos'!P6) -> 0 | F6: =IFERROR('4. Metinis CAPEX'!F10/'2. Investicijos'!$H6*$C6,0) -> 0 | G6: =IFERROR('4. Metinis CAPEX'!G10/'2. Investicijos'!$H6*$C6,0) -> 0 | H6: =IFERROR('4. Metinis CAPEX'!H10/'2. Investicijos'!$H6*$C6,0) -> 0 | I6: =IFERROR('4. Metinis CAPEX'!I10/'2. Investicijos'!$H6*$C6,0) -> 0 | J6: =IFERROR('4. Metinis CAPEX'!J10/'2. Investicijos'!$H6*$C6,0) -> 0 | K6: =IFERROR('4. Metinis CAPEX'!K10/'2. Investicijos'!$H6*$C6,0) -> 0 | L6: =IFERROR('4. Metinis CAPEX'!L10/'2. Investicijos'!$H6*$C6,0) -> 0 | M6: =IFERROR('4. Metinis CAPEX'!M10/'2. Investicijos'!$H6*$C6,0) -> 0 | ... O6: =IFERROR('4. Metinis CAPEX'!O10/'2. Investicijos'!$H6*$C6,0) -> 0 | P6: {=IF($E6=0,0,SUMPRODUCT(($F$4:$O$4<P$4)*($F$4:$O$4>=P$4-$E6)*($F6:$O6/$E6)))} -> 0 | Q6: {=IF($E6=0,0,SUMPRODUCT(($F$4:$O$4<Q$4)*($F$4:$O$4>=Q$4-$E6)*($F6:$O6/$E6)))} -> 0 | R6: {=IF($E6=0,0,SUMPRODUCT(($F$4:$O$4<R$4)*($F$4:$O$4>=R$4-$E6)*($F6:$O6/$E6)))} -> 0 | S6: {=IF($E6=0,0,SUMPRODUCT(($F$4:$O$4<S$4)*($F$4:$O$4>=S$4-$E6)*($F6:$O6/$E6)))} -> 0 | T6: {=IF($E6=0,0,SUMPRODUCT(($F$4:$O$4<T$4)*($F$4:$O$4>=T$4-$E6)*($F6:$O6/$E6)))} -> 0 | U6: {=IF($E6=0,0,SUMPRODUCT(($F$4:$O$4<U$4)*($F$4:$O$4>=U$4-$E6)*($F6:$O6/$E6)))} -> 0 | V6: {=IF($E6=0,0,SUMPRODUCT(($F$4:$O$4<V$4)*($F$4:$O$4>=V$4-$E6)*($F6:$O6/$E6)))} -> 0 | W6: {=IF($E6=0,0,SUMPRODUCT(($F$4:$O$4<W$4)*($F$4:$O$4>=W$4-$E6)*($F6:$O6/$E6)))} -> 0 | ... Y6: {=IF($E6=0,0,SUMPRODUCT(($F$4:$O$4<Y$4)*($F$4:$O$4>=Y$4-$E6)*($F6:$O6/$E6)))} -> 0 | Z6: =0 -> 0 | AA6: =AJ6*$D6 -> 0 | AB6: =AK6*$D6 -> 0 | AC6: =AL6*$D6 -> 0 | AD6: =AM6*$D6 -> 0 | AE6: =AN6*$D6 -> 0 | AF6: =AO6*$D6 -> 0 | AG6: =AP6*$D6 -> 0 | AH6: =AQ6*$D6 -> 0 | AI6: =AR6*$D6 -> 0 | AJ6: =F6-P6 -> 0 | AK6: =AJ6+G6-Q6 -> 0 | AL6: =AK6+H6-R6 -> 0 | AM6: =AL6+I6-S6 -> 0 | AN6: =AM6+J6-T6 -> 0 | AO6: =AN6+K6-U6 -> 0 | AP6: =AO6+L6-V6 -> 0 | AQ6: =AP6+M6-W6 -> 0 | AR6: =AQ6+N6-X6 -> 0 | AS6: =AR6+O6-Y6 -> 0
A7: ='2. Investicijos'!A7 -> 3. | B7: ='2. Investicijos'!B7 -> 0 | C7: =IF('2. Investicijos'!N7="",0,'2. Investicijos'!N7) -> 0 | D7: =IF('2. Investicijos'!O7="",0,'2. Investicijos'!O7/100) -> 0 | E7: =IF('2. Investicijos'!P7="",0,'2. Investicijos'!P7) -> 0 | F7: =IFERROR('4. Metinis CAPEX'!F11/'2. Investicijos'!$H7*$C7,0) -> 0 | G7: =IFERROR('4. Metinis CAPEX'!G11/'2. Investicijos'!$H7*$C7,0) -> 0 | H7: =IFERROR('4. Metinis CAPEX'!H11/'2. Investicijos'!$H7*$C7,0) -> 0 | I7: =IFERROR('4. Metinis CAPEX'!I11/'2. Investicijos'!$H7*$C7,0) -> 0 | J7: =IFERROR('4. Metinis CAPEX'!J11/'2. Investicijos'!$H7*$C7,0) -> 0 | K7: =IFERROR('4. Metinis CAPEX'!K11/'2. Investicijos'!$H7*$C7,0) -> 0 | L7: =IFERROR('4. Metinis CAPEX'!L11/'2. Investicijos'!$H7*$C7,0) -> 0 | M7: =IFERROR('4. Metinis CAPEX'!M11/'2. Investicijos'!$H7*$C7,0) -> 0 | ... O7: =IFERROR('4. Metinis CAPEX'!O11/'2. Investicijos'!$H7*$C7,0) -> 0 | P7: {=IF($E7=0,0,SUMPRODUCT(($F$4:$O$4<P$4)*($F$4:$O$4>=P$4-$E7)*($F7:$O7/$E7)))} -> 0 | Q7: {=IF($E7=0,0,SUMPRODUCT(($F$4:$O$4<Q$4)*($F$4:$O$4>=Q$4-$E7)*($F7:$O7/$E7)))} -> 0 | R7: {=IF($E7=0,0,SUMPRODUCT(($F$4:$O$4<R$4)*($F$4:$O$4>=R$4-$E7)*($F7:$O7/$E7)))} -> 0 | S7: {=IF($E7=0,0,SUMPRODUCT(($F$4:$O$4<S$4)*($F$4:$O$4>=S$4-$E7)*($F7:$O7/$E7)))} -> 0 | T7: {=IF($E7=0,0,SUMPRODUCT(($F$4:$O$4<T$4)*($F$4:$O$4>=T$4-$E7)*($F7:$O7/$E7)))} -> 0 | U7: {=IF($E7=0,0,SUMPRODUCT(($F$4:$O$4<U$4)*($F$4:$O$4>=U$4-$E7)*($F7:$O7/$E7)))} -> 0 | V7: {=IF($E7=0,0,SUMPRODUCT(($F$4:$O$4<V$4)*($F$4:$O$4>=V$4-$E7)*($F7:$O7/$E7)))} -> 0 | W7: {=IF($E7=0,0,SUMPRODUCT(($F$4:$O$4<W$4)*($F$4:$O$4>=W$4-$E7)*($F7:$O7/$E7)))} -> 0 | ... Y7: {=IF($E7=0,0,SUMPRODUCT(($F$4:$O$4<Y$4)*($F$4:$O$4>=Y$4-$E7)*($F7:$O7/$E7)))} -> 0 | Z7: =0 -> 0 | AA7: =AJ7*$D7 -> 0 | AB7: =AK7*$D7 -> 0 | AC7: =AL7*$D7 -> 0 | AD7: =AM7*$D7 -> 0 | AE7: =AN7*$D7 -> 0 | AF7: =AO7*$D7 -> 0 | AG7: =AP7*$D7 -> 0 | AH7: =AQ7*$D7 -> 0 | AI7: =AR7*$D7 -> 0 | AJ7: =F7-P7 -> 0 | AK7: =AJ7+G7-Q7 -> 0 | AL7: =AK7+H7-R7 -> 0 | AM7: =AL7+I7-S7 -> 0 | AN7: =AM7+J7-T7 -> 0 | AO7: =AN7+K7-U7 -> 0 | AP7: =AO7+L7-V7 -> 0 | AQ7: =AP7+M7-W7 -> 0 | AR7: =AQ7+N7-X7 -> 0 | AS7: =AR7+O7-Y7 -> 0
A8: ='2. Investicijos'!A8 -> 4. | B8: ='2. Investicijos'!B8 -> 0 | C8: =IF('2. Investicijos'!N8="",0,'2. Investicijos'!N8) -> 0 | D8: =IF('2. Investicijos'!O8="",0,'2. Investicijos'!O8/100) -> 0 | E8: =IF('2. Investicijos'!P8="",0,'2. Investicijos'!P8) -> 0 | F8: =IFERROR('4. Metinis CAPEX'!F12/'2. Investicijos'!$H8*$C8,0) -> 0 | G8: =IFERROR('4. Metinis CAPEX'!G12/'2. Investicijos'!$H8*$C8,0) -> 0 | H8: =IFERROR('4. Metinis CAPEX'!H12/'2. Investicijos'!$H8*$C8,0) -> 0 | I8: =IFERROR('4. Metinis CAPEX'!I12/'2. Investicijos'!$H8*$C8,0) -> 0 | J8: =IFERROR('4. Metinis CAPEX'!J12/'2. Investicijos'!$H8*$C8,0) -> 0 | K8: =IFERROR('4. Metinis CAPEX'!K12/'2. Investicijos'!$H8*$C8,0) -> 0 | L8: =IFERROR('4. Metinis CAPEX'!L12/'2. Investicijos'!$H8*$C8,0) -> 0 | M8: =IFERROR('4. Metinis CAPEX'!M12/'2. Investicijos'!$H8*$C8,0) -> 0 | ... O8: =IFERROR('4. Metinis CAPEX'!O12/'2. Investicijos'!$H8*$C8,0) -> 0 | P8: {=IF($E8=0,0,SUMPRODUCT(($F$4:$O$4<P$4)*($F$4:$O$4>=P$4-$E8)*($F8:$O8/$E8)))} -> 0 | Q8: {=IF($E8=0,0,SUMPRODUCT(($F$4:$O$4<Q$4)*($F$4:$O$4>=Q$4-$E8)*($F8:$O8/$E8)))} -> 0 | R8: {=IF($E8=0,0,SUMPRODUCT(($F$4:$O$4<R$4)*($F$4:$O$4>=R$4-$E8)*($F8:$O8/$E8)))} -> 0 | S8: {=IF($E8=0,0,SUMPRODUCT(($F$4:$O$4<S$4)*($F$4:$O$4>=S$4-$E8)*($F8:$O8/$E8)))} -> 0 | T8: {=IF($E8=0,0,SUMPRODUCT(($F$4:$O$4<T$4)*($F$4:$O$4>=T$4-$E8)*($F8:$O8/$E8)))} -> 0 | U8: {=IF($E8=0,0,SUMPRODUCT(($F$4:$O$4<U$4)*($F$4:$O$4>=U$4-$E8)*($F8:$O8/$E8)))} -> 0 | V8: {=IF($E8=0,0,SUMPRODUCT(($F$4:$O$4<V$4)*($F$4:$O$4>=V$4-$E8)*($F8:$O8/$E8)))} -> 0 | W8: {=IF($E8=0,0,SUMPRODUCT(($F$4:$O$4<W$4)*($F$4:$O$4>=W$4-$E8)*($F8:$O8/$E8)))} -> 0 | ... Y8: {=IF($E8=0,0,SUMPRODUCT(($F$4:$O$4<Y$4)*($F$4:$O$4>=Y$4-$E8)*($F8:$O8/$E8)))} -> 0 | Z8: =0 -> 0 | AA8: =AJ8*$D8 -> 0 | AB8: =AK8*$D8 -> 0 | AC8: =AL8*$D8 -> 0 | AD8: =AM8*$D8 -> 0 | AE8: =AN8*$D8 -> 0 | AF8: =AO8*$D8 -> 0 | AG8: =AP8*$D8 -> 0 | AH8: =AQ8*$D8 -> 0 | AI8: =AR8*$D8 -> 0 | AJ8: =F8-P8 -> 0 | AK8: =AJ8+G8-Q8 -> 0 | AL8: =AK8+H8-R8 -> 0 | AM8: =AL8+I8-S8 -> 0 | AN8: =AM8+J8-T8 -> 0 | AO8: =AN8+K8-U8 -> 0 | AP8: =AO8+L8-V8 -> 0 | AQ8: =AP8+M8-W8 -> 0 | AR8: =AQ8+N8-X8 -> 0 | AS8: =AR8+O8-Y8 -> 0
A9: ='2. Investicijos'!A9 -> 5. | B9: ='2. Investicijos'!B9 -> 0 | C9: =IF('2. Investicijos'!N9="",0,'2. Investicijos'!N9) -> 0 | D9: =IF('2. Investicijos'!O9="",0,'2. Investicijos'!O9/100) -> 0 | E9: =IF('2. Investicijos'!P9="",0,'2. Investicijos'!P9) -> 0 | F9: =IFERROR('4. Metinis CAPEX'!F13/'2. Investicijos'!$H9*$C9,0) -> 0 | G9: =IFERROR('4. Metinis CAPEX'!G13/'2. Investicijos'!$H9*$C9,0) -> 0 | H9: =IFERROR('4. Metinis CAPEX'!H13/'2. Investicijos'!$H9*$C9,0) -> 0 | I9: =IFERROR('4. Metinis CAPEX'!I13/'2. Investicijos'!$H9*$C9,0) -> 0 | J9: =IFERROR('4. Metinis CAPEX'!J13/'2. Investicijos'!$H9*$C9,0) -> 0 | K9: =IFERROR('4. Metinis CAPEX'!K13/'2. Investicijos'!$H9*$C9,0) -> 0 | L9: =IFERROR('4. Metinis CAPEX'!L13/'2. Investicijos'!$H9*$C9,0) -> 0 | M9: =IFERROR('4. Metinis CAPEX'!M13/'2. Investicijos'!$H9*$C9,0) -> 0 | ... O9: =IFERROR('4. Metinis CAPEX'!O13/'2. Investicijos'!$H9*$C9,0) -> 0 | P9: {=IF($E9=0,0,SUMPRODUCT(($F$4:$O$4<P$4)*($F$4:$O$4>=P$4-$E9)*($F9:$O9/$E9)))} -> 0 | Q9: {=IF($E9=0,0,SUMPRODUCT(($F$4:$O$4<Q$4)*($F$4:$O$4>=Q$4-$E9)*($F9:$O9/$E9)))} -> 0 | R9: {=IF($E9=0,0,SUMPRODUCT(($F$4:$O$4<R$4)*($F$4:$O$4>=R$4-$E9)*($F9:$O9/$E9)))} -> 0 | S9: {=IF($E9=0,0,SUMPRODUCT(($F$4:$O$4<S$4)*($F$4:$O$4>=S$4-$E9)*($F9:$O9/$E9)))} -> 0 | T9: {=IF($E9=0,0,SUMPRODUCT(($F$4:$O$4<T$4)*($F$4:$O$4>=T$4-$E9)*($F9:$O9/$E9)))} -> 0 | U9: {=IF($E9=0,0,SUMPRODUCT(($F$4:$O$4<U$4)*($F$4:$O$4>=U$4-$E9)*($F9:$O9/$E9)))} -> 0 | V9: {=IF($E9=0,0,SUMPRODUCT(($F$4:$O$4<V$4)*($F$4:$O$4>=V$4-$E9)*($F9:$O9/$E9)))} -> 0 | W9: {=IF($E9=0,0,SUMPRODUCT(($F$4:$O$4<W$4)*($F$4:$O$4>=W$4-$E9)*($F9:$O9/$E9)))} -> 0 | ... Y9: {=IF($E9=0,0,SUMPRODUCT(($F$4:$O$4<Y$4)*($F$4:$O$4>=Y$4-$E9)*($F9:$O9/$E9)))} -> 0 | Z9: =0 -> 0 | AA9: =AJ9*$D9 -> 0 | AB9: =AK9*$D9 -> 0 | AC9: =AL9*$D9 -> 0 | AD9: =AM9*$D9 -> 0 | AE9: =AN9*$D9 -> 0 | AF9: =AO9*$D9 -> 0 | AG9: =AP9*$D9 -> 0 | AH9: =AQ9*$D9 -> 0 | AI9: =AR9*$D9 -> 0 | AJ9: =F9-P9 -> 0 | AK9: =AJ9+G9-Q9 -> 0 | AL9: =AK9+H9-R9 -> 0 | AM9: =AL9+I9-S9 -> 0 | AN9: =AM9+J9-T9 -> 0 | AO9: =AN9+K9-U9 -> 0 | AP9: =AO9+L9-V9 -> 0 | AQ9: =AP9+M9-W9 -> 0 | AR9: =AQ9+N9-X9 -> 0 | AS9: =AR9+O9-Y9 -> 0
A10: ='2. Investicijos'!A10 -> 6. | B10: ='2. Investicijos'!B10 -> 0 | C10: =IF('2. Investicijos'!N10="",0,'2. Investicijos'!N10) -> 0 | D10: =IF('2. Investicijos'!O10="",0,'2. Investicijos'!O10/100) -> 0 | E10: =IF('2. Investicijos'!P10="",0,'2. Investicijos'!P10) -> 0 | F10: =IFERROR('4. Metinis CAPEX'!F14/'2. Investicijos'!$H10*$C10,0) -> 0 | G10: =IFERROR('4. Metinis CAPEX'!G14/'2. Investicijos'!$H10*$C10,0) -> 0 | H10: =IFERROR('4. Metinis CAPEX'!H14/'2. Investicijos'!$H10*$C10,0) -> 0 | I10: =IFERROR('4. Metinis CAPEX'!I14/'2. Investicijos'!$H10*$C10,0) -> 0 | J10: =IFERROR('4. Metinis CAPEX'!J14/'2. Investicijos'!$H10*$C10,0) -> 0 | K10: =IFERROR('4. Metinis CAPEX'!K14/'2. Investicijos'!$H10*$C10,0) -> 0 | L10: =IFERROR('4. Metinis CAPEX'!L14/'2. Investicijos'!$H10*$C10,0) -> 0 | M10: =IFERROR('4. Metinis CAPEX'!M14/'2. Investicijos'!$H10*$C10,0) -> 0 | ... O10: =IFERROR('4. Metinis CAPEX'!O14/'2. Investicijos'!$H10*$C10,0) -> 0 | P10: {=IF($E10=0,0,SUMPRODUCT(($F$4:$O$4<P$4)*($F$4:$O$4>=P$4-$E10)*($F10:$O10/$E10)))} -> 0 | Q10: {=IF($E10=0,0,SUMPRODUCT(($F$4:$O$4<Q$4)*($F$4:$O$4>=Q$4-$E10)*($F10:$O10/$E10)))} -> 0 | R10: {=IF($E10=0,0,SUMPRODUCT(($F$4:$O$4<R$4)*($F$4:$O$4>=R$4-$E10)*($F10:$O10/$E10)))} -> 0 | S10: {=IF($E10=0,0,SUMPRODUCT(($F$4:$O$4<S$4)*($F$4:$O$4>=S$4-$E10)*($F10:$O10/$E10)))} -> 0 | T10: {=IF($E10=0,0,SUMPRODUCT(($F$4:$O$4<T$4)*($F$4:$O$4>=T$4-$E10)*($F10:$O10/$E10)))} -> 0 | U10: {=IF($E10=0,0,SUMPRODUCT(($F$4:$O$4<U$4)*($F$4:$O$4>=U$4-$E10)*($F10:$O10/$E10)))} -> 0 | V10: {=IF($E10=0,0,SUMPRODUCT(($F$4:$O$4<V$4)*($F$4:$O$4>=V$4-$E10)*($F10:$O10/$E10)))} -> 0 | W10: {=IF($E10=0,0,SUMPRODUCT(($F$4:$O$4<W$4)*($F$4:$O$4>=W$4-$E10)*($F10:$O10/$E10)))} -> 0 | ... Y10: {=IF($E10=0,0,SUMPRODUCT(($F$4:$O$4<Y$4)*($F$4:$O$4>=Y$4-$E10)*($F10:$O10/$E10)))} -> 0 | Z10: =0 -> 0 | AA10: =AJ10*$D10 -> 0 | AB10: =AK10*$D10 -> 0 | AC10: =AL10*$D10 -> 0 | AD10: =AM10*$D10 -> 0 | AE10: =AN10*$D10 -> 0 | AF10: =AO10*$D10 -> 0 | AG10: =AP10*$D10 -> 0 | AH10: =AQ10*$D10 -> 0 | AI10: =AR10*$D10 -> 0 | AJ10: =F10-P10 -> 0 | AK10: =AJ10+G10-Q10 -> 0 | AL10: =AK10+H10-R10 -> 0 | AM10: =AL10+I10-S10 -> 0 | AN10: =AM10+J10-T10 -> 0 | AO10: =AN10+K10-U10 -> 0 | AP10: =AO10+L10-V10 -> 0 | AQ10: =AP10+M10-W10 -> 0 | AR10: =AQ10+N10-X10 -> 0 | AS10: =AR10+O10-Y10 -> 0
A11: ='2. Investicijos'!A11 -> 7. | B11: ='2. Investicijos'!B11 -> 0 | C11: =IF('2. Investicijos'!N11="",0,'2. Investicijos'!N11) -> 0 | D11: =IF('2. Investicijos'!O11="",0,'2. Investicijos'!O11/100) -> 0 | E11: =IF('2. Investicijos'!P11="",0,'2. Investicijos'!P11) -> 0 | F11: =IFERROR('4. Metinis CAPEX'!F15/'2. Investicijos'!$H11*$C11,0) -> 0 | G11: =IFERROR('4. Metinis CAPEX'!G15/'2. Investicijos'!$H11*$C11,0) -> 0 | H11: =IFERROR('4. Metinis CAPEX'!H15/'2. Investicijos'!$H11*$C11,0) -> 0 | I11: =IFERROR('4. Metinis CAPEX'!I15/'2. Investicijos'!$H11*$C11,0) -> 0 | J11: =IFERROR('4. Metinis CAPEX'!J15/'2. Investicijos'!$H11*$C11,0) -> 0 | K11: =IFERROR('4. Metinis CAPEX'!K15/'2. Investicijos'!$H11*$C11,0) -> 0 | L11: =IFERROR('4. Metinis CAPEX'!L15/'2. Investicijos'!$H11*$C11,0) -> 0 | M11: =IFERROR('4. Metinis CAPEX'!M15/'2. Investicijos'!$H11*$C11,0) -> 0 | ... O11: =IFERROR('4. Metinis CAPEX'!O15/'2. Investicijos'!$H11*$C11,0) -> 0 | P11: {=IF($E11=0,0,SUMPRODUCT(($F$4:$O$4<P$4)*($F$4:$O$4>=P$4-$E11)*($F11:$O11/$E11)))} -> 0 | Q11: {=IF($E11=0,0,SUMPRODUCT(($F$4:$O$4<Q$4)*($F$4:$O$4>=Q$4-$E11)*($F11:$O11/$E11)))} -> 0 | R11: {=IF($E11=0,0,SUMPRODUCT(($F$4:$O$4<R$4)*($F$4:$O$4>=R$4-$E11)*($F11:$O11/$E11)))} -> 0 | S11: {=IF($E11=0,0,SUMPRODUCT(($F$4:$O$4<S$4)*($F$4:$O$4>=S$4-$E11)*($F11:$O11/$E11)))} -> 0 | T11: {=IF($E11=0,0,SUMPRODUCT(($F$4:$O$4<T$4)*($F$4:$O$4>=T$4-$E11)*($F11:$O11/$E11)))} -> 0 | U11: {=IF($E11=0,0,SUMPRODUCT(($F$4:$O$4<U$4)*($F$4:$O$4>=U$4-$E11)*($F11:$O11/$E11)))} -> 0 | V11: {=IF($E11=0,0,SUMPRODUCT(($F$4:$O$4<V$4)*($F$4:$O$4>=V$4-$E11)*($F11:$O11/$E11)))} -> 0 | W11: {=IF($E11=0,0,SUMPRODUCT(($F$4:$O$4<W$4)*($F$4:$O$4>=W$4-$E11)*($F11:$O11/$E11)))} -> 0 | ... Y11: {=IF($E11=0,0,SUMPRODUCT(($F$4:$O$4<Y$4)*($F$4:$O$4>=Y$4-$E11)*($F11:$O11/$E11)))} -> 0 | Z11: =0 -> 0 | AA11: =AJ11*$D11 -> 0 | AB11: =AK11*$D11 -> 0 | AC11: =AL11*$D11 -> 0 | AD11: =AM11*$D11 -> 0 | AE11: =AN11*$D11 -> 0 | AF11: =AO11*$D11 -> 0 | AG11: =AP11*$D11 -> 0 | AH11: =AQ11*$D11 -> 0 | AI11: =AR11*$D11 -> 0 | AJ11: =F11-P11 -> 0 | AK11: =AJ11+G11-Q11 -> 0 | AL11: =AK11+H11-R11 -> 0 | AM11: =AL11+I11-S11 -> 0 | AN11: =AM11+J11-T11 -> 0 | AO11: =AN11+K11-U11 -> 0 | AP11: =AO11+L11-V11 -> 0 | AQ11: =AP11+M11-W11 -> 0 | AR11: =AQ11+N11-X11 -> 0 | AS11: =AR11+O11-Y11 -> 0
A12: ='2. Investicijos'!A12 -> 8. | B12: ='2. Investicijos'!B12 -> 0 | C12: =IF('2. Investicijos'!N12="",0,'2. Investicijos'!N12) -> 0 | D12: =IF('2. Investicijos'!O12="",0,'2. Investicijos'!O12/100) -> 0 | E12: =IF('2. Investicijos'!P12="",0,'2. Investicijos'!P12) -> 0 | F12: =IFERROR('4. Metinis CAPEX'!F16/'2. Investicijos'!$H12*$C12,0) -> 0 | G12: =IFERROR('4. Metinis CAPEX'!G16/'2. Investicijos'!$H12*$C12,0) -> 0 | H12: =IFERROR('4. Metinis CAPEX'!H16/'2. Investicijos'!$H12*$C12,0) -> 0 | I12: =IFERROR('4. Metinis CAPEX'!I16/'2. Investicijos'!$H12*$C12,0) -> 0 | J12: =IFERROR('4. Metinis CAPEX'!J16/'2. Investicijos'!$H12*$C12,0) -> 0 | K12: =IFERROR('4. Metinis CAPEX'!K16/'2. Investicijos'!$H12*$C12,0) -> 0 | L12: =IFERROR('4. Metinis CAPEX'!L16/'2. Investicijos'!$H12*$C12,0) -> 0 | M12: =IFERROR('4. Metinis CAPEX'!M16/'2. Investicijos'!$H12*$C12,0) -> 0 | ... O12: =IFERROR('4. Metinis CAPEX'!O16/'2. Investicijos'!$H12*$C12,0) -> 0 | P12: {=IF($E12=0,0,SUMPRODUCT(($F$4:$O$4<P$4)*($F$4:$O$4>=P$4-$E12)*($F12:$O12/$E12)))} -> 0 | Q12: {=IF($E12=0,0,SUMPRODUCT(($F$4:$O$4<Q$4)*($F$4:$O$4>=Q$4-$E12)*($F12:$O12/$E12)))} -> 0 | R12: {=IF($E12=0,0,SUMPRODUCT(($F$4:$O$4<R$4)*($F$4:$O$4>=R$4-$E12)*($F12:$O12/$E12)))} -> 0 | S12: {=IF($E12=0,0,SUMPRODUCT(($F$4:$O$4<S$4)*($F$4:$O$4>=S$4-$E12)*($F12:$O12/$E12)))} -> 0 | T12: {=IF($E12=0,0,SUMPRODUCT(($F$4:$O$4<T$4)*($F$4:$O$4>=T$4-$E12)*($F12:$O12/$E12)))} -> 0 | U12: {=IF($E12=0,0,SUMPRODUCT(($F$4:$O$4<U$4)*($F$4:$O$4>=U$4-$E12)*($F12:$O12/$E12)))} -> 0 | V12: {=IF($E12=0,0,SUMPRODUCT(($F$4:$O$4<V$4)*($F$4:$O$4>=V$4-$E12)*($F12:$O12/$E12)))} -> 0 | W12: {=IF($E12=0,0,SUMPRODUCT(($F$4:$O$4<W$4)*($F$4:$O$4>=W$4-$E12)*($F12:$O12/$E12)))} -> 0 | ... Y12: {=IF($E12=0,0,SUMPRODUCT(($F$4:$O$4<Y$4)*($F$4:$O$4>=Y$4-$E12)*($F12:$O12/$E12)))} -> 0 | Z12: =0 -> 0 | AA12: =AJ12*$D12 -> 0 | AB12: =AK12*$D12 -> 0 | AC12: =AL12*$D12 -> 0 | AD12: =AM12*$D12 -> 0 | AE12: =AN12*$D12 -> 0 | AF12: =AO12*$D12 -> 0 | AG12: =AP12*$D12 -> 0 | AH12: =AQ12*$D12 -> 0 | AI12: =AR12*$D12 -> 0 | AJ12: =F12-P12 -> 0 | AK12: =AJ12+G12-Q12 -> 0 | AL12: =AK12+H12-R12 -> 0 | AM12: =AL12+I12-S12 -> 0 | AN12: =AM12+J12-T12 -> 0 | AO12: =AN12+K12-U12 -> 0 | AP12: =AO12+L12-V12 -> 0 | AQ12: =AP12+M12-W12 -> 0 | AR12: =AQ12+N12-X12 -> 0 | AS12: =AR12+O12-Y12 -> 0
A13: ='2. Investicijos'!A13 -> 9. | B13: ='2. Investicijos'!B13 -> 0 | C13: =IF('2. Investicijos'!N13="",0,'2. Investicijos'!N13) -> 0 | D13: =IF('2. Investicijos'!O13="",0,'2. Investicijos'!O13/100) -> 0 | E13: =IF('2. Investicijos'!P13="",0,'2. Investicijos'!P13) -> 0 | F13: =IFERROR('4. Metinis CAPEX'!F17/'2. Investicijos'!$H13*$C13,0) -> 0 | G13: =IFERROR('4. Metinis CAPEX'!G17/'2. Investicijos'!$H13*$C13,0) -> 0 | H13: =IFERROR('4. Metinis CAPEX'!H17/'2. Investicijos'!$H13*$C13,0) -> 0 | I13: =IFERROR('4. Metinis CAPEX'!I17/'2. Investicijos'!$H13*$C13,0) -> 0 | J13: =IFERROR('4. Metinis CAPEX'!J17/'2. Investicijos'!$H13*$C13,0) -> 0 | K13: =IFERROR('4. Metinis CAPEX'!K17/'2. Investicijos'!$H13*$C13,0) -> 0 | L13: =IFERROR('4. Metinis CAPEX'!L17/'2. Investicijos'!$H13*$C13,0) -> 0 | M13: =IFERROR('4. Metinis CAPEX'!M17/'2. Investicijos'!$H13*$C13,0) -> 0 | ... O13: =IFERROR('4. Metinis CAPEX'!O17/'2. Investicijos'!$H13*$C13,0) -> 0 | P13: {=IF($E13=0,0,SUMPRODUCT(($F$4:$O$4<P$4)*($F$4:$O$4>=P$4-$E13)*($F13:$O13/$E13)))} -> 0 | Q13: {=IF($E13=0,0,SUMPRODUCT(($F$4:$O$4<Q$4)*($F$4:$O$4>=Q$4-$E13)*($F13:$O13/$E13)))} -> 0 | R13: {=IF($E13=0,0,SUMPRODUCT(($F$4:$O$4<R$4)*($F$4:$O$4>=R$4-$E13)*($F13:$O13/$E13)))} -> 0 | S13: {=IF($E13=0,0,SUMPRODUCT(($F$4:$O$4<S$4)*($F$4:$O$4>=S$4-$E13)*($F13:$O13/$E13)))} -> 0 | T13: {=IF($E13=0,0,SUMPRODUCT(($F$4:$O$4<T$4)*($F$4:$O$4>=T$4-$E13)*($F13:$O13/$E13)))} -> 0 | U13: {=IF($E13=0,0,SUMPRODUCT(($F$4:$O$4<U$4)*($F$4:$O$4>=U$4-$E13)*($F13:$O13/$E13)))} -> 0 | V13: {=IF($E13=0,0,SUMPRODUCT(($F$4:$O$4<V$4)*($F$4:$O$4>=V$4-$E13)*($F13:$O13/$E13)))} -> 0 | W13: {=IF($E13=0,0,SUMPRODUCT(($F$4:$O$4<W$4)*($F$4:$O$4>=W$4-$E13)*($F13:$O13/$E13)))} -> 0 | ... Y13: {=IF($E13=0,0,SUMPRODUCT(($F$4:$O$4<Y$4)*($F$4:$O$4>=Y$4-$E13)*($F13:$O13/$E13)))} -> 0 | Z13: =0 -> 0 | AA13: =AJ13*$D13 -> 0 | AB13: =AK13*$D13 -> 0 | AC13: =AL13*$D13 -> 0 | AD13: =AM13*$D13 -> 0 | AE13: =AN13*$D13 -> 0 | AF13: =AO13*$D13 -> 0 | AG13: =AP13*$D13 -> 0 | AH13: =AQ13*$D13 -> 0 | AI13: =AR13*$D13 -> 0 | AJ13: =F13-P13 -> 0 | AK13: =AJ13+G13-Q13 -> 0 | AL13: =AK13+H13-R13 -> 0 | AM13: =AL13+I13-S13 -> 0 | AN13: =AM13+J13-T13 -> 0 | AO13: =AN13+K13-U13 -> 0 | AP13: =AO13+L13-V13 -> 0 | AQ13: =AP13+M13-W13 -> 0 | AR13: =AQ13+N13-X13 -> 0 | AS13: =AR13+O13-Y13 -> 0
A14: ='2. Investicijos'!A14 -> 10. | B14: ='2. Investicijos'!B14 -> 0 | C14: =IF('2. Investicijos'!N14="",0,'2. Investicijos'!N14) -> 0 | D14: =IF('2. Investicijos'!O14="",0,'2. Investicijos'!O14/100) -> 0 | E14: =IF('2. Investicijos'!P14="",0,'2. Investicijos'!P14) -> 0 | F14: =IFERROR('4. Metinis CAPEX'!F18/'2. Investicijos'!$H14*$C14,0) -> 0 | G14: =IFERROR('4. Metinis CAPEX'!G18/'2. Investicijos'!$H14*$C14,0) -> 0 | H14: =IFERROR('4. Metinis CAPEX'!H18/'2. Investicijos'!$H14*$C14,0) -> 0 | I14: =IFERROR('4. Metinis CAPEX'!I18/'2. Investicijos'!$H14*$C14,0) -> 0 | J14: =IFERROR('4. Metinis CAPEX'!J18/'2. Investicijos'!$H14*$C14,0) -> 0 | K14: =IFERROR('4. Metinis CAPEX'!K18/'2. Investicijos'!$H14*$C14,0) -> 0 | L14: =IFERROR('4. Metinis CAPEX'!L18/'2. Investicijos'!$H14*$C14,0) -> 0 | M14: =IFERROR('4. Metinis CAPEX'!M18/'2. Investicijos'!$H14*$C14,0) -> 0 | ... O14: =IFERROR('4. Metinis CAPEX'!O18/'2. Investicijos'!$H14*$C14,0) -> 0 | P14: {=IF($E14=0,0,SUMPRODUCT(($F$4:$O$4<P$4)*($F$4:$O$4>=P$4-$E14)*($F14:$O14/$E14)))} -> 0 | Q14: {=IF($E14=0,0,SUMPRODUCT(($F$4:$O$4<Q$4)*($F$4:$O$4>=Q$4-$E14)*($F14:$O14/$E14)))} -> 0 | R14: {=IF($E14=0,0,SUMPRODUCT(($F$4:$O$4<R$4)*($F$4:$O$4>=R$4-$E14)*($F14:$O14/$E14)))} -> 0 | S14: {=IF($E14=0,0,SUMPRODUCT(($F$4:$O$4<S$4)*($F$4:$O$4>=S$4-$E14)*($F14:$O14/$E14)))} -> 0 | T14: {=IF($E14=0,0,SUMPRODUCT(($F$4:$O$4<T$4)*($F$4:$O$4>=T$4-$E14)*($F14:$O14/$E14)))} -> 0 | U14: {=IF($E14=0,0,SUMPRODUCT(($F$4:$O$4<U$4)*($F$4:$O$4>=U$4-$E14)*($F14:$O14/$E14)))} -> 0 | V14: {=IF($E14=0,0,SUMPRODUCT(($F$4:$O$4<V$4)*($F$4:$O$4>=V$4-$E14)*($F14:$O14/$E14)))} -> 0 | W14: {=IF($E14=0,0,SUMPRODUCT(($F$4:$O$4<W$4)*($F$4:$O$4>=W$4-$E14)*($F14:$O14/$E14)))} -> 0 | ... Y14: {=IF($E14=0,0,SUMPRODUCT(($F$4:$O$4<Y$4)*($F$4:$O$4>=Y$4-$E14)*($F14:$O14/$E14)))} -> 0 | Z14: =0 -> 0 | AA14: =AJ14*$D14 -> 0 | AB14: =AK14*$D14 -> 0 | AC14: =AL14*$D14 -> 0 | AD14: =AM14*$D14 -> 0 | AE14: =AN14*$D14 -> 0 | AF14: =AO14*$D14 -> 0 | AG14: =AP14*$D14 -> 0 | AH14: =AQ14*$D14 -> 0 | AI14: =AR14*$D14 -> 0 | AJ14: =F14-P14 -> 0 | AK14: =AJ14+G14-Q14 -> 0 | AL14: =AK14+H14-R14 -> 0 | AM14: =AL14+I14-S14 -> 0 | AN14: =AM14+J14-T14 -> 0 | AO14: =AN14+K14-U14 -> 0 | AP14: =AO14+L14-V14 -> 0 | AQ14: =AP14+M14-W14 -> 0 | AR14: =AQ14+N14-X14 -> 0 | AS14: =AR14+O14-Y14 -> 0
A15: ='2. Investicijos'!A15 -> 11. | B15: ='2. Investicijos'!B15 -> 0 | C15: =IF('2. Investicijos'!N15="",0,'2. Investicijos'!N15) -> 0 | D15: =IF('2. Investicijos'!O15="",0,'2. Investicijos'!O15/100) -> 0 | E15: =IF('2. Investicijos'!P15="",0,'2. Investicijos'!P15) -> 0 | F15: =IFERROR('4. Metinis CAPEX'!F19/'2. Investicijos'!$H15*$C15,0) -> 0 | G15: =IFERROR('4. Metinis CAPEX'!G19/'2. Investicijos'!$H15*$C15,0) -> 0 | H15: =IFERROR('4. Metinis CAPEX'!H19/'2. Investicijos'!$H15*$C15,0) -> 0 | I15: =IFERROR('4. Metinis CAPEX'!I19/'2. Investicijos'!$H15*$C15,0) -> 0 | J15: =IFERROR('4. Metinis CAPEX'!J19/'2. Investicijos'!$H15*$C15,0) -> 0 | K15: =IFERROR('4. Metinis CAPEX'!K19/'2. Investicijos'!$H15*$C15,0) -> 0 | L15: =IFERROR('4. Metinis CAPEX'!L19/'2. Investicijos'!$H15*$C15,0) -> 0 | M15: =IFERROR('4. Metinis CAPEX'!M19/'2. Investicijos'!$H15*$C15,0) -> 0 | ... O15: =IFERROR('4. Metinis CAPEX'!O19/'2. Investicijos'!$H15*$C15,0) -> 0 | P15: {=IF($E15=0,0,SUMPRODUCT(($F$4:$O$4<P$4)*($F$4:$O$4>=P$4-$E15)*($F15:$O15/$E15)))} -> 0 | Q15: {=IF($E15=0,0,SUMPRODUCT(($F$4:$O$4<Q$4)*($F$4:$O$4>=Q$4-$E15)*($F15:$O15/$E15)))} -> 0 | R15: {=IF($E15=0,0,SUMPRODUCT(($F$4:$O$4<R$4)*($F$4:$O$4>=R$4-$E15)*($F15:$O15/$E15)))} -> 0 | S15: {=IF($E15=0,0,SUMPRODUCT(($F$4:$O$4<S$4)*($F$4:$O$4>=S$4-$E15)*($F15:$O15/$E15)))} -> 0 | T15: {=IF($E15=0,0,SUMPRODUCT(($F$4:$O$4<T$4)*($F$4:$O$4>=T$4-$E15)*($F15:$O15/$E15)))} -> 0 | U15: {=IF($E15=0,0,SUMPRODUCT(($F$4:$O$4<U$4)*($F$4:$O$4>=U$4-$E15)*($F15:$O15/$E15)))} -> 0 | V15: {=IF($E15=0,0,SUMPRODUCT(($F$4:$O$4<V$4)*($F$4:$O$4>=V$4-$E15)*($F15:$O15/$E15)))} -> 0 | W15: {=IF($E15=0,0,SUMPRODUCT(($F$4:$O$4<W$4)*($F$4:$O$4>=W$4-$E15)*($F15:$O15/$E15)))} -> 0 | ... Y15: {=IF($E15=0,0,SUMPRODUCT(($F$4:$O$4<Y$4)*($F$4:$O$4>=Y$4-$E15)*($F15:$O15/$E15)))} -> 0 | Z15: =0 -> 0 | AA15: =AJ15*$D15 -> 0 | AB15: =AK15*$D15 -> 0 | AC15: =AL15*$D15 -> 0 | AD15: =AM15*$D15 -> 0 | AE15: =AN15*$D15 -> 0 | AF15: =AO15*$D15 -> 0 | AG15: =AP15*$D15 -> 0 | AH15: =AQ15*$D15 -> 0 | AI15: =AR15*$D15 -> 0 | AJ15: =F15-P15 -> 0 | AK15: =AJ15+G15-Q15 -> 0 | AL15: =AK15+H15-R15 -> 0 | AM15: =AL15+I15-S15 -> 0 | AN15: =AM15+J15-T15 -> 0 | AO15: =AN15+K15-U15 -> 0 | AP15: =AO15+L15-V15 -> 0 | AQ15: =AP15+M15-W15 -> 0 | AR15: =AQ15+N15-X15 -> 0 | AS15: =AR15+O15-Y15 -> 0
A16: ='2. Investicijos'!A16 -> 12. | B16: ='2. Investicijos'!B16 -> 0 | C16: =IF('2. Investicijos'!N16="",0,'2. Investicijos'!N16) -> 0 | D16: =IF('2. Investicijos'!O16="",0,'2. Investicijos'!O16/100) -> 0 | E16: =IF('2. Investicijos'!P16="",0,'2. Investicijos'!P16) -> 0 | F16: =IFERROR('4. Metinis CAPEX'!F20/'2. Investicijos'!$H16*$C16,0) -> 0 | G16: =IFERROR('4. Metinis CAPEX'!G20/'2. Investicijos'!$H16*$C16,0) -> 0 | H16: =IFERROR('4. Metinis CAPEX'!H20/'2. Investicijos'!$H16*$C16,0) -> 0 | I16: =IFERROR('4. Metinis CAPEX'!I20/'2. Investicijos'!$H16*$C16,0) -> 0 | J16: =IFERROR('4. Metinis CAPEX'!J20/'2. Investicijos'!$H16*$C16,0) -> 0 | K16: =IFERROR('4. Metinis CAPEX'!K20/'2. Investicijos'!$H16*$C16,0) -> 0 | L16: =IFERROR('4. Metinis CAPEX'!L20/'2. Investicijos'!$H16*$C16,0) -> 0 | M16: =IFERROR('4. Metinis CAPEX'!M20/'2. Investicijos'!$H16*$C16,0) -> 0 | ... O16: =IFERROR('4. Metinis CAPEX'!O20/'2. Investicijos'!$H16*$C16,0) -> 0 | P16: {=IF($E16=0,0,SUMPRODUCT(($F$4:$O$4<P$4)*($F$4:$O$4>=P$4-$E16)*($F16:$O16/$E16)))} -> 0 | Q16: {=IF($E16=0,0,SUMPRODUCT(($F$4:$O$4<Q$4)*($F$4:$O$4>=Q$4-$E16)*($F16:$O16/$E16)))} -> 0 | R16: {=IF($E16=0,0,SUMPRODUCT(($F$4:$O$4<R$4)*($F$4:$O$4>=R$4-$E16)*($F16:$O16/$E16)))} -> 0 | S16: {=IF($E16=0,0,SUMPRODUCT(($F$4:$O$4<S$4)*($F$4:$O$4>=S$4-$E16)*($F16:$O16/$E16)))} -> 0 | T16: {=IF($E16=0,0,SUMPRODUCT(($F$4:$O$4<T$4)*($F$4:$O$4>=T$4-$E16)*($F16:$O16/$E16)))} -> 0 | U16: {=IF($E16=0,0,SUMPRODUCT(($F$4:$O$4<U$4)*($F$4:$O$4>=U$4-$E16)*($F16:$O16/$E16)))} -> 0 | V16: {=IF($E16=0,0,SUMPRODUCT(($F$4:$O$4<V$4)*($F$4:$O$4>=V$4-$E16)*($F16:$O16/$E16)))} -> 0 | W16: {=IF($E16=0,0,SUMPRODUCT(($F$4:$O$4<W$4)*($F$4:$O$4>=W$4-$E16)*($F16:$O16/$E16)))} -> 0 | ... Y16: {=IF($E16=0,0,SUMPRODUCT(($F$4:$O$4<Y$4)*($F$4:$O$4>=Y$4-$E16)*($F16:$O16/$E16)))} -> 0 | Z16: =0 -> 0 | AA16: =AJ16*$D16 -> 0 | AB16: =AK16*$D16 -> 0 | AC16: =AL16*$D16 -> 0 | AD16: =AM16*$D16 -> 0 | AE16: =AN16*$D16 -> 0 | AF16: =AO16*$D16 -> 0 | AG16: =AP16*$D16 -> 0 | AH16: =AQ16*$D16 -> 0 | AI16: =AR16*$D16 -> 0 | AJ16: =F16-P16 -> 0 | AK16: =AJ16+G16-Q16 -> 0 | AL16: =AK16+H16-R16 -> 0 | AM16: =AL16+I16-S16 -> 0 | AN16: =AM16+J16-T16 -> 0 | AO16: =AN16+K16-U16 -> 0 | AP16: =AO16+L16-V16 -> 0 | AQ16: =AP16+M16-W16 -> 0 | AR16: =AQ16+N16-X16 -> 0 | AS16: =AR16+O16-Y16 -> 0
... A24: ='2. Investicijos'!A24 -> 20. | B24: ='2. Investicijos'!B24 -> 0 | C24: =IF('2. Investicijos'!N24="",0,'2. Investicijos'!N24) -> 0 | D24: =IF('2. Investicijos'!O24="",0,'2. Investicijos'!O24/100) -> 0 | E24: =IF('2. Investicijos'!P24="",0,'2. Investicijos'!P24) -> 0 | F24: =IFERROR('4. Metinis CAPEX'!F28/'2. Investicijos'!$H24*$C24,0) -> 0 | G24: =IFERROR('4. Metinis CAPEX'!G28/'2. Investicijos'!$H24*$C24,0) -> 0 | H24: =IFERROR('4. Metinis CAPEX'!H28/'2. Investicijos'!$H24*$C24,0) -> 0 | I24: =IFERROR('4. Metinis CAPEX'!I28/'2. Investicijos'!$H24*$C24,0) -> 0 | J24: =IFERROR('4. Metinis CAPEX'!J28/'2. Investicijos'!$H24*$C24,0) -> 0 | K24: =IFERROR('4. Metinis CAPEX'!K28/'2. Investicijos'!$H24*$C24,0) -> 0 | L24: =IFERROR('4. Metinis CAPEX'!L28/'2. Investicijos'!$H24*$C24,0) -> 0 | M24: =IFERROR('4. Metinis CAPEX'!M28/'2. Investicijos'!$H24*$C24,0) -> 0 | ... O24: =IFERROR('4. Metinis CAPEX'!O28/'2. Investicijos'!$H24*$C24,0) -> 0 | P24: {=IF($E24=0,0,SUMPRODUCT(($F$4:$O$4<P$4)*($F$4:$O$4>=P$4-$E24)*($F24:$O24/$E24)))} -> 0 | Q24: {=IF($E24=0,0,SUMPRODUCT(($F$4:$O$4<Q$4)*($F$4:$O$4>=Q$4-$E24)*($F24:$O24/$E24)))} -> 0 | R24: {=IF($E24=0,0,SUMPRODUCT(($F$4:$O$4<R$4)*($F$4:$O$4>=R$4-$E24)*($F24:$O24/$E24)))} -> 0 | S24: {=IF($E24=0,0,SUMPRODUCT(($F$4:$O$4<S$4)*($F$4:$O$4>=S$4-$E24)*($F24:$O24/$E24)))} -> 0 | T24: {=IF($E24=0,0,SUMPRODUCT(($F$4:$O$4<T$4)*($F$4:$O$4>=T$4-$E24)*($F24:$O24/$E24)))} -> 0 | U24: {=IF($E24=0,0,SUMPRODUCT(($F$4:$O$4<U$4)*($F$4:$O$4>=U$4-$E24)*($F24:$O24/$E24)))} -> 0 | V24: {=IF($E24=0,0,SUMPRODUCT(($F$4:$O$4<V$4)*($F$4:$O$4>=V$4-$E24)*($F24:$O24/$E24)))} -> 0 | W24: {=IF($E24=0,0,SUMPRODUCT(($F$4:$O$4<W$4)*($F$4:$O$4>=W$4-$E24)*($F24:$O24/$E24)))} -> 0 | ... Y24: {=IF($E24=0,0,SUMPRODUCT(($F$4:$O$4<Y$4)*($F$4:$O$4>=Y$4-$E24)*($F24:$O24/$E24)))} -> 0 | Z24: =0 -> 0 | AA24: =AJ24*$D24 -> 0 | AB24: =AK24*$D24 -> 0 | AC24: =AL24*$D24 -> 0 | AD24: =AM24*$D24 -> 0 | AE24: =AN24*$D24 -> 0 | AF24: =AO24*$D24 -> 0 | AG24: =AP24*$D24 -> 0 | AH24: =AQ24*$D24 -> 0 | AI24: =AR24*$D24 -> 0 | AJ24: =F24-P24 -> 0 | AK24: =AJ24+G24-Q24 -> 0 | AL24: =AK24+H24-R24 -> 0 | AM24: =AL24+I24-S24 -> 0 | AN24: =AM24+J24-T24 -> 0 | AO24: =AN24+K24-U24 -> 0 | AP24: =AO24+L24-V24 -> 0 | AQ24: =AP24+M24-W24 -> 0 | AR24: =AQ24+N24-X24 -> 0 | AS24: =AR24+O24-Y24 -> 0
A25: IŠ VISO | C25: =SUM(C5:C24) -> 0 | F25: =SUM(F5:F24) -> 0 | G25: =SUM(G5:G24) -> 0 | H25: =SUM(H5:H24) -> 0 | I25: =SUM(I5:I24) -> 0 | J25: =SUM(J5:J24) -> 0 | K25: =SUM(K5:K24) -> 0 | L25: =SUM(L5:L24) -> 0 | M25: =SUM(M5:M24) -> 0 | ... AS25: =SUM(AS5:AS24) -> 0
A28: TECHNINIS SKAIČIAVIMAS – KAUPIAMOJO PORTFELIO CROSS-CHECK
A29: Portfelis | B29: Rodiklis | C29: 2026 | D29: 2027 | E29: 2028 | F29: 2029 | G29: 2030 | H29: 2031 | I29: 2032 | J29: 2033 | K29: 2034 | L29: 2035
A30: 0 | B30: CAPEX | C30: =0 -> 0 | D30: =0 -> 0 | E30: =0 -> 0 | F30: =0 -> 0 | G30: =0 -> 0 | H30: =0 -> 0 | I30: =0 -> 0 | J30: =0 -> 0 | ... L30: =0 -> 0
A31: 0 | B31: Planuotų paskolų įplaukos | C31: =0 -> 0 | D31: =0 -> 0 | E31: =0 -> 0 | F31: =0 -> 0 | G31: =0 -> 0 | H31: =0 -> 0 | I31: =0 -> 0 | J31: =0 -> 0 | ... L31: =0 -> 0
A32: 0 | B32: Palūkanos | C32: =0 -> 0 | D32: =0 -> 0 | E32: =0 -> 0 | F32: =0 -> 0 | G32: =0 -> 0 | H32: =0 -> 0 | I32: =0 -> 0 | J32: =0 -> 0 | ... L32: =0 -> 0
A33: 0 | B33: Planuotų paskolų skola metų pabaigoje | C33: =0 -> 0 | D33: =0 -> 0 | E33: =0 -> 0 | F33: =0 -> 0 | G33: =0 -> 0 | H33: =0 -> 0 | I33: =0 -> 0 | J33: =0 -> 0 | ... L33: =0 -> 0
A34: 0 | B34: Reguliacinių pajamų poveikis EBITDA | C34: =0 -> 0 | D34: =0 -> 0 | E34: =0 -> 0 | F34: =0 -> 0 | G34: =0 -> 0 | H34: =0 -> 0 | I34: =0 -> 0 | J34: =0 -> 0 | ... L34: =0 -> 0
A35: 0 | B35: Scenarijaus EBITDA | C35: ='3. Finansinės prielaidos'!C29 -> 0 | D35: ='3. Finansinės prielaidos'!D29 -> 0 | E35: ='3. Finansinės prielaidos'!E29 -> 0 | F35: ='3. Finansinės prielaidos'!F29 -> 0 | G35: ='3. Finansinės prielaidos'!G29 -> 0 | H35: ='3. Finansinės prielaidos'!H29 -> 0 | I35: ='3. Finansinės prielaidos'!I29 -> 0 | J35: ='3. Finansinės prielaidos'!J29 -> 0 | ... L35: ='3. Finansinės prielaidos'!L29 -> 0
A36: 0 | B36: Scenarijaus finansinė skola prieš finansavimo trūkumą | C36: ='3. Finansinės prielaidos'!C30 -> 0 | D36: ='3. Finansinės prielaidos'!D30 -> 0 | E36: ='3. Finansinės prielaidos'!E30 -> 0 | F36: ='3. Finansinės prielaidos'!F30 -> 0 | G36: ='3. Finansinės prielaidos'!G30 -> 0 | H36: ='3. Finansinės prielaidos'!H30 -> 0 | I36: ='3. Finansinės prielaidos'!I30 -> 0 | J36: ='3. Finansinės prielaidos'!J30 -> 0 | ... L36: ='3. Finansinės prielaidos'!L30 -> 0
A37: 0 | B37: Pinigų perteklius / (finansavimo trūkumas) | C37: ='3. Finansinės prielaidos'!C31 -> 0 | D37: ='3. Finansinės prielaidos'!D31 -> 0 | E37: ='3. Finansinės prielaidos'!E31 -> 0 | F37: ='3. Finansinės prielaidos'!F31 -> 0 | G37: ='3. Finansinės prielaidos'!G31 -> 0 | H37: ='3. Finansinės prielaidos'!H31 -> 0 | I37: ='3. Finansinės prielaidos'!I31 -> 0 | J37: ='3. Finansinės prielaidos'!J31 -> 0 | ... L37: ='3. Finansinės prielaidos'!L31 -> 0
A38: 0 | B38: Net Debt / EBITDA | C38: =IF(OR(C35="",C36="",C37="",C35<=0),"",(C36-C37)/C35) | D38: =IF(OR(D35="",D36="",D37="",D35<=0),"",(D36-D37)/D35) | E38: =IF(OR(E35="",E36="",E37="",E35<=0),"",(E36-E37)/E35) | F38: =IF(OR(F35="",F36="",F37="",F35<=0),"",(F36-F37)/F35) | G38: =IF(OR(G35="",G36="",G37="",G35<=0),"",(G36-G37)/G35) | H38: =IF(OR(H35="",H36="",H37="",H35<=0),"",(H36-H37)/H35) | I38: =IF(OR(I35="",I36="",I37="",I35<=0),"",(I36-I37)/I35) | J38: =IF(OR(J35="",J36="",J37="",J35<=0),"",(J36-J37)/J35) | ... L38: =IF(OR(L35="",L36="",L37="",L35<=0),"",(L36-L37)/L35)
A39: 0 | B39: DSCR | C39: =IF(OR(C35="",C35<=0,'3. Finansinės prielaidos'!C32=""),"",IF('3. Finansinės prielaidos'!C32=0,999999,C35/'3. Finansinės prielaidos'!C32)) | D39: =IF(OR(D35="",D35<=0,'3. Finansinės prielaidos'!D32=""),"",IF('3. Finansinės prielaidos'!D32=0,999999,D35/'3. Finansinės prielaidos'!D32)) | E39: =IF(OR(E35="",E35<=0,'3. Finansinės prielaidos'!E32=""),"",IF('3. Finansinės prielaidos'!E32=0,999999,E35/'3. Finansinės prielaidos'!E32)) | F39: =IF(OR(F35="",F35<=0,'3. Finansinės prielaidos'!F32=""),"",IF('3. Finansinės prielaidos'!F32=0,999999,F35/'3. Finansinės prielaidos'!F32)) | G39: =IF(OR(G35="",G35<=0,'3. Finansinės prielaidos'!G32=""),"",IF('3. Finansinės prielaidos'!G32=0,999999,G35/'3. Finansinės prielaidos'!G32)) | H39: =IF(OR(H35="",H35<=0,'3. Finansinės prielaidos'!H32=""),"",IF('3. Finansinės prielaidos'!H32=0,999999,H35/'3. Finansinės prielaidos'!H32)) | I39: =IF(OR(I35="",I35<=0,'3. Finansinės prielaidos'!I32=""),"",IF('3. Finansinės prielaidos'!I32=0,999999,I35/'3. Finansinės prielaidos'!I32)) | J39: =IF(OR(J35="",J35<=0,'3. Finansinės prielaidos'!J32=""),"",IF('3. Finansinės prielaidos'!J32=0,999999,J35/'3. Finansinės prielaidos'!J32)) | ... L39: =IF(OR(L35="",L35<=0,'3. Finansinės prielaidos'!L32=""),"",IF('3. Finansinės prielaidos'!L32=0,999999,L35/'3. Finansinės prielaidos'!L32))
A40: 1 | B40: CAPEX | C40: =SUM('4. Metinis CAPEX'!F$9:F$9) -> 0 | D40: =SUM('4. Metinis CAPEX'!G$9:G$9) -> 0 | E40: =SUM('4. Metinis CAPEX'!H$9:H$9) -> 0 | F40: =SUM('4. Metinis CAPEX'!I$9:I$9) -> 0 | G40: =SUM('4. Metinis CAPEX'!J$9:J$9) -> 0 | H40: =SUM('4. Metinis CAPEX'!K$9:K$9) -> 0 | I40: =SUM('4. Metinis CAPEX'!L$9:L$9) -> 0 | J40: =SUM('4. Metinis CAPEX'!M$9:M$9) -> 0 | ... L40: =SUM('4. Metinis CAPEX'!O$9:O$9) -> 0
A41: 1 | B41: Planuotų paskolų įplaukos | C41: =SUM(F$5:F$5) -> 0 | D41: =SUM(G$5:G$5) -> 0 | E41: =SUM(H$5:H$5) -> 0 | F41: =SUM(I$5:I$5) -> 0 | G41: =SUM(J$5:J$5) -> 0 | H41: =SUM(K$5:K$5) -> 0 | I41: =SUM(L$5:L$5) -> 0 | J41: =SUM(M$5:M$5) -> 0 | ... L41: =SUM(O$5:O$5) -> 0
A42: 1 | B42: Palūkanos | C42: =SUM(Z$5:Z$5) -> 0 | D42: =SUM(AA$5:AA$5) -> 0 | E42: =SUM(AB$5:AB$5) -> 0 | F42: =SUM(AC$5:AC$5) -> 0 | G42: =SUM(AD$5:AD$5) -> 0 | H42: =SUM(AE$5:AE$5) -> 0 | I42: =SUM(AF$5:AF$5) -> 0 | J42: =SUM(AG$5:AG$5) -> 0 | ... L42: =SUM(AI$5:AI$5) -> 0
A43: 1 | B43: Planuotų paskolų skola metų pabaigoje | C43: =SUM(AJ$5:AJ$5) -> 0 | D43: =SUM(AK$5:AK$5) -> 0 | E43: =SUM(AL$5:AL$5) -> 0 | F43: =SUM(AM$5:AM$5) -> 0 | G43: =SUM(AN$5:AN$5) -> 0 | H43: =SUM(AO$5:AO$5) -> 0 | I43: =SUM(AP$5:AP$5) -> 0 | J43: =SUM(AQ$5:AQ$5) -> 0 | ... L43: =SUM(AS$5:AS$5) -> 0
A44: 1 | B44: Reguliacinių pajamų poveikis EBITDA | C44: {=SUMPRODUCT(--(2026>'2. Investicijos'!$F$5:$F$5),--(2026<='2. Investicijos'!$F$5:$F$5+'2. Investicijos'!$G$5:$G$5),IFERROR(('2. Investicijos'!$M$5:$M$5+'2. Investicijos'!$N$5:$N$5)/'2. Investicijos'!$G$5:$G$5,0))+SUMPRODUCT(--(2026>'2. Investicijos'!$F$5:$F$5),--(2026<='2. Investicijos'!$F$5:$F$5+'2. Investicijos'!$G$5:$G$5),IFERROR(('2. Investicijos'!$M$5:$M$5+'2. Investicijos'!$N$5:$N$5)*(1-((2026-'2. Investicijos'!$F$5:$F$5)-1)/'2. Investicijos'!$G$5:$G$5),0)*'5. 0% scenarijus'!$C$5)} -> #VALUE! | D44: {=SUMPRODUCT(--(2027>'2. Investicijos'!$F$5:$F$5),--(2027<='2. Investicijos'!$F$5:$F$5+'2. Investicijos'!$G$5:$G$5),IFERROR(('2. Investicijos'!$M$5:$M$5+'2. Investicijos'!$N$5:$N$5)/'2. Investicijos'!$G$5:$G$5,0))+SUMPRODUCT(--(2027>'2. Investicijos'!$F$5:$F$5),--(2027<='2. Investicijos'!$F$5:$F$5+'2. Investicijos'!$G$5:$G$5),IFERROR(('2. Investicijos'!$M$5:$M$5+'2. Investicijos'!$N$5:$N$5)*(1-((2027-'2. Investicijos'!$F$5:$F$5)-1)/'2. Investicijos'!$G$5:$G$5),0)*'5. 0% scenarijus'!$C$5)} -> #VALUE! | E44: {=SUMPRODUCT(--(2028>'2. Investicijos'!$F$5:$F$5),--(2028<='2. Investicijos'!$F$5:$F$5+'2. Investicijos'!$G$5:$G$5),IFERROR(('2. Investicijos'!$M$5:$M$5+'2. Investicijos'!$N$5:$N$5)/'2. Investicijos'!$G$5:$G$5,0))+SUMPRODUCT(--(2028>'2. Investicijos'!$F$5:$F$5),--(2028<='2. Investicijos'!$F$5:$F$5+'2. Investicijos'!$G$5:$G$5),IFERROR(('2. Investicijos'!$M$5:$M$5+'2. Investicijos'!$N$5:$N$5)*(1-((2028-'2. Investicijos'!$F$5:$F$5)-1)/'2. Investicijos'!$G$5:$G$5),0)*'5. 0% scenarijus'!$C$5)} -> #VALUE! | F44: {=SUMPRODUCT(--(2029>'2. Investicijos'!$F$5:$F$5),--(2029<='2. Investicijos'!$F$5:$F$5+'2. Investicijos'!$G$5:$G$5),IFERROR(('2. Investicijos'!$M$5:$M$5+'2. Investicijos'!$N$5:$N$5)/'2. Investicijos'!$G$5:$G$5,0))+SUMPRODUCT(--(2029>'2. Investicijos'!$F$5:$F$5),--(2029<='2. Investicijos'!$F$5:$F$5+'2. Investicijos'!$G$5:$G$5),IFERROR(('2. Investicijos'!$M$5:$M$5+'2. Investicijos'!$N$5:$N$5)*(1-((2029-'2. Investicijos'!$F$5:$F$5)-1)/'2. Investicijos'!$G$5:$G$5),0)*'5. 0% scenarijus'!$C$5)} -> #VALUE! | G44: {=SUMPRODUCT(--(2030>'2. Investicijos'!$F$5:$F$5),--(2030<='2. Investicijos'!$F$5:$F$5+'2. Investicijos'!$G$5:$G$5),IFERROR(('2. Investicijos'!$M$5:$M$5+'2. Investicijos'!$N$5:$N$5)/'2. Investicijos'!$G$5:$G$5,0))+SUMPRODUCT(--(2030>'2. Investicijos'!$F$5:$F$5),--(2030<='2. Investicijos'!$F$5:$F$5+'2. Investicijos'!$G$5:$G$5),IFERROR(('2. Investicijos'!$M$5:$M$5+'2. Investicijos'!$N$5:$N$5)*(1-((2030-'2. Investicijos'!$F$5:$F$5)-1)/'2. Investicijos'!$G$5:$G$5),0)*'5. 0% scenarijus'!$C$5)} -> #VALUE! | H44: {=SUMPRODUCT(--(2031>'2. Investicijos'!$F$5:$F$5),--(2031<='2. Investicijos'!$F$5:$F$5+'2. Investicijos'!$G$5:$G$5),IFERROR(('2. Investicijos'!$M$5:$M$5+'2. Investicijos'!$N$5:$N$5)/'2. Investicijos'!$G$5:$G$5,0))+SUMPRODUCT(--(2031>'2. Investicijos'!$F$5:$F$5),--(2031<='2. Investicijos'!$F$5:$F$5+'2. Investicijos'!$G$5:$G$5),IFERROR(('2. Investicijos'!$M$5:$M$5+'2. Investicijos'!$N$5:$N$5)*(1-((2031-'2. Investicijos'!$F$5:$F$5)-1)/'2. Investicijos'!$G$5:$G$5),0)*'5. 0% scenarijus'!$C$5)} -> #VALUE! | I44: {=SUMPRODUCT(--(2032>'2. Investicijos'!$F$5:$F$5),--(2032<='2. Investicijos'!$F$5:$F$5+'2. Investicijos'!$G$5:$G$5),IFERROR(('2. Investicijos'!$M$5:$M$5+'2. Investicijos'!$N$5:$N$5)/'2. Investicijos'!$G$5:$G$5,0))+SUMPRODUCT(--(2032>'2. Investicijos'!$F$5:$F$5),--(2032<='2. Investicijos'!$F$5:$F$5+'2. Investicijos'!$G$5:$G$5),IFERROR(('2. Investicijos'!$M$5:$M$5+'2. Investicijos'!$N$5:$N$5)*(1-((2032-'2. Investicijos'!$F$5:$F$5)-1)/'2. Investicijos'!$G$5:$G$5),0)*'5. 0% scenarijus'!$C$5)} -> #VALUE! | J44: {=SUMPRODUCT(--(2033>'2. Investicijos'!$F$5:$F$5),--(2033<='2. Investicijos'!$F$5:$F$5+'2. Investicijos'!$G$5:$G$5),IFERROR(('2. Investicijos'!$M$5:$M$5+'2. Investicijos'!$N$5:$N$5)/'2. Investicijos'!$G$5:$G$5,0))+SUMPRODUCT(--(2033>'2. Investicijos'!$F$5:$F$5),--(2033<='2. Investicijos'!$F$5:$F$5+'2. Investicijos'!$G$5:$G$5),IFERROR(('2. Investicijos'!$M$5:$M$5+'2. Investicijos'!$N$5:$N$5)*(1-((2033-'2. Investicijos'!$F$5:$F$5)-1)/'2. Investicijos'!$G$5:$G$5),0)*'5. 0% scenarijus'!$C$5)} -> #VALUE! | K44: {=SUMPRODUCT(--(2034>'2. Investicijos'!$F$5:$F$5),--(2034<='2. Investicijos'!$F$5:$F$5+'2. Investicijos'!$G$5:$G$5),IFERROR(('2. Investicijos'!$M$5:$M$5+'2. Investicijos'!$N$5:$N$5)/'2. Investicijos'!$G$5:$G$5,0))+SUMPRODUCT(--(2034>'2. Investicijos'!$F$5:$F$5),--(2034<='2. Investicijos'!$F$5:$F$5+'2. Investicijos'!$G$5:$G$5),IFERROR(('2. Investicijos'!$M$5:$M$5+'2. Investicijos'!$N$5:$N$5)*(1-((2034-'2. Investicijos'!$F$5:$F$5)-1)/'2. Investicijos'!$G$5:$G$5),0)*'5. 0% scenarijus'!$C$5)} -> #VALUE! | L44: {=SUMPRODUCT(--(2035>'2. Investicijos'!$F$5:$F$5),--(2035<='2. Investicijos'!$F$5:$F$5+'2. Investicijos'!$G$5:$G$5),IFERROR(('2. Investicijos'!$M$5:$M$5+'2. Investicijos'!$N$5:$N$5)/'2. Investicijos'!$G$5:$G$5,0))+SUMPRODUCT(--(2035>'2. Investicijos'!$F$5:$F$5),--(2035<='2. Investicijos'!$F$5:$F$5+'2. Investicijos'!$G$5:$G$5),IFERROR(('2. Investicijos'!$M$5:$M$5+'2. Investicijos'!$N$5:$N$5)*(1-((2035-'2. Investicijos'!$F$5:$F$5)-1)/'2. Investicijos'!$G$5:$G$5),0)*'5. 0% scenarijus'!$C$5)} -> #VALUE!
A45: 1 | B45: Scenarijaus EBITDA | C45: ='3. Finansinės prielaidos'!C29+C44 -> #VALUE! | D45: ='3. Finansinės prielaidos'!D29+D44 -> #VALUE! | E45: ='3. Finansinės prielaidos'!E29+E44 -> #VALUE! | F45: ='3. Finansinės prielaidos'!F29+F44 -> #VALUE! | G45: ='3. Finansinės prielaidos'!G29+G44 -> #VALUE! | H45: ='3. Finansinės prielaidos'!H29+H44 -> #VALUE! | I45: ='3. Finansinės prielaidos'!I29+I44 -> #VALUE! | J45: ='3. Finansinės prielaidos'!J29+J44 -> #VALUE! | ... L45: ='3. Finansinės prielaidos'!L29+L44 -> #VALUE!
A46: 1 | B46: Scenarijaus finansinė skola prieš finansavimo trūkumą | C46: ='3. Finansinės prielaidos'!C30+C43 -> 0 | D46: ='3. Finansinės prielaidos'!D30+D43 -> 0 | E46: ='3. Finansinės prielaidos'!E30+E43 -> 0 | F46: ='3. Finansinės prielaidos'!F30+F43 -> 0 | G46: ='3. Finansinės prielaidos'!G30+G43 -> 0 | H46: ='3. Finansinės prielaidos'!H30+H43 -> 0 | I46: ='3. Finansinės prielaidos'!I30+I43 -> 0 | J46: ='3. Finansinės prielaidos'!J30+J43 -> 0 | ... L46: ='3. Finansinės prielaidos'!L30+L43 -> 0
